BEGIN:VCALENDAR
VERSION:2.0
PRODID:-// - ECPv6.15.20//NONSGML v1.0//EN
CALSCALE:GREGORIAN
METHOD:PUBLISH
X-ORIGINAL-URL:https://buergertreff-neuendettelsau.de
X-WR-CALDESC:Veranstaltungen für 
REFRESH-INTERVAL;VALUE=DURATION:PT1H
X-Robots-Tag:noindex
X-PUBLISHED-TTL:PT1H
BEGIN:VTIMEZONE
TZID:Europe/Berlin
BEGIN:DAYLIGHT
TZOFFSETFROM:+0100
TZOFFSETTO:+0200
TZNAME:CEST
DTSTART:20250330T010000
END:DAYLIGHT
BEGIN:STANDARD
TZOFFSETFROM:+0200
TZOFFSETTO:+0100
TZNAME:CET
DTSTART:20251026T010000
END:STANDARD
BEGIN:DAYLIGHT
TZOFFSETFROM:+0100
TZOFFSETTO:+0200
TZNAME:CEST
DTSTART:20260329T010000
END:DAYLIGHT
BEGIN:STANDARD
TZOFFSETFROM:+0200
TZOFFSETTO:+0100
TZNAME:CET
DTSTART:20261025T010000
END:STANDARD
BEGIN:DAYLIGHT
TZOFFSETFROM:+0100
TZOFFSETTO:+0200
TZNAME:CEST
DTSTART:20270328T010000
END:DAYLIGHT
BEGIN:STANDARD
TZOFFSETFROM:+0200
TZOFFSETTO:+0100
TZNAME:CET
DTSTART:20271031T010000
END:STANDARD
END:VTIMEZONE
BEGIN:VEVENT
DTSTART;TZID=Europe/Berlin:20260109T190000
DTEND;TZID=Europe/Berlin:20260109T213000
DTSTAMP:20260423T162224
CREATED:20250920T102636Z
LAST-MODIFIED:20251230T085517Z
UID:10003784-1767985200-1767994200@buergertreff-neuendettelsau.de
SUMMARY:Frauen-Neujahrsempfang 2026
DESCRIPTION:Arbeitskreis Frauen Bündnis 90/Die Grünen Frauen Macht Politik! Schwerpunkt Digitalisierung Der Frauen-Neujahrsempfang 2026 im Bürgertreff Neuendettelsau widmet sich dem Thema „Frauen\, Digitalisierung und kommunale Politik“. Zu Gast sind Rebecca Lenhard (MdB) und Theresa Eberlein (Frauenpolitische Sprecherin). Außerdem stellen sich die Landratskandidatin Sophia Göppel-Kraft sowie Grüne Bürgermeisterkandidat*innen vor – unter anderem Andreas Götz aus Neuendettelsau. Die Veranstaltung bietet Raum für Austausch\, politische Impulse und Gespräche zum Start ins neue Jahr.
URL:https://buergertreff-neuendettelsau.de/veranstaltung/buendnis-90-die-gruenen-arbeitskreis-frauen/
LOCATION:Bürgertreff Neuendettelsau\, Heilsbronner Str. 2\, Neuendettelsau\, Bayern\, 91564\, Deutschland
ATTACH;FMTTYPE=image/jpeg:https://buergertreff-neuendettelsau.de/wp-content/uploads/2025/09/2026-01-09-Frauen-Neujahrsempfang-2026.jpeg
ORGANIZER;CN="B%C3%9CNDNIS 90/DIE GR%C3%9CNEN  Arbeitskreis Frauen":MAILTO:ak.frauen@gruene-ansbach.de
END:VEVENT
BEGIN:VEVENT
DTSTART;TZID=Europe/Berlin:20260109T163000
DTEND;TZID=Europe/Berlin:20260109T190000
DTSTAMP:20260423T162224
CREATED:20251230T101045Z
LAST-MODIFIED:20251230T101125Z
UID:10005293-1767976200-1767985200@buergertreff-neuendettelsau.de
SUMMARY:BÜNDNIS 90/DIE GRÜNEN - Arbeitskreis Frauen
DESCRIPTION:Arbeitskreis Frauen Bündnis 90/Die Grünen – Interne Veranstaltung
URL:https://buergertreff-neuendettelsau.de/veranstaltung/buendnis-90-die-gruenen-arbeitskreis-frauen-2/
LOCATION:Bürgertreff Neuendettelsau\, Heilsbronner Str. 2\, Neuendettelsau\, Bayern\, 91564\, Deutschland
ATTACH;FMTTYPE=image/png:https://buergertreff-neuendettelsau.de/wp-content/uploads/2023/03/Logo-Gruene-Neuendettelsau.png
ORGANIZER;CN="B%C3%9CNDNIS 90/DIE GR%C3%9CNEN  Arbeitskreis Frauen":MAILTO:ak.frauen@gruene-ansbach.de
END:VEVENT
END:VCALENDAR