BEGIN:VCALENDAR
VERSION:2.0
PRODID:-// - ECPv6.15.20//NONSGML v1.0//EN
CALSCALE:GREGORIAN
METHOD:PUBLISH
X-ORIGINAL-URL:https://buergertreff-neuendettelsau.de
X-WR-CALDESC:Veranstaltungen für 
REFRESH-INTERVAL;VALUE=DURATION:PT1H
X-Robots-Tag:noindex
X-PUBLISHED-TTL:PT1H
BEGIN:VTIMEZONE
TZID:Europe/Berlin
BEGIN:DAYLIGHT
TZOFFSETFROM:+0100
TZOFFSETTO:+0200
TZNAME:CEST
DTSTART:20250330T010000
END:DAYLIGHT
BEGIN:STANDARD
TZOFFSETFROM:+0200
TZOFFSETTO:+0100
TZNAME:CET
DTSTART:20251026T010000
END:STANDARD
BEGIN:DAYLIGHT
TZOFFSETFROM:+0100
TZOFFSETTO:+0200
TZNAME:CEST
DTSTART:20260329T010000
END:DAYLIGHT
BEGIN:STANDARD
TZOFFSETFROM:+0200
TZOFFSETTO:+0100
TZNAME:CET
DTSTART:20261025T010000
END:STANDARD
BEGIN:DAYLIGHT
TZOFFSETFROM:+0100
TZOFFSETTO:+0200
TZNAME:CEST
DTSTART:20270328T010000
END:DAYLIGHT
BEGIN:STANDARD
TZOFFSETFROM:+0200
TZOFFSETTO:+0100
TZNAME:CET
DTSTART:20271031T010000
END:STANDARD
BEGIN:DAYLIGHT
TZOFFSETFROM:+0100
TZOFFSETTO:+0200
TZNAME:CEST
DTSTART:20280326T010000
END:DAYLIGHT
BEGIN:STANDARD
TZOFFSETFROM:+0200
TZOFFSETTO:+0100
TZNAME:CET
DTSTART:20281029T010000
END:STANDARD
BEGIN:DAYLIGHT
TZOFFSETFROM:+0100
TZOFFSETTO:+0200
TZNAME:CEST
DTSTART:20290325T010000
END:DAYLIGHT
BEGIN:STANDARD
TZOFFSETFROM:+0200
TZOFFSETTO:+0100
TZNAME:CET
DTSTART:20291028T010000
END:STANDARD
END:VTIMEZONE
BEGIN:VEVENT
DTSTART;TZID=Europe/Berlin:20260505T143000
DTEND;TZID=Europe/Berlin:20260505T170000
DTSTAMP:20260420T064211
CREATED:20251204T203005Z
LAST-MODIFIED:20251204T203010Z
UID:10004539-1777991400-1778000400@buergertreff-neuendettelsau.de
SUMMARY:Offenes Treffen mit Spiele-Nachmittag
DESCRIPTION:Das Bündnis für Familie lädt ein zum gemütlichen Beisammensein bei Kaffee/Tee und zur Möglichkeit zu einem Gesellschaftsspiel. Schaut einfach mal rein. Für Fragen\, Ideen\, Wünsche und Gespräche… Jeder ist willkommen.
URL:https://buergertreff-neuendettelsau.de/veranstaltung/offenes-treffen-mit-spiele-nachmittag-3/2026-05-05/
LOCATION:Bürgertreff Neuendettelsau\, Heilsbronner Str. 2\, Neuendettelsau\, Bayern\, 91564\, Deutschland
ATTACH;FMTTYPE=image/jpeg:https://buergertreff-neuendettelsau.de/wp-content/uploads/2023/06/gesellschaftsspiele-104_v-gseagaleriexl.jpg
END:VEVENT
BEGIN:VEVENT
DTSTART;TZID=Europe/Berlin:20260602T143000
DTEND;TZID=Europe/Berlin:20260602T170000
DTSTAMP:20260420T064211
CREATED:20251204T203005Z
LAST-MODIFIED:20251204T203010Z
UID:10004540-1780410600-1780419600@buergertreff-neuendettelsau.de
SUMMARY:Offenes Treffen mit Spiele-Nachmittag
DESCRIPTION:Das Bündnis für Familie lädt ein zum gemütlichen Beisammensein bei Kaffee/Tee und zur Möglichkeit zu einem Gesellschaftsspiel. Schaut einfach mal rein. Für Fragen\, Ideen\, Wünsche und Gespräche… Jeder ist willkommen.
URL:https://buergertreff-neuendettelsau.de/veranstaltung/offenes-treffen-mit-spiele-nachmittag-3/2026-06-02/
LOCATION:Bürgertreff Neuendettelsau\, Heilsbronner Str. 2\, Neuendettelsau\, Bayern\, 91564\, Deutschland
ATTACH;FMTTYPE=image/jpeg:https://buergertreff-neuendettelsau.de/wp-content/uploads/2023/06/gesellschaftsspiele-104_v-gseagaleriexl.jpg
END:VEVENT
BEGIN:VEVENT
DTSTART;TZID=Europe/Berlin:20260707T143000
DTEND;TZID=Europe/Berlin:20260707T170000
DTSTAMP:20260420T064211
CREATED:20251204T203005Z
LAST-MODIFIED:20251204T203010Z
UID:10004541-1783434600-1783443600@buergertreff-neuendettelsau.de
SUMMARY:Offenes Treffen mit Spiele-Nachmittag
DESCRIPTION:Das Bündnis für Familie lädt ein zum gemütlichen Beisammensein bei Kaffee/Tee und zur Möglichkeit zu einem Gesellschaftsspiel. Schaut einfach mal rein. Für Fragen\, Ideen\, Wünsche und Gespräche… Jeder ist willkommen.
URL:https://buergertreff-neuendettelsau.de/veranstaltung/offenes-treffen-mit-spiele-nachmittag-3/2026-07-07/
LOCATION:Bürgertreff Neuendettelsau\, Heilsbronner Str. 2\, Neuendettelsau\, Bayern\, 91564\, Deutschland
ATTACH;FMTTYPE=image/jpeg:https://buergertreff-neuendettelsau.de/wp-content/uploads/2023/06/gesellschaftsspiele-104_v-gseagaleriexl.jpg
END:VEVENT
BEGIN:VEVENT
DTSTART;TZID=Europe/Berlin:20260804T143000
DTEND;TZID=Europe/Berlin:20260804T170000
DTSTAMP:20260420T064211
CREATED:20251204T203005Z
LAST-MODIFIED:20251204T203010Z
UID:10004542-1785853800-1785862800@buergertreff-neuendettelsau.de
SUMMARY:Offenes Treffen mit Spiele-Nachmittag
DESCRIPTION:Das Bündnis für Familie lädt ein zum gemütlichen Beisammensein bei Kaffee/Tee und zur Möglichkeit zu einem Gesellschaftsspiel. Schaut einfach mal rein. Für Fragen\, Ideen\, Wünsche und Gespräche… Jeder ist willkommen.
URL:https://buergertreff-neuendettelsau.de/veranstaltung/offenes-treffen-mit-spiele-nachmittag-3/2026-08-04/
LOCATION:Bürgertreff Neuendettelsau\, Heilsbronner Str. 2\, Neuendettelsau\, Bayern\, 91564\, Deutschland
ATTACH;FMTTYPE=image/jpeg:https://buergertreff-neuendettelsau.de/wp-content/uploads/2023/06/gesellschaftsspiele-104_v-gseagaleriexl.jpg
END:VEVENT
BEGIN:VEVENT
DTSTART;TZID=Europe/Berlin:20260901T143000
DTEND;TZID=Europe/Berlin:20260901T170000
DTSTAMP:20260420T064211
CREATED:20251204T203005Z
LAST-MODIFIED:20251204T203010Z
UID:10004543-1788273000-1788282000@buergertreff-neuendettelsau.de
SUMMARY:Offenes Treffen mit Spiele-Nachmittag
DESCRIPTION:Das Bündnis für Familie lädt ein zum gemütlichen Beisammensein bei Kaffee/Tee und zur Möglichkeit zu einem Gesellschaftsspiel. Schaut einfach mal rein. Für Fragen\, Ideen\, Wünsche und Gespräche… Jeder ist willkommen.
URL:https://buergertreff-neuendettelsau.de/veranstaltung/offenes-treffen-mit-spiele-nachmittag-3/2026-09-01/
LOCATION:Bürgertreff Neuendettelsau\, Heilsbronner Str. 2\, Neuendettelsau\, Bayern\, 91564\, Deutschland
ATTACH;FMTTYPE=image/jpeg:https://buergertreff-neuendettelsau.de/wp-content/uploads/2023/06/gesellschaftsspiele-104_v-gseagaleriexl.jpg
END:VEVENT
BEGIN:VEVENT
DTSTART;TZID=Europe/Berlin:20261006T143000
DTEND;TZID=Europe/Berlin:20261006T170000
DTSTAMP:20260420T064211
CREATED:20251204T203005Z
LAST-MODIFIED:20251204T203010Z
UID:10004544-1791297000-1791306000@buergertreff-neuendettelsau.de
SUMMARY:Offenes Treffen mit Spiele-Nachmittag
DESCRIPTION:Das Bündnis für Familie lädt ein zum gemütlichen Beisammensein bei Kaffee/Tee und zur Möglichkeit zu einem Gesellschaftsspiel. Schaut einfach mal rein. Für Fragen\, Ideen\, Wünsche und Gespräche… Jeder ist willkommen.
URL:https://buergertreff-neuendettelsau.de/veranstaltung/offenes-treffen-mit-spiele-nachmittag-3/2026-10-06/
LOCATION:Bürgertreff Neuendettelsau\, Heilsbronner Str. 2\, Neuendettelsau\, Bayern\, 91564\, Deutschland
ATTACH;FMTTYPE=image/jpeg:https://buergertreff-neuendettelsau.de/wp-content/uploads/2023/06/gesellschaftsspiele-104_v-gseagaleriexl.jpg
END:VEVENT
BEGIN:VEVENT
DTSTART;TZID=Europe/Berlin:20261103T143000
DTEND;TZID=Europe/Berlin:20261103T170000
DTSTAMP:20260420T064211
CREATED:20251204T203005Z
LAST-MODIFIED:20251204T203010Z
UID:10004545-1793716200-1793725200@buergertreff-neuendettelsau.de
SUMMARY:Offenes Treffen mit Spiele-Nachmittag
DESCRIPTION:Das Bündnis für Familie lädt ein zum gemütlichen Beisammensein bei Kaffee/Tee und zur Möglichkeit zu einem Gesellschaftsspiel. Schaut einfach mal rein. Für Fragen\, Ideen\, Wünsche und Gespräche… Jeder ist willkommen.
URL:https://buergertreff-neuendettelsau.de/veranstaltung/offenes-treffen-mit-spiele-nachmittag-3/2026-11-03/
LOCATION:Bürgertreff Neuendettelsau\, Heilsbronner Str. 2\, Neuendettelsau\, Bayern\, 91564\, Deutschland
ATTACH;FMTTYPE=image/jpeg:https://buergertreff-neuendettelsau.de/wp-content/uploads/2023/06/gesellschaftsspiele-104_v-gseagaleriexl.jpg
END:VEVENT
BEGIN:VEVENT
DTSTART;TZID=Europe/Berlin:20261201T143000
DTEND;TZID=Europe/Berlin:20261201T170000
DTSTAMP:20260420T064211
CREATED:20251204T203005Z
LAST-MODIFIED:20251204T203010Z
UID:10004546-1796135400-1796144400@buergertreff-neuendettelsau.de
SUMMARY:Offenes Treffen mit Spiele-Nachmittag
DESCRIPTION:Das Bündnis für Familie lädt ein zum gemütlichen Beisammensein bei Kaffee/Tee und zur Möglichkeit zu einem Gesellschaftsspiel. Schaut einfach mal rein. Für Fragen\, Ideen\, Wünsche und Gespräche… Jeder ist willkommen.
URL:https://buergertreff-neuendettelsau.de/veranstaltung/offenes-treffen-mit-spiele-nachmittag-3/2026-12-01/
LOCATION:Bürgertreff Neuendettelsau\, Heilsbronner Str. 2\, Neuendettelsau\, Bayern\, 91564\, Deutschland
ATTACH;FMTTYPE=image/jpeg:https://buergertreff-neuendettelsau.de/wp-content/uploads/2023/06/gesellschaftsspiele-104_v-gseagaleriexl.jpg
END:VEVENT
BEGIN:VEVENT
DTSTART;TZID=Europe/Berlin:20270105T143000
DTEND;TZID=Europe/Berlin:20270105T170000
DTSTAMP:20260420T064211
CREATED:20251204T203005Z
LAST-MODIFIED:20251204T203010Z
UID:10004547-1799159400-1799168400@buergertreff-neuendettelsau.de
SUMMARY:Offenes Treffen mit Spiele-Nachmittag
DESCRIPTION:Das Bündnis für Familie lädt ein zum gemütlichen Beisammensein bei Kaffee/Tee und zur Möglichkeit zu einem Gesellschaftsspiel. Schaut einfach mal rein. Für Fragen\, Ideen\, Wünsche und Gespräche… Jeder ist willkommen.
URL:https://buergertreff-neuendettelsau.de/veranstaltung/offenes-treffen-mit-spiele-nachmittag-3/2027-01-05/
LOCATION:Bürgertreff Neuendettelsau\, Heilsbronner Str. 2\, Neuendettelsau\, Bayern\, 91564\, Deutschland
ATTACH;FMTTYPE=image/jpeg:https://buergertreff-neuendettelsau.de/wp-content/uploads/2023/06/gesellschaftsspiele-104_v-gseagaleriexl.jpg
END:VEVENT
BEGIN:VEVENT
DTSTART;TZID=Europe/Berlin:20270202T143000
DTEND;TZID=Europe/Berlin:20270202T170000
DTSTAMP:20260420T064211
CREATED:20251204T203005Z
LAST-MODIFIED:20251204T203010Z
UID:10004548-1801578600-1801587600@buergertreff-neuendettelsau.de
SUMMARY:Offenes Treffen mit Spiele-Nachmittag
DESCRIPTION:Das Bündnis für Familie lädt ein zum gemütlichen Beisammensein bei Kaffee/Tee und zur Möglichkeit zu einem Gesellschaftsspiel. Schaut einfach mal rein. Für Fragen\, Ideen\, Wünsche und Gespräche… Jeder ist willkommen.
URL:https://buergertreff-neuendettelsau.de/veranstaltung/offenes-treffen-mit-spiele-nachmittag-3/2027-02-02/
LOCATION:Bürgertreff Neuendettelsau\, Heilsbronner Str. 2\, Neuendettelsau\, Bayern\, 91564\, Deutschland
ATTACH;FMTTYPE=image/jpeg:https://buergertreff-neuendettelsau.de/wp-content/uploads/2023/06/gesellschaftsspiele-104_v-gseagaleriexl.jpg
END:VEVENT
BEGIN:VEVENT
DTSTART;TZID=Europe/Berlin:20270302T143000
DTEND;TZID=Europe/Berlin:20270302T170000
DTSTAMP:20260420T064211
CREATED:20251204T203005Z
LAST-MODIFIED:20251204T203010Z
UID:10004549-1803997800-1804006800@buergertreff-neuendettelsau.de
SUMMARY:Offenes Treffen mit Spiele-Nachmittag
DESCRIPTION:Das Bündnis für Familie lädt ein zum gemütlichen Beisammensein bei Kaffee/Tee und zur Möglichkeit zu einem Gesellschaftsspiel. Schaut einfach mal rein. Für Fragen\, Ideen\, Wünsche und Gespräche… Jeder ist willkommen.
URL:https://buergertreff-neuendettelsau.de/veranstaltung/offenes-treffen-mit-spiele-nachmittag-3/2027-03-02/
LOCATION:Bürgertreff Neuendettelsau\, Heilsbronner Str. 2\, Neuendettelsau\, Bayern\, 91564\, Deutschland
ATTACH;FMTTYPE=image/jpeg:https://buergertreff-neuendettelsau.de/wp-content/uploads/2023/06/gesellschaftsspiele-104_v-gseagaleriexl.jpg
END:VEVENT
BEGIN:VEVENT
DTSTART;TZID=Europe/Berlin:20270406T143000
DTEND;TZID=Europe/Berlin:20270406T170000
DTSTAMP:20260420T064211
CREATED:20251204T203005Z
LAST-MODIFIED:20251204T203010Z
UID:10004550-1807021800-1807030800@buergertreff-neuendettelsau.de
SUMMARY:Offenes Treffen mit Spiele-Nachmittag
DESCRIPTION:Das Bündnis für Familie lädt ein zum gemütlichen Beisammensein bei Kaffee/Tee und zur Möglichkeit zu einem Gesellschaftsspiel. Schaut einfach mal rein. Für Fragen\, Ideen\, Wünsche und Gespräche… Jeder ist willkommen.
URL:https://buergertreff-neuendettelsau.de/veranstaltung/offenes-treffen-mit-spiele-nachmittag-3/2027-04-06/
LOCATION:Bürgertreff Neuendettelsau\, Heilsbronner Str. 2\, Neuendettelsau\, Bayern\, 91564\, Deutschland
ATTACH;FMTTYPE=image/jpeg:https://buergertreff-neuendettelsau.de/wp-content/uploads/2023/06/gesellschaftsspiele-104_v-gseagaleriexl.jpg
END:VEVENT
BEGIN:VEVENT
DTSTART;TZID=Europe/Berlin:20270504T143000
DTEND;TZID=Europe/Berlin:20270504T170000
DTSTAMP:20260420T064211
CREATED:20251204T203005Z
LAST-MODIFIED:20251204T203010Z
UID:10004551-1809441000-1809450000@buergertreff-neuendettelsau.de
SUMMARY:Offenes Treffen mit Spiele-Nachmittag
DESCRIPTION:Das Bündnis für Familie lädt ein zum gemütlichen Beisammensein bei Kaffee/Tee und zur Möglichkeit zu einem Gesellschaftsspiel. Schaut einfach mal rein. Für Fragen\, Ideen\, Wünsche und Gespräche… Jeder ist willkommen.
URL:https://buergertreff-neuendettelsau.de/veranstaltung/offenes-treffen-mit-spiele-nachmittag-3/2027-05-04/
LOCATION:Bürgertreff Neuendettelsau\, Heilsbronner Str. 2\, Neuendettelsau\, Bayern\, 91564\, Deutschland
ATTACH;FMTTYPE=image/jpeg:https://buergertreff-neuendettelsau.de/wp-content/uploads/2023/06/gesellschaftsspiele-104_v-gseagaleriexl.jpg
END:VEVENT
BEGIN:VEVENT
DTSTART;TZID=Europe/Berlin:20270601T143000
DTEND;TZID=Europe/Berlin:20270601T170000
DTSTAMP:20260420T064211
CREATED:20251204T203005Z
LAST-MODIFIED:20251204T203010Z
UID:10004552-1811860200-1811869200@buergertreff-neuendettelsau.de
SUMMARY:Offenes Treffen mit Spiele-Nachmittag
DESCRIPTION:Das Bündnis für Familie lädt ein zum gemütlichen Beisammensein bei Kaffee/Tee und zur Möglichkeit zu einem Gesellschaftsspiel. Schaut einfach mal rein. Für Fragen\, Ideen\, Wünsche und Gespräche… Jeder ist willkommen.
URL:https://buergertreff-neuendettelsau.de/veranstaltung/offenes-treffen-mit-spiele-nachmittag-3/2027-06-01/
LOCATION:Bürgertreff Neuendettelsau\, Heilsbronner Str. 2\, Neuendettelsau\, Bayern\, 91564\, Deutschland
ATTACH;FMTTYPE=image/jpeg:https://buergertreff-neuendettelsau.de/wp-content/uploads/2023/06/gesellschaftsspiele-104_v-gseagaleriexl.jpg
END:VEVENT
BEGIN:VEVENT
DTSTART;TZID=Europe/Berlin:20270706T143000
DTEND;TZID=Europe/Berlin:20270706T170000
DTSTAMP:20260420T064211
CREATED:20251204T203005Z
LAST-MODIFIED:20251204T203010Z
UID:10004553-1814884200-1814893200@buergertreff-neuendettelsau.de
SUMMARY:Offenes Treffen mit Spiele-Nachmittag
DESCRIPTION:Das Bündnis für Familie lädt ein zum gemütlichen Beisammensein bei Kaffee/Tee und zur Möglichkeit zu einem Gesellschaftsspiel. Schaut einfach mal rein. Für Fragen\, Ideen\, Wünsche und Gespräche… Jeder ist willkommen.
URL:https://buergertreff-neuendettelsau.de/veranstaltung/offenes-treffen-mit-spiele-nachmittag-3/2027-07-06/
LOCATION:Bürgertreff Neuendettelsau\, Heilsbronner Str. 2\, Neuendettelsau\, Bayern\, 91564\, Deutschland
ATTACH;FMTTYPE=image/jpeg:https://buergertreff-neuendettelsau.de/wp-content/uploads/2023/06/gesellschaftsspiele-104_v-gseagaleriexl.jpg
END:VEVENT
BEGIN:VEVENT
DTSTART;TZID=Europe/Berlin:20270803T143000
DTEND;TZID=Europe/Berlin:20270803T170000
DTSTAMP:20260420T064211
CREATED:20251204T203005Z
LAST-MODIFIED:20251204T203010Z
UID:10004554-1817303400-1817312400@buergertreff-neuendettelsau.de
SUMMARY:Offenes Treffen mit Spiele-Nachmittag
DESCRIPTION:Das Bündnis für Familie lädt ein zum gemütlichen Beisammensein bei Kaffee/Tee und zur Möglichkeit zu einem Gesellschaftsspiel. Schaut einfach mal rein. Für Fragen\, Ideen\, Wünsche und Gespräche… Jeder ist willkommen.
URL:https://buergertreff-neuendettelsau.de/veranstaltung/offenes-treffen-mit-spiele-nachmittag-3/2027-08-03/
LOCATION:Bürgertreff Neuendettelsau\, Heilsbronner Str. 2\, Neuendettelsau\, Bayern\, 91564\, Deutschland
ATTACH;FMTTYPE=image/jpeg:https://buergertreff-neuendettelsau.de/wp-content/uploads/2023/06/gesellschaftsspiele-104_v-gseagaleriexl.jpg
END:VEVENT
BEGIN:VEVENT
DTSTART;TZID=Europe/Berlin:20270907T143000
DTEND;TZID=Europe/Berlin:20270907T170000
DTSTAMP:20260420T064211
CREATED:20251204T203005Z
LAST-MODIFIED:20251204T203010Z
UID:10004555-1820327400-1820336400@buergertreff-neuendettelsau.de
SUMMARY:Offenes Treffen mit Spiele-Nachmittag
DESCRIPTION:Das Bündnis für Familie lädt ein zum gemütlichen Beisammensein bei Kaffee/Tee und zur Möglichkeit zu einem Gesellschaftsspiel. Schaut einfach mal rein. Für Fragen\, Ideen\, Wünsche und Gespräche… Jeder ist willkommen.
URL:https://buergertreff-neuendettelsau.de/veranstaltung/offenes-treffen-mit-spiele-nachmittag-3/2027-09-07/
LOCATION:Bürgertreff Neuendettelsau\, Heilsbronner Str. 2\, Neuendettelsau\, Bayern\, 91564\, Deutschland
ATTACH;FMTTYPE=image/jpeg:https://buergertreff-neuendettelsau.de/wp-content/uploads/2023/06/gesellschaftsspiele-104_v-gseagaleriexl.jpg
END:VEVENT
BEGIN:VEVENT
DTSTART;TZID=Europe/Berlin:20271005T143000
DTEND;TZID=Europe/Berlin:20271005T170000
DTSTAMP:20260420T064211
CREATED:20251204T203005Z
LAST-MODIFIED:20251204T203010Z
UID:10004556-1822746600-1822755600@buergertreff-neuendettelsau.de
SUMMARY:Offenes Treffen mit Spiele-Nachmittag
DESCRIPTION:Das Bündnis für Familie lädt ein zum gemütlichen Beisammensein bei Kaffee/Tee und zur Möglichkeit zu einem Gesellschaftsspiel. Schaut einfach mal rein. Für Fragen\, Ideen\, Wünsche und Gespräche… Jeder ist willkommen.
URL:https://buergertreff-neuendettelsau.de/veranstaltung/offenes-treffen-mit-spiele-nachmittag-3/2027-10-05/
LOCATION:Bürgertreff Neuendettelsau\, Heilsbronner Str. 2\, Neuendettelsau\, Bayern\, 91564\, Deutschland
ATTACH;FMTTYPE=image/jpeg:https://buergertreff-neuendettelsau.de/wp-content/uploads/2023/06/gesellschaftsspiele-104_v-gseagaleriexl.jpg
END:VEVENT
BEGIN:VEVENT
DTSTART;TZID=Europe/Berlin:20271102T143000
DTEND;TZID=Europe/Berlin:20271102T170000
DTSTAMP:20260420T064211
CREATED:20251204T203005Z
LAST-MODIFIED:20251204T203010Z
UID:10004557-1825165800-1825174800@buergertreff-neuendettelsau.de
SUMMARY:Offenes Treffen mit Spiele-Nachmittag
DESCRIPTION:Das Bündnis für Familie lädt ein zum gemütlichen Beisammensein bei Kaffee/Tee und zur Möglichkeit zu einem Gesellschaftsspiel. Schaut einfach mal rein. Für Fragen\, Ideen\, Wünsche und Gespräche… Jeder ist willkommen.
URL:https://buergertreff-neuendettelsau.de/veranstaltung/offenes-treffen-mit-spiele-nachmittag-3/2027-11-02/
LOCATION:Bürgertreff Neuendettelsau\, Heilsbronner Str. 2\, Neuendettelsau\, Bayern\, 91564\, Deutschland
ATTACH;FMTTYPE=image/jpeg:https://buergertreff-neuendettelsau.de/wp-content/uploads/2023/06/gesellschaftsspiele-104_v-gseagaleriexl.jpg
END:VEVENT
BEGIN:VEVENT
DTSTART;TZID=Europe/Berlin:20271207T143000
DTEND;TZID=Europe/Berlin:20271207T170000
DTSTAMP:20260420T064211
CREATED:20251204T203005Z
LAST-MODIFIED:20251204T203010Z
UID:10004558-1828189800-1828198800@buergertreff-neuendettelsau.de
SUMMARY:Offenes Treffen mit Spiele-Nachmittag
DESCRIPTION:Das Bündnis für Familie lädt ein zum gemütlichen Beisammensein bei Kaffee/Tee und zur Möglichkeit zu einem Gesellschaftsspiel. Schaut einfach mal rein. Für Fragen\, Ideen\, Wünsche und Gespräche… Jeder ist willkommen.
URL:https://buergertreff-neuendettelsau.de/veranstaltung/offenes-treffen-mit-spiele-nachmittag-3/2027-12-07/
LOCATION:Bürgertreff Neuendettelsau\, Heilsbronner Str. 2\, Neuendettelsau\, Bayern\, 91564\, Deutschland
ATTACH;FMTTYPE=image/jpeg:https://buergertreff-neuendettelsau.de/wp-content/uploads/2023/06/gesellschaftsspiele-104_v-gseagaleriexl.jpg
END:VEVENT
BEGIN:VEVENT
DTSTART;TZID=Europe/Berlin:20280104T143000
DTEND;TZID=Europe/Berlin:20280104T170000
DTSTAMP:20260420T064211
CREATED:20251204T203005Z
LAST-MODIFIED:20251204T203010Z
UID:10004559-1830609000-1830618000@buergertreff-neuendettelsau.de
SUMMARY:Offenes Treffen mit Spiele-Nachmittag
DESCRIPTION:Das Bündnis für Familie lädt ein zum gemütlichen Beisammensein bei Kaffee/Tee und zur Möglichkeit zu einem Gesellschaftsspiel. Schaut einfach mal rein. Für Fragen\, Ideen\, Wünsche und Gespräche… Jeder ist willkommen.
URL:https://buergertreff-neuendettelsau.de/veranstaltung/offenes-treffen-mit-spiele-nachmittag-3/2028-01-04/
LOCATION:Bürgertreff Neuendettelsau\, Heilsbronner Str. 2\, Neuendettelsau\, Bayern\, 91564\, Deutschland
ATTACH;FMTTYPE=image/jpeg:https://buergertreff-neuendettelsau.de/wp-content/uploads/2023/06/gesellschaftsspiele-104_v-gseagaleriexl.jpg
END:VEVENT
BEGIN:VEVENT
DTSTART;TZID=Europe/Berlin:20280201T143000
DTEND;TZID=Europe/Berlin:20280201T170000
DTSTAMP:20260420T064211
CREATED:20251204T203005Z
LAST-MODIFIED:20251204T203010Z
UID:10004560-1833028200-1833037200@buergertreff-neuendettelsau.de
SUMMARY:Offenes Treffen mit Spiele-Nachmittag
DESCRIPTION:Das Bündnis für Familie lädt ein zum gemütlichen Beisammensein bei Kaffee/Tee und zur Möglichkeit zu einem Gesellschaftsspiel. Schaut einfach mal rein. Für Fragen\, Ideen\, Wünsche und Gespräche… Jeder ist willkommen.
URL:https://buergertreff-neuendettelsau.de/veranstaltung/offenes-treffen-mit-spiele-nachmittag-3/2028-02-01/
LOCATION:Bürgertreff Neuendettelsau\, Heilsbronner Str. 2\, Neuendettelsau\, Bayern\, 91564\, Deutschland
ATTACH;FMTTYPE=image/jpeg:https://buergertreff-neuendettelsau.de/wp-content/uploads/2023/06/gesellschaftsspiele-104_v-gseagaleriexl.jpg
END:VEVENT
BEGIN:VEVENT
DTSTART;TZID=Europe/Berlin:20280307T143000
DTEND;TZID=Europe/Berlin:20280307T170000
DTSTAMP:20260420T064211
CREATED:20251204T203005Z
LAST-MODIFIED:20251204T203010Z
UID:10004561-1836052200-1836061200@buergertreff-neuendettelsau.de
SUMMARY:Offenes Treffen mit Spiele-Nachmittag
DESCRIPTION:Das Bündnis für Familie lädt ein zum gemütlichen Beisammensein bei Kaffee/Tee und zur Möglichkeit zu einem Gesellschaftsspiel. Schaut einfach mal rein. Für Fragen\, Ideen\, Wünsche und Gespräche… Jeder ist willkommen.
URL:https://buergertreff-neuendettelsau.de/veranstaltung/offenes-treffen-mit-spiele-nachmittag-3/2028-03-07/
LOCATION:Bürgertreff Neuendettelsau\, Heilsbronner Str. 2\, Neuendettelsau\, Bayern\, 91564\, Deutschland
ATTACH;FMTTYPE=image/jpeg:https://buergertreff-neuendettelsau.de/wp-content/uploads/2023/06/gesellschaftsspiele-104_v-gseagaleriexl.jpg
END:VEVENT
BEGIN:VEVENT
DTSTART;TZID=Europe/Berlin:20280404T143000
DTEND;TZID=Europe/Berlin:20280404T170000
DTSTAMP:20260420T064211
CREATED:20251204T203005Z
LAST-MODIFIED:20251204T203010Z
UID:10004562-1838471400-1838480400@buergertreff-neuendettelsau.de
SUMMARY:Offenes Treffen mit Spiele-Nachmittag
DESCRIPTION:Das Bündnis für Familie lädt ein zum gemütlichen Beisammensein bei Kaffee/Tee und zur Möglichkeit zu einem Gesellschaftsspiel. Schaut einfach mal rein. Für Fragen\, Ideen\, Wünsche und Gespräche… Jeder ist willkommen.
URL:https://buergertreff-neuendettelsau.de/veranstaltung/offenes-treffen-mit-spiele-nachmittag-3/2028-04-04/
LOCATION:Bürgertreff Neuendettelsau\, Heilsbronner Str. 2\, Neuendettelsau\, Bayern\, 91564\, Deutschland
ATTACH;FMTTYPE=image/jpeg:https://buergertreff-neuendettelsau.de/wp-content/uploads/2023/06/gesellschaftsspiele-104_v-gseagaleriexl.jpg
END:VEVENT
BEGIN:VEVENT
DTSTART;TZID=Europe/Berlin:20280502T143000
DTEND;TZID=Europe/Berlin:20280502T170000
DTSTAMP:20260420T064211
CREATED:20251204T203005Z
LAST-MODIFIED:20251204T203010Z
UID:10004563-1840890600-1840899600@buergertreff-neuendettelsau.de
SUMMARY:Offenes Treffen mit Spiele-Nachmittag
DESCRIPTION:Das Bündnis für Familie lädt ein zum gemütlichen Beisammensein bei Kaffee/Tee und zur Möglichkeit zu einem Gesellschaftsspiel. Schaut einfach mal rein. Für Fragen\, Ideen\, Wünsche und Gespräche… Jeder ist willkommen.
URL:https://buergertreff-neuendettelsau.de/veranstaltung/offenes-treffen-mit-spiele-nachmittag-3/2028-05-02/
LOCATION:Bürgertreff Neuendettelsau\, Heilsbronner Str. 2\, Neuendettelsau\, Bayern\, 91564\, Deutschland
ATTACH;FMTTYPE=image/jpeg:https://buergertreff-neuendettelsau.de/wp-content/uploads/2023/06/gesellschaftsspiele-104_v-gseagaleriexl.jpg
END:VEVENT
BEGIN:VEVENT
DTSTART;TZID=Europe/Berlin:20280606T143000
DTEND;TZID=Europe/Berlin:20280606T170000
DTSTAMP:20260420T064211
CREATED:20251204T203005Z
LAST-MODIFIED:20251204T203010Z
UID:10004564-1843914600-1843923600@buergertreff-neuendettelsau.de
SUMMARY:Offenes Treffen mit Spiele-Nachmittag
DESCRIPTION:Das Bündnis für Familie lädt ein zum gemütlichen Beisammensein bei Kaffee/Tee und zur Möglichkeit zu einem Gesellschaftsspiel. Schaut einfach mal rein. Für Fragen\, Ideen\, Wünsche und Gespräche… Jeder ist willkommen.
URL:https://buergertreff-neuendettelsau.de/veranstaltung/offenes-treffen-mit-spiele-nachmittag-3/2028-06-06/
LOCATION:Bürgertreff Neuendettelsau\, Heilsbronner Str. 2\, Neuendettelsau\, Bayern\, 91564\, Deutschland
ATTACH;FMTTYPE=image/jpeg:https://buergertreff-neuendettelsau.de/wp-content/uploads/2023/06/gesellschaftsspiele-104_v-gseagaleriexl.jpg
END:VEVENT
BEGIN:VEVENT
DTSTART;TZID=Europe/Berlin:20280704T143000
DTEND;TZID=Europe/Berlin:20280704T170000
DTSTAMP:20260420T064211
CREATED:20251204T203005Z
LAST-MODIFIED:20251204T203010Z
UID:10004565-1846333800-1846342800@buergertreff-neuendettelsau.de
SUMMARY:Offenes Treffen mit Spiele-Nachmittag
DESCRIPTION:Das Bündnis für Familie lädt ein zum gemütlichen Beisammensein bei Kaffee/Tee und zur Möglichkeit zu einem Gesellschaftsspiel. Schaut einfach mal rein. Für Fragen\, Ideen\, Wünsche und Gespräche… Jeder ist willkommen.
URL:https://buergertreff-neuendettelsau.de/veranstaltung/offenes-treffen-mit-spiele-nachmittag-3/2028-07-04/
LOCATION:Bürgertreff Neuendettelsau\, Heilsbronner Str. 2\, Neuendettelsau\, Bayern\, 91564\, Deutschland
ATTACH;FMTTYPE=image/jpeg:https://buergertreff-neuendettelsau.de/wp-content/uploads/2023/06/gesellschaftsspiele-104_v-gseagaleriexl.jpg
END:VEVENT
BEGIN:VEVENT
DTSTART;TZID=Europe/Berlin:20280801T143000
DTEND;TZID=Europe/Berlin:20280801T170000
DTSTAMP:20260420T064211
CREATED:20251204T203005Z
LAST-MODIFIED:20251204T203010Z
UID:10004566-1848753000-1848762000@buergertreff-neuendettelsau.de
SUMMARY:Offenes Treffen mit Spiele-Nachmittag
DESCRIPTION:Das Bündnis für Familie lädt ein zum gemütlichen Beisammensein bei Kaffee/Tee und zur Möglichkeit zu einem Gesellschaftsspiel. Schaut einfach mal rein. Für Fragen\, Ideen\, Wünsche und Gespräche… Jeder ist willkommen.
URL:https://buergertreff-neuendettelsau.de/veranstaltung/offenes-treffen-mit-spiele-nachmittag-3/2028-08-01/
LOCATION:Bürgertreff Neuendettelsau\, Heilsbronner Str. 2\, Neuendettelsau\, Bayern\, 91564\, Deutschland
ATTACH;FMTTYPE=image/jpeg:https://buergertreff-neuendettelsau.de/wp-content/uploads/2023/06/gesellschaftsspiele-104_v-gseagaleriexl.jpg
END:VEVENT
BEGIN:VEVENT
DTSTART;TZID=Europe/Berlin:20280905T143000
DTEND;TZID=Europe/Berlin:20280905T170000
DTSTAMP:20260420T064211
CREATED:20251204T203005Z
LAST-MODIFIED:20251204T203010Z
UID:10004567-1851777000-1851786000@buergertreff-neuendettelsau.de
SUMMARY:Offenes Treffen mit Spiele-Nachmittag
DESCRIPTION:Das Bündnis für Familie lädt ein zum gemütlichen Beisammensein bei Kaffee/Tee und zur Möglichkeit zu einem Gesellschaftsspiel. Schaut einfach mal rein. Für Fragen\, Ideen\, Wünsche und Gespräche… Jeder ist willkommen.
URL:https://buergertreff-neuendettelsau.de/veranstaltung/offenes-treffen-mit-spiele-nachmittag-3/2028-09-05/
LOCATION:Bürgertreff Neuendettelsau\, Heilsbronner Str. 2\, Neuendettelsau\, Bayern\, 91564\, Deutschland
ATTACH;FMTTYPE=image/jpeg:https://buergertreff-neuendettelsau.de/wp-content/uploads/2023/06/gesellschaftsspiele-104_v-gseagaleriexl.jpg
END:VEVENT
BEGIN:VEVENT
DTSTART;TZID=Europe/Berlin:20281003T143000
DTEND;TZID=Europe/Berlin:20281003T170000
DTSTAMP:20260420T064211
CREATED:20251204T203005Z
LAST-MODIFIED:20251204T203010Z
UID:10004568-1854196200-1854205200@buergertreff-neuendettelsau.de
SUMMARY:Offenes Treffen mit Spiele-Nachmittag
DESCRIPTION:Das Bündnis für Familie lädt ein zum gemütlichen Beisammensein bei Kaffee/Tee und zur Möglichkeit zu einem Gesellschaftsspiel. Schaut einfach mal rein. Für Fragen\, Ideen\, Wünsche und Gespräche… Jeder ist willkommen.
URL:https://buergertreff-neuendettelsau.de/veranstaltung/offenes-treffen-mit-spiele-nachmittag-3/2028-10-03/
LOCATION:Bürgertreff Neuendettelsau\, Heilsbronner Str. 2\, Neuendettelsau\, Bayern\, 91564\, Deutschland
ATTACH;FMTTYPE=image/jpeg:https://buergertreff-neuendettelsau.de/wp-content/uploads/2023/06/gesellschaftsspiele-104_v-gseagaleriexl.jpg
END:VEVENT
END:VCALENDAR