BEGIN:VCALENDAR
VERSION:2.0
PRODID:-// - ECPv6.15.20//NONSGML v1.0//EN
CALSCALE:GREGORIAN
METHOD:PUBLISH
X-ORIGINAL-URL:https://buergertreff-neuendettelsau.de
X-WR-CALDESC:Veranstaltungen für 
REFRESH-INTERVAL;VALUE=DURATION:PT1H
X-Robots-Tag:noindex
X-PUBLISHED-TTL:PT1H
BEGIN:VTIMEZONE
TZID:Europe/Berlin
BEGIN:DAYLIGHT
TZOFFSETFROM:+0100
TZOFFSETTO:+0200
TZNAME:CEST
DTSTART:20250330T010000
END:DAYLIGHT
BEGIN:STANDARD
TZOFFSETFROM:+0200
TZOFFSETTO:+0100
TZNAME:CET
DTSTART:20251026T010000
END:STANDARD
BEGIN:DAYLIGHT
TZOFFSETFROM:+0100
TZOFFSETTO:+0200
TZNAME:CEST
DTSTART:20260329T010000
END:DAYLIGHT
BEGIN:STANDARD
TZOFFSETFROM:+0200
TZOFFSETTO:+0100
TZNAME:CET
DTSTART:20261025T010000
END:STANDARD
BEGIN:DAYLIGHT
TZOFFSETFROM:+0100
TZOFFSETTO:+0200
TZNAME:CEST
DTSTART:20270328T010000
END:DAYLIGHT
BEGIN:STANDARD
TZOFFSETFROM:+0200
TZOFFSETTO:+0100
TZNAME:CET
DTSTART:20271031T010000
END:STANDARD
BEGIN:DAYLIGHT
TZOFFSETFROM:+0100
TZOFFSETTO:+0200
TZNAME:CEST
DTSTART:20280326T010000
END:DAYLIGHT
BEGIN:STANDARD
TZOFFSETFROM:+0200
TZOFFSETTO:+0100
TZNAME:CET
DTSTART:20281029T010000
END:STANDARD
BEGIN:DAYLIGHT
TZOFFSETFROM:+0100
TZOFFSETTO:+0200
TZNAME:CEST
DTSTART:20290325T010000
END:DAYLIGHT
BEGIN:STANDARD
TZOFFSETFROM:+0200
TZOFFSETTO:+0100
TZNAME:CET
DTSTART:20291028T010000
END:STANDARD
END:VTIMEZONE
BEGIN:VEVENT
DTSTART;TZID=Europe/Berlin:20260512T143000
DTEND;TZID=Europe/Berlin:20260512T170000
DTSTAMP:20260419T173550
CREATED:20251204T203233Z
LAST-MODIFIED:20251204T203304Z
UID:10004597-1778596200-1778605200@buergertreff-neuendettelsau.de
SUMMARY:Offenes Treffen
DESCRIPTION:Gelegenheit zum geselligen Miteinander\, zum Spiel\, zum persönlichen Gespräch und zur Kontaktaufnahme bei einer Tasse Kaffee oder Tee. Kommen Sie einfach herein … Herzlich willkommen!
URL:https://buergertreff-neuendettelsau.de/veranstaltung/offenes-treffen-7/2026-05-12/
LOCATION:Bürgertreff Neuendettelsau\, Heilsbronner Str. 2\, Neuendettelsau\, Bayern\, 91564\, Deutschland
ATTACH;FMTTYPE=image/jpeg:https://buergertreff-neuendettelsau.de/wp-content/uploads/2023/08/Offener-Treff.jpg
END:VEVENT
BEGIN:VEVENT
DTSTART;TZID=Europe/Berlin:20260609T143000
DTEND;TZID=Europe/Berlin:20260609T170000
DTSTAMP:20260419T173550
CREATED:20251204T203233Z
LAST-MODIFIED:20251204T203304Z
UID:10004598-1781015400-1781024400@buergertreff-neuendettelsau.de
SUMMARY:Offenes Treffen
DESCRIPTION:Gelegenheit zum geselligen Miteinander\, zum Spiel\, zum persönlichen Gespräch und zur Kontaktaufnahme bei einer Tasse Kaffee oder Tee. Kommen Sie einfach herein … Herzlich willkommen!
URL:https://buergertreff-neuendettelsau.de/veranstaltung/offenes-treffen-7/2026-06-09/
LOCATION:Bürgertreff Neuendettelsau\, Heilsbronner Str. 2\, Neuendettelsau\, Bayern\, 91564\, Deutschland
ATTACH;FMTTYPE=image/jpeg:https://buergertreff-neuendettelsau.de/wp-content/uploads/2023/08/Offener-Treff.jpg
END:VEVENT
BEGIN:VEVENT
DTSTART;TZID=Europe/Berlin:20260714T143000
DTEND;TZID=Europe/Berlin:20260714T170000
DTSTAMP:20260419T173550
CREATED:20251204T203233Z
LAST-MODIFIED:20251204T203304Z
UID:10004599-1784039400-1784048400@buergertreff-neuendettelsau.de
SUMMARY:Offenes Treffen
DESCRIPTION:Gelegenheit zum geselligen Miteinander\, zum Spiel\, zum persönlichen Gespräch und zur Kontaktaufnahme bei einer Tasse Kaffee oder Tee. Kommen Sie einfach herein … Herzlich willkommen!
URL:https://buergertreff-neuendettelsau.de/veranstaltung/offenes-treffen-7/2026-07-14/
LOCATION:Bürgertreff Neuendettelsau\, Heilsbronner Str. 2\, Neuendettelsau\, Bayern\, 91564\, Deutschland
ATTACH;FMTTYPE=image/jpeg:https://buergertreff-neuendettelsau.de/wp-content/uploads/2023/08/Offener-Treff.jpg
END:VEVENT
BEGIN:VEVENT
DTSTART;TZID=Europe/Berlin:20260811T143000
DTEND;TZID=Europe/Berlin:20260811T170000
DTSTAMP:20260419T173550
CREATED:20251204T203233Z
LAST-MODIFIED:20251204T203304Z
UID:10004600-1786458600-1786467600@buergertreff-neuendettelsau.de
SUMMARY:Offenes Treffen
DESCRIPTION:Gelegenheit zum geselligen Miteinander\, zum Spiel\, zum persönlichen Gespräch und zur Kontaktaufnahme bei einer Tasse Kaffee oder Tee. Kommen Sie einfach herein … Herzlich willkommen!
URL:https://buergertreff-neuendettelsau.de/veranstaltung/offenes-treffen-7/2026-08-11/
LOCATION:Bürgertreff Neuendettelsau\, Heilsbronner Str. 2\, Neuendettelsau\, Bayern\, 91564\, Deutschland
ATTACH;FMTTYPE=image/jpeg:https://buergertreff-neuendettelsau.de/wp-content/uploads/2023/08/Offener-Treff.jpg
END:VEVENT
BEGIN:VEVENT
DTSTART;TZID=Europe/Berlin:20260908T143000
DTEND;TZID=Europe/Berlin:20260908T170000
DTSTAMP:20260419T173550
CREATED:20251204T203233Z
LAST-MODIFIED:20251204T203304Z
UID:10004601-1788877800-1788886800@buergertreff-neuendettelsau.de
SUMMARY:Offenes Treffen
DESCRIPTION:Gelegenheit zum geselligen Miteinander\, zum Spiel\, zum persönlichen Gespräch und zur Kontaktaufnahme bei einer Tasse Kaffee oder Tee. Kommen Sie einfach herein … Herzlich willkommen!
URL:https://buergertreff-neuendettelsau.de/veranstaltung/offenes-treffen-7/2026-09-08/
LOCATION:Bürgertreff Neuendettelsau\, Heilsbronner Str. 2\, Neuendettelsau\, Bayern\, 91564\, Deutschland
ATTACH;FMTTYPE=image/jpeg:https://buergertreff-neuendettelsau.de/wp-content/uploads/2023/08/Offener-Treff.jpg
END:VEVENT
BEGIN:VEVENT
DTSTART;TZID=Europe/Berlin:20261013T143000
DTEND;TZID=Europe/Berlin:20261013T170000
DTSTAMP:20260419T173550
CREATED:20251204T203233Z
LAST-MODIFIED:20251204T203304Z
UID:10004602-1791901800-1791910800@buergertreff-neuendettelsau.de
SUMMARY:Offenes Treffen
DESCRIPTION:Gelegenheit zum geselligen Miteinander\, zum Spiel\, zum persönlichen Gespräch und zur Kontaktaufnahme bei einer Tasse Kaffee oder Tee. Kommen Sie einfach herein … Herzlich willkommen!
URL:https://buergertreff-neuendettelsau.de/veranstaltung/offenes-treffen-7/2026-10-13/
LOCATION:Bürgertreff Neuendettelsau\, Heilsbronner Str. 2\, Neuendettelsau\, Bayern\, 91564\, Deutschland
ATTACH;FMTTYPE=image/jpeg:https://buergertreff-neuendettelsau.de/wp-content/uploads/2023/08/Offener-Treff.jpg
END:VEVENT
BEGIN:VEVENT
DTSTART;TZID=Europe/Berlin:20261110T143000
DTEND;TZID=Europe/Berlin:20261110T170000
DTSTAMP:20260419T173550
CREATED:20251204T203233Z
LAST-MODIFIED:20251204T203304Z
UID:10004603-1794321000-1794330000@buergertreff-neuendettelsau.de
SUMMARY:Offenes Treffen
DESCRIPTION:Gelegenheit zum geselligen Miteinander\, zum Spiel\, zum persönlichen Gespräch und zur Kontaktaufnahme bei einer Tasse Kaffee oder Tee. Kommen Sie einfach herein … Herzlich willkommen!
URL:https://buergertreff-neuendettelsau.de/veranstaltung/offenes-treffen-7/2026-11-10/
LOCATION:Bürgertreff Neuendettelsau\, Heilsbronner Str. 2\, Neuendettelsau\, Bayern\, 91564\, Deutschland
ATTACH;FMTTYPE=image/jpeg:https://buergertreff-neuendettelsau.de/wp-content/uploads/2023/08/Offener-Treff.jpg
END:VEVENT
BEGIN:VEVENT
DTSTART;TZID=Europe/Berlin:20261208T143000
DTEND;TZID=Europe/Berlin:20261208T170000
DTSTAMP:20260419T173550
CREATED:20251204T203233Z
LAST-MODIFIED:20251204T203304Z
UID:10004604-1796740200-1796749200@buergertreff-neuendettelsau.de
SUMMARY:Offenes Treffen
DESCRIPTION:Gelegenheit zum geselligen Miteinander\, zum Spiel\, zum persönlichen Gespräch und zur Kontaktaufnahme bei einer Tasse Kaffee oder Tee. Kommen Sie einfach herein … Herzlich willkommen!
URL:https://buergertreff-neuendettelsau.de/veranstaltung/offenes-treffen-7/2026-12-08/
LOCATION:Bürgertreff Neuendettelsau\, Heilsbronner Str. 2\, Neuendettelsau\, Bayern\, 91564\, Deutschland
ATTACH;FMTTYPE=image/jpeg:https://buergertreff-neuendettelsau.de/wp-content/uploads/2023/08/Offener-Treff.jpg
END:VEVENT
BEGIN:VEVENT
DTSTART;TZID=Europe/Berlin:20270112T143000
DTEND;TZID=Europe/Berlin:20270112T170000
DTSTAMP:20260419T173550
CREATED:20251204T203233Z
LAST-MODIFIED:20251204T203304Z
UID:10004605-1799764200-1799773200@buergertreff-neuendettelsau.de
SUMMARY:Offenes Treffen
DESCRIPTION:Gelegenheit zum geselligen Miteinander\, zum Spiel\, zum persönlichen Gespräch und zur Kontaktaufnahme bei einer Tasse Kaffee oder Tee. Kommen Sie einfach herein … Herzlich willkommen!
URL:https://buergertreff-neuendettelsau.de/veranstaltung/offenes-treffen-7/2027-01-12/
LOCATION:Bürgertreff Neuendettelsau\, Heilsbronner Str. 2\, Neuendettelsau\, Bayern\, 91564\, Deutschland
ATTACH;FMTTYPE=image/jpeg:https://buergertreff-neuendettelsau.de/wp-content/uploads/2023/08/Offener-Treff.jpg
END:VEVENT
BEGIN:VEVENT
DTSTART;TZID=Europe/Berlin:20270209T143000
DTEND;TZID=Europe/Berlin:20270209T170000
DTSTAMP:20260419T173550
CREATED:20251204T203233Z
LAST-MODIFIED:20251204T203304Z
UID:10004606-1802183400-1802192400@buergertreff-neuendettelsau.de
SUMMARY:Offenes Treffen
DESCRIPTION:Gelegenheit zum geselligen Miteinander\, zum Spiel\, zum persönlichen Gespräch und zur Kontaktaufnahme bei einer Tasse Kaffee oder Tee. Kommen Sie einfach herein … Herzlich willkommen!
URL:https://buergertreff-neuendettelsau.de/veranstaltung/offenes-treffen-7/2027-02-09/
LOCATION:Bürgertreff Neuendettelsau\, Heilsbronner Str. 2\, Neuendettelsau\, Bayern\, 91564\, Deutschland
ATTACH;FMTTYPE=image/jpeg:https://buergertreff-neuendettelsau.de/wp-content/uploads/2023/08/Offener-Treff.jpg
END:VEVENT
BEGIN:VEVENT
DTSTART;TZID=Europe/Berlin:20270309T143000
DTEND;TZID=Europe/Berlin:20270309T170000
DTSTAMP:20260419T173550
CREATED:20251204T203233Z
LAST-MODIFIED:20251204T203304Z
UID:10004607-1804602600-1804611600@buergertreff-neuendettelsau.de
SUMMARY:Offenes Treffen
DESCRIPTION:Gelegenheit zum geselligen Miteinander\, zum Spiel\, zum persönlichen Gespräch und zur Kontaktaufnahme bei einer Tasse Kaffee oder Tee. Kommen Sie einfach herein … Herzlich willkommen!
URL:https://buergertreff-neuendettelsau.de/veranstaltung/offenes-treffen-7/2027-03-09/
LOCATION:Bürgertreff Neuendettelsau\, Heilsbronner Str. 2\, Neuendettelsau\, Bayern\, 91564\, Deutschland
ATTACH;FMTTYPE=image/jpeg:https://buergertreff-neuendettelsau.de/wp-content/uploads/2023/08/Offener-Treff.jpg
END:VEVENT
BEGIN:VEVENT
DTSTART;TZID=Europe/Berlin:20270413T143000
DTEND;TZID=Europe/Berlin:20270413T170000
DTSTAMP:20260419T173550
CREATED:20251204T203233Z
LAST-MODIFIED:20251204T203304Z
UID:10004608-1807626600-1807635600@buergertreff-neuendettelsau.de
SUMMARY:Offenes Treffen
DESCRIPTION:Gelegenheit zum geselligen Miteinander\, zum Spiel\, zum persönlichen Gespräch und zur Kontaktaufnahme bei einer Tasse Kaffee oder Tee. Kommen Sie einfach herein … Herzlich willkommen!
URL:https://buergertreff-neuendettelsau.de/veranstaltung/offenes-treffen-7/2027-04-13/
LOCATION:Bürgertreff Neuendettelsau\, Heilsbronner Str. 2\, Neuendettelsau\, Bayern\, 91564\, Deutschland
ATTACH;FMTTYPE=image/jpeg:https://buergertreff-neuendettelsau.de/wp-content/uploads/2023/08/Offener-Treff.jpg
END:VEVENT
BEGIN:VEVENT
DTSTART;TZID=Europe/Berlin:20270511T143000
DTEND;TZID=Europe/Berlin:20270511T170000
DTSTAMP:20260419T173550
CREATED:20251204T203233Z
LAST-MODIFIED:20251204T203304Z
UID:10004609-1810045800-1810054800@buergertreff-neuendettelsau.de
SUMMARY:Offenes Treffen
DESCRIPTION:Gelegenheit zum geselligen Miteinander\, zum Spiel\, zum persönlichen Gespräch und zur Kontaktaufnahme bei einer Tasse Kaffee oder Tee. Kommen Sie einfach herein … Herzlich willkommen!
URL:https://buergertreff-neuendettelsau.de/veranstaltung/offenes-treffen-7/2027-05-11/
LOCATION:Bürgertreff Neuendettelsau\, Heilsbronner Str. 2\, Neuendettelsau\, Bayern\, 91564\, Deutschland
ATTACH;FMTTYPE=image/jpeg:https://buergertreff-neuendettelsau.de/wp-content/uploads/2023/08/Offener-Treff.jpg
END:VEVENT
BEGIN:VEVENT
DTSTART;TZID=Europe/Berlin:20270608T143000
DTEND;TZID=Europe/Berlin:20270608T170000
DTSTAMP:20260419T173550
CREATED:20251204T203233Z
LAST-MODIFIED:20251204T203304Z
UID:10004610-1812465000-1812474000@buergertreff-neuendettelsau.de
SUMMARY:Offenes Treffen
DESCRIPTION:Gelegenheit zum geselligen Miteinander\, zum Spiel\, zum persönlichen Gespräch und zur Kontaktaufnahme bei einer Tasse Kaffee oder Tee. Kommen Sie einfach herein … Herzlich willkommen!
URL:https://buergertreff-neuendettelsau.de/veranstaltung/offenes-treffen-7/2027-06-08/
LOCATION:Bürgertreff Neuendettelsau\, Heilsbronner Str. 2\, Neuendettelsau\, Bayern\, 91564\, Deutschland
ATTACH;FMTTYPE=image/jpeg:https://buergertreff-neuendettelsau.de/wp-content/uploads/2023/08/Offener-Treff.jpg
END:VEVENT
BEGIN:VEVENT
DTSTART;TZID=Europe/Berlin:20270713T143000
DTEND;TZID=Europe/Berlin:20270713T170000
DTSTAMP:20260419T173550
CREATED:20251204T203233Z
LAST-MODIFIED:20251204T203304Z
UID:10004611-1815489000-1815498000@buergertreff-neuendettelsau.de
SUMMARY:Offenes Treffen
DESCRIPTION:Gelegenheit zum geselligen Miteinander\, zum Spiel\, zum persönlichen Gespräch und zur Kontaktaufnahme bei einer Tasse Kaffee oder Tee. Kommen Sie einfach herein … Herzlich willkommen!
URL:https://buergertreff-neuendettelsau.de/veranstaltung/offenes-treffen-7/2027-07-13/
LOCATION:Bürgertreff Neuendettelsau\, Heilsbronner Str. 2\, Neuendettelsau\, Bayern\, 91564\, Deutschland
ATTACH;FMTTYPE=image/jpeg:https://buergertreff-neuendettelsau.de/wp-content/uploads/2023/08/Offener-Treff.jpg
END:VEVENT
BEGIN:VEVENT
DTSTART;TZID=Europe/Berlin:20270810T143000
DTEND;TZID=Europe/Berlin:20270810T170000
DTSTAMP:20260419T173550
CREATED:20251204T203233Z
LAST-MODIFIED:20251204T203304Z
UID:10004612-1817908200-1817917200@buergertreff-neuendettelsau.de
SUMMARY:Offenes Treffen
DESCRIPTION:Gelegenheit zum geselligen Miteinander\, zum Spiel\, zum persönlichen Gespräch und zur Kontaktaufnahme bei einer Tasse Kaffee oder Tee. Kommen Sie einfach herein … Herzlich willkommen!
URL:https://buergertreff-neuendettelsau.de/veranstaltung/offenes-treffen-7/2027-08-10/
LOCATION:Bürgertreff Neuendettelsau\, Heilsbronner Str. 2\, Neuendettelsau\, Bayern\, 91564\, Deutschland
ATTACH;FMTTYPE=image/jpeg:https://buergertreff-neuendettelsau.de/wp-content/uploads/2023/08/Offener-Treff.jpg
END:VEVENT
BEGIN:VEVENT
DTSTART;TZID=Europe/Berlin:20270914T143000
DTEND;TZID=Europe/Berlin:20270914T170000
DTSTAMP:20260419T173550
CREATED:20251204T203233Z
LAST-MODIFIED:20251204T203304Z
UID:10004613-1820932200-1820941200@buergertreff-neuendettelsau.de
SUMMARY:Offenes Treffen
DESCRIPTION:Gelegenheit zum geselligen Miteinander\, zum Spiel\, zum persönlichen Gespräch und zur Kontaktaufnahme bei einer Tasse Kaffee oder Tee. Kommen Sie einfach herein … Herzlich willkommen!
URL:https://buergertreff-neuendettelsau.de/veranstaltung/offenes-treffen-7/2027-09-14/
LOCATION:Bürgertreff Neuendettelsau\, Heilsbronner Str. 2\, Neuendettelsau\, Bayern\, 91564\, Deutschland
ATTACH;FMTTYPE=image/jpeg:https://buergertreff-neuendettelsau.de/wp-content/uploads/2023/08/Offener-Treff.jpg
END:VEVENT
BEGIN:VEVENT
DTSTART;TZID=Europe/Berlin:20271012T143000
DTEND;TZID=Europe/Berlin:20271012T170000
DTSTAMP:20260419T173550
CREATED:20251204T203233Z
LAST-MODIFIED:20251204T203304Z
UID:10004614-1823351400-1823360400@buergertreff-neuendettelsau.de
SUMMARY:Offenes Treffen
DESCRIPTION:Gelegenheit zum geselligen Miteinander\, zum Spiel\, zum persönlichen Gespräch und zur Kontaktaufnahme bei einer Tasse Kaffee oder Tee. Kommen Sie einfach herein … Herzlich willkommen!
URL:https://buergertreff-neuendettelsau.de/veranstaltung/offenes-treffen-7/2027-10-12/
LOCATION:Bürgertreff Neuendettelsau\, Heilsbronner Str. 2\, Neuendettelsau\, Bayern\, 91564\, Deutschland
ATTACH;FMTTYPE=image/jpeg:https://buergertreff-neuendettelsau.de/wp-content/uploads/2023/08/Offener-Treff.jpg
END:VEVENT
BEGIN:VEVENT
DTSTART;TZID=Europe/Berlin:20271109T143000
DTEND;TZID=Europe/Berlin:20271109T170000
DTSTAMP:20260419T173550
CREATED:20251204T203233Z
LAST-MODIFIED:20251204T203304Z
UID:10004615-1825770600-1825779600@buergertreff-neuendettelsau.de
SUMMARY:Offenes Treffen
DESCRIPTION:Gelegenheit zum geselligen Miteinander\, zum Spiel\, zum persönlichen Gespräch und zur Kontaktaufnahme bei einer Tasse Kaffee oder Tee. Kommen Sie einfach herein … Herzlich willkommen!
URL:https://buergertreff-neuendettelsau.de/veranstaltung/offenes-treffen-7/2027-11-09/
LOCATION:Bürgertreff Neuendettelsau\, Heilsbronner Str. 2\, Neuendettelsau\, Bayern\, 91564\, Deutschland
ATTACH;FMTTYPE=image/jpeg:https://buergertreff-neuendettelsau.de/wp-content/uploads/2023/08/Offener-Treff.jpg
END:VEVENT
BEGIN:VEVENT
DTSTART;TZID=Europe/Berlin:20271214T143000
DTEND;TZID=Europe/Berlin:20271214T170000
DTSTAMP:20260419T173550
CREATED:20251204T203233Z
LAST-MODIFIED:20251204T203304Z
UID:10004616-1828794600-1828803600@buergertreff-neuendettelsau.de
SUMMARY:Offenes Treffen
DESCRIPTION:Gelegenheit zum geselligen Miteinander\, zum Spiel\, zum persönlichen Gespräch und zur Kontaktaufnahme bei einer Tasse Kaffee oder Tee. Kommen Sie einfach herein … Herzlich willkommen!
URL:https://buergertreff-neuendettelsau.de/veranstaltung/offenes-treffen-7/2027-12-14/
LOCATION:Bürgertreff Neuendettelsau\, Heilsbronner Str. 2\, Neuendettelsau\, Bayern\, 91564\, Deutschland
ATTACH;FMTTYPE=image/jpeg:https://buergertreff-neuendettelsau.de/wp-content/uploads/2023/08/Offener-Treff.jpg
END:VEVENT
BEGIN:VEVENT
DTSTART;TZID=Europe/Berlin:20280111T143000
DTEND;TZID=Europe/Berlin:20280111T170000
DTSTAMP:20260419T173550
CREATED:20251204T203233Z
LAST-MODIFIED:20251204T203304Z
UID:10004617-1831213800-1831222800@buergertreff-neuendettelsau.de
SUMMARY:Offenes Treffen
DESCRIPTION:Gelegenheit zum geselligen Miteinander\, zum Spiel\, zum persönlichen Gespräch und zur Kontaktaufnahme bei einer Tasse Kaffee oder Tee. Kommen Sie einfach herein … Herzlich willkommen!
URL:https://buergertreff-neuendettelsau.de/veranstaltung/offenes-treffen-7/2028-01-11/
LOCATION:Bürgertreff Neuendettelsau\, Heilsbronner Str. 2\, Neuendettelsau\, Bayern\, 91564\, Deutschland
ATTACH;FMTTYPE=image/jpeg:https://buergertreff-neuendettelsau.de/wp-content/uploads/2023/08/Offener-Treff.jpg
END:VEVENT
BEGIN:VEVENT
DTSTART;TZID=Europe/Berlin:20280208T143000
DTEND;TZID=Europe/Berlin:20280208T170000
DTSTAMP:20260419T173550
CREATED:20251204T203233Z
LAST-MODIFIED:20251204T203304Z
UID:10004618-1833633000-1833642000@buergertreff-neuendettelsau.de
SUMMARY:Offenes Treffen
DESCRIPTION:Gelegenheit zum geselligen Miteinander\, zum Spiel\, zum persönlichen Gespräch und zur Kontaktaufnahme bei einer Tasse Kaffee oder Tee. Kommen Sie einfach herein … Herzlich willkommen!
URL:https://buergertreff-neuendettelsau.de/veranstaltung/offenes-treffen-7/2028-02-08/
LOCATION:Bürgertreff Neuendettelsau\, Heilsbronner Str. 2\, Neuendettelsau\, Bayern\, 91564\, Deutschland
ATTACH;FMTTYPE=image/jpeg:https://buergertreff-neuendettelsau.de/wp-content/uploads/2023/08/Offener-Treff.jpg
END:VEVENT
BEGIN:VEVENT
DTSTART;TZID=Europe/Berlin:20280314T143000
DTEND;TZID=Europe/Berlin:20280314T170000
DTSTAMP:20260419T173550
CREATED:20251204T203233Z
LAST-MODIFIED:20251204T203304Z
UID:10004619-1836657000-1836666000@buergertreff-neuendettelsau.de
SUMMARY:Offenes Treffen
DESCRIPTION:Gelegenheit zum geselligen Miteinander\, zum Spiel\, zum persönlichen Gespräch und zur Kontaktaufnahme bei einer Tasse Kaffee oder Tee. Kommen Sie einfach herein … Herzlich willkommen!
URL:https://buergertreff-neuendettelsau.de/veranstaltung/offenes-treffen-7/2028-03-14/
LOCATION:Bürgertreff Neuendettelsau\, Heilsbronner Str. 2\, Neuendettelsau\, Bayern\, 91564\, Deutschland
ATTACH;FMTTYPE=image/jpeg:https://buergertreff-neuendettelsau.de/wp-content/uploads/2023/08/Offener-Treff.jpg
END:VEVENT
BEGIN:VEVENT
DTSTART;TZID=Europe/Berlin:20280411T143000
DTEND;TZID=Europe/Berlin:20280411T170000
DTSTAMP:20260419T173550
CREATED:20251204T203233Z
LAST-MODIFIED:20251204T203304Z
UID:10004620-1839076200-1839085200@buergertreff-neuendettelsau.de
SUMMARY:Offenes Treffen
DESCRIPTION:Gelegenheit zum geselligen Miteinander\, zum Spiel\, zum persönlichen Gespräch und zur Kontaktaufnahme bei einer Tasse Kaffee oder Tee. Kommen Sie einfach herein … Herzlich willkommen!
URL:https://buergertreff-neuendettelsau.de/veranstaltung/offenes-treffen-7/2028-04-11/
LOCATION:Bürgertreff Neuendettelsau\, Heilsbronner Str. 2\, Neuendettelsau\, Bayern\, 91564\, Deutschland
ATTACH;FMTTYPE=image/jpeg:https://buergertreff-neuendettelsau.de/wp-content/uploads/2023/08/Offener-Treff.jpg
END:VEVENT
BEGIN:VEVENT
DTSTART;TZID=Europe/Berlin:20280509T143000
DTEND;TZID=Europe/Berlin:20280509T170000
DTSTAMP:20260419T173550
CREATED:20251204T203233Z
LAST-MODIFIED:20251204T203304Z
UID:10004621-1841495400-1841504400@buergertreff-neuendettelsau.de
SUMMARY:Offenes Treffen
DESCRIPTION:Gelegenheit zum geselligen Miteinander\, zum Spiel\, zum persönlichen Gespräch und zur Kontaktaufnahme bei einer Tasse Kaffee oder Tee. Kommen Sie einfach herein … Herzlich willkommen!
URL:https://buergertreff-neuendettelsau.de/veranstaltung/offenes-treffen-7/2028-05-09/
LOCATION:Bürgertreff Neuendettelsau\, Heilsbronner Str. 2\, Neuendettelsau\, Bayern\, 91564\, Deutschland
ATTACH;FMTTYPE=image/jpeg:https://buergertreff-neuendettelsau.de/wp-content/uploads/2023/08/Offener-Treff.jpg
END:VEVENT
BEGIN:VEVENT
DTSTART;TZID=Europe/Berlin:20280613T143000
DTEND;TZID=Europe/Berlin:20280613T170000
DTSTAMP:20260419T173550
CREATED:20251204T203233Z
LAST-MODIFIED:20251204T203304Z
UID:10004622-1844519400-1844528400@buergertreff-neuendettelsau.de
SUMMARY:Offenes Treffen
DESCRIPTION:Gelegenheit zum geselligen Miteinander\, zum Spiel\, zum persönlichen Gespräch und zur Kontaktaufnahme bei einer Tasse Kaffee oder Tee. Kommen Sie einfach herein … Herzlich willkommen!
URL:https://buergertreff-neuendettelsau.de/veranstaltung/offenes-treffen-7/2028-06-13/
LOCATION:Bürgertreff Neuendettelsau\, Heilsbronner Str. 2\, Neuendettelsau\, Bayern\, 91564\, Deutschland
ATTACH;FMTTYPE=image/jpeg:https://buergertreff-neuendettelsau.de/wp-content/uploads/2023/08/Offener-Treff.jpg
END:VEVENT
BEGIN:VEVENT
DTSTART;TZID=Europe/Berlin:20280711T143000
DTEND;TZID=Europe/Berlin:20280711T170000
DTSTAMP:20260419T173550
CREATED:20251204T203233Z
LAST-MODIFIED:20251204T203304Z
UID:10004623-1846938600-1846947600@buergertreff-neuendettelsau.de
SUMMARY:Offenes Treffen
DESCRIPTION:Gelegenheit zum geselligen Miteinander\, zum Spiel\, zum persönlichen Gespräch und zur Kontaktaufnahme bei einer Tasse Kaffee oder Tee. Kommen Sie einfach herein … Herzlich willkommen!
URL:https://buergertreff-neuendettelsau.de/veranstaltung/offenes-treffen-7/2028-07-11/
LOCATION:Bürgertreff Neuendettelsau\, Heilsbronner Str. 2\, Neuendettelsau\, Bayern\, 91564\, Deutschland
ATTACH;FMTTYPE=image/jpeg:https://buergertreff-neuendettelsau.de/wp-content/uploads/2023/08/Offener-Treff.jpg
END:VEVENT
BEGIN:VEVENT
DTSTART;TZID=Europe/Berlin:20280808T143000
DTEND;TZID=Europe/Berlin:20280808T170000
DTSTAMP:20260419T173550
CREATED:20251204T203233Z
LAST-MODIFIED:20251204T203304Z
UID:10004624-1849357800-1849366800@buergertreff-neuendettelsau.de
SUMMARY:Offenes Treffen
DESCRIPTION:Gelegenheit zum geselligen Miteinander\, zum Spiel\, zum persönlichen Gespräch und zur Kontaktaufnahme bei einer Tasse Kaffee oder Tee. Kommen Sie einfach herein … Herzlich willkommen!
URL:https://buergertreff-neuendettelsau.de/veranstaltung/offenes-treffen-7/2028-08-08/
LOCATION:Bürgertreff Neuendettelsau\, Heilsbronner Str. 2\, Neuendettelsau\, Bayern\, 91564\, Deutschland
ATTACH;FMTTYPE=image/jpeg:https://buergertreff-neuendettelsau.de/wp-content/uploads/2023/08/Offener-Treff.jpg
END:VEVENT
BEGIN:VEVENT
DTSTART;TZID=Europe/Berlin:20280912T143000
DTEND;TZID=Europe/Berlin:20280912T170000
DTSTAMP:20260419T173550
CREATED:20251204T203233Z
LAST-MODIFIED:20251204T203304Z
UID:10004625-1852381800-1852390800@buergertreff-neuendettelsau.de
SUMMARY:Offenes Treffen
DESCRIPTION:Gelegenheit zum geselligen Miteinander\, zum Spiel\, zum persönlichen Gespräch und zur Kontaktaufnahme bei einer Tasse Kaffee oder Tee. Kommen Sie einfach herein … Herzlich willkommen!
URL:https://buergertreff-neuendettelsau.de/veranstaltung/offenes-treffen-7/2028-09-12/
LOCATION:Bürgertreff Neuendettelsau\, Heilsbronner Str. 2\, Neuendettelsau\, Bayern\, 91564\, Deutschland
ATTACH;FMTTYPE=image/jpeg:https://buergertreff-neuendettelsau.de/wp-content/uploads/2023/08/Offener-Treff.jpg
END:VEVENT
BEGIN:VEVENT
DTSTART;TZID=Europe/Berlin:20281010T143000
DTEND;TZID=Europe/Berlin:20281010T170000
DTSTAMP:20260419T173550
CREATED:20251204T203233Z
LAST-MODIFIED:20251204T203304Z
UID:10004626-1854801000-1854810000@buergertreff-neuendettelsau.de
SUMMARY:Offenes Treffen
DESCRIPTION:Gelegenheit zum geselligen Miteinander\, zum Spiel\, zum persönlichen Gespräch und zur Kontaktaufnahme bei einer Tasse Kaffee oder Tee. Kommen Sie einfach herein … Herzlich willkommen!
URL:https://buergertreff-neuendettelsau.de/veranstaltung/offenes-treffen-7/2028-10-10/
LOCATION:Bürgertreff Neuendettelsau\, Heilsbronner Str. 2\, Neuendettelsau\, Bayern\, 91564\, Deutschland
ATTACH;FMTTYPE=image/jpeg:https://buergertreff-neuendettelsau.de/wp-content/uploads/2023/08/Offener-Treff.jpg
END:VEVENT
END:VCALENDAR