BEGIN:VCALENDAR
VERSION:2.0
PRODID:-// - ECPv6.15.20//NONSGML v1.0//EN
CALSCALE:GREGORIAN
METHOD:PUBLISH
X-ORIGINAL-URL:https://buergertreff-neuendettelsau.de
X-WR-CALDESC:Veranstaltungen für 
REFRESH-INTERVAL;VALUE=DURATION:PT1H
X-Robots-Tag:noindex
X-PUBLISHED-TTL:PT1H
BEGIN:VTIMEZONE
TZID:Europe/Berlin
BEGIN:DAYLIGHT
TZOFFSETFROM:+0100
TZOFFSETTO:+0200
TZNAME:CEST
DTSTART:20250330T010000
END:DAYLIGHT
BEGIN:STANDARD
TZOFFSETFROM:+0200
TZOFFSETTO:+0100
TZNAME:CET
DTSTART:20251026T010000
END:STANDARD
BEGIN:DAYLIGHT
TZOFFSETFROM:+0100
TZOFFSETTO:+0200
TZNAME:CEST
DTSTART:20260329T010000
END:DAYLIGHT
BEGIN:STANDARD
TZOFFSETFROM:+0200
TZOFFSETTO:+0100
TZNAME:CET
DTSTART:20261025T010000
END:STANDARD
BEGIN:DAYLIGHT
TZOFFSETFROM:+0100
TZOFFSETTO:+0200
TZNAME:CEST
DTSTART:20270328T010000
END:DAYLIGHT
BEGIN:STANDARD
TZOFFSETFROM:+0200
TZOFFSETTO:+0100
TZNAME:CET
DTSTART:20271031T010000
END:STANDARD
BEGIN:DAYLIGHT
TZOFFSETFROM:+0100
TZOFFSETTO:+0200
TZNAME:CEST
DTSTART:20280326T010000
END:DAYLIGHT
BEGIN:STANDARD
TZOFFSETFROM:+0200
TZOFFSETTO:+0100
TZNAME:CET
DTSTART:20281029T010000
END:STANDARD
BEGIN:DAYLIGHT
TZOFFSETFROM:+0100
TZOFFSETTO:+0200
TZNAME:CEST
DTSTART:20290325T010000
END:DAYLIGHT
BEGIN:STANDARD
TZOFFSETFROM:+0200
TZOFFSETTO:+0100
TZNAME:CET
DTSTART:20291028T010000
END:STANDARD
END:VTIMEZONE
BEGIN:VEVENT
DTSTART;TZID=Europe/Berlin:20260428T143000
DTEND;TZID=Europe/Berlin:20260428T170000
DTSTAMP:20260419T174546
CREATED:20251030T143859Z
LAST-MODIFIED:20251204T203856Z
UID:10004714-1777386600-1777395600@buergertreff-neuendettelsau.de
SUMMARY:Offenes Treffen
DESCRIPTION:Gelegenheit zum geselligen Miteinander\, zum Spiel\, zum persönlichen Gespräch und zur Kontaktaufnahme bei einer Tasse Kaffee oder Tee. Kommen Sie einfach herein … Herzlich willkommen!
URL:https://buergertreff-neuendettelsau.de/veranstaltung/offenes-treffen-5/2026-04-28/
LOCATION:Bürgertreff Neuendettelsau\, Heilsbronner Str. 2\, Neuendettelsau\, Bayern\, 91564\, Deutschland
ATTACH;FMTTYPE=image/jpeg:https://buergertreff-neuendettelsau.de/wp-content/uploads/2023/08/Offener-Treff.jpg
END:VEVENT
BEGIN:VEVENT
DTSTART;TZID=Europe/Berlin:20260526T143000
DTEND;TZID=Europe/Berlin:20260526T170000
DTSTAMP:20260419T174546
CREATED:20251030T143859Z
LAST-MODIFIED:20251204T203856Z
UID:10004715-1779805800-1779814800@buergertreff-neuendettelsau.de
SUMMARY:Offenes Treffen
DESCRIPTION:Gelegenheit zum geselligen Miteinander\, zum Spiel\, zum persönlichen Gespräch und zur Kontaktaufnahme bei einer Tasse Kaffee oder Tee. Kommen Sie einfach herein … Herzlich willkommen!
URL:https://buergertreff-neuendettelsau.de/veranstaltung/offenes-treffen-5/2026-05-26/
LOCATION:Bürgertreff Neuendettelsau\, Heilsbronner Str. 2\, Neuendettelsau\, Bayern\, 91564\, Deutschland
ATTACH;FMTTYPE=image/jpeg:https://buergertreff-neuendettelsau.de/wp-content/uploads/2023/08/Offener-Treff.jpg
END:VEVENT
BEGIN:VEVENT
DTSTART;TZID=Europe/Berlin:20260623T143000
DTEND;TZID=Europe/Berlin:20260623T170000
DTSTAMP:20260419T174546
CREATED:20251030T143859Z
LAST-MODIFIED:20251204T203856Z
UID:10004716-1782225000-1782234000@buergertreff-neuendettelsau.de
SUMMARY:Offenes Treffen
DESCRIPTION:Gelegenheit zum geselligen Miteinander\, zum Spiel\, zum persönlichen Gespräch und zur Kontaktaufnahme bei einer Tasse Kaffee oder Tee. Kommen Sie einfach herein … Herzlich willkommen!
URL:https://buergertreff-neuendettelsau.de/veranstaltung/offenes-treffen-5/2026-06-23/
LOCATION:Bürgertreff Neuendettelsau\, Heilsbronner Str. 2\, Neuendettelsau\, Bayern\, 91564\, Deutschland
ATTACH;FMTTYPE=image/jpeg:https://buergertreff-neuendettelsau.de/wp-content/uploads/2023/08/Offener-Treff.jpg
END:VEVENT
BEGIN:VEVENT
DTSTART;TZID=Europe/Berlin:20260728T143000
DTEND;TZID=Europe/Berlin:20260728T170000
DTSTAMP:20260419T174546
CREATED:20251030T143859Z
LAST-MODIFIED:20251204T203856Z
UID:10004717-1785249000-1785258000@buergertreff-neuendettelsau.de
SUMMARY:Offenes Treffen
DESCRIPTION:Gelegenheit zum geselligen Miteinander\, zum Spiel\, zum persönlichen Gespräch und zur Kontaktaufnahme bei einer Tasse Kaffee oder Tee. Kommen Sie einfach herein … Herzlich willkommen!
URL:https://buergertreff-neuendettelsau.de/veranstaltung/offenes-treffen-5/2026-07-28/
LOCATION:Bürgertreff Neuendettelsau\, Heilsbronner Str. 2\, Neuendettelsau\, Bayern\, 91564\, Deutschland
ATTACH;FMTTYPE=image/jpeg:https://buergertreff-neuendettelsau.de/wp-content/uploads/2023/08/Offener-Treff.jpg
END:VEVENT
BEGIN:VEVENT
DTSTART;TZID=Europe/Berlin:20260825T143000
DTEND;TZID=Europe/Berlin:20260825T170000
DTSTAMP:20260419T174546
CREATED:20251030T143859Z
LAST-MODIFIED:20251204T203856Z
UID:10004718-1787668200-1787677200@buergertreff-neuendettelsau.de
SUMMARY:Offenes Treffen
DESCRIPTION:Gelegenheit zum geselligen Miteinander\, zum Spiel\, zum persönlichen Gespräch und zur Kontaktaufnahme bei einer Tasse Kaffee oder Tee. Kommen Sie einfach herein … Herzlich willkommen!
URL:https://buergertreff-neuendettelsau.de/veranstaltung/offenes-treffen-5/2026-08-25/
LOCATION:Bürgertreff Neuendettelsau\, Heilsbronner Str. 2\, Neuendettelsau\, Bayern\, 91564\, Deutschland
ATTACH;FMTTYPE=image/jpeg:https://buergertreff-neuendettelsau.de/wp-content/uploads/2023/08/Offener-Treff.jpg
END:VEVENT
BEGIN:VEVENT
DTSTART;TZID=Europe/Berlin:20260922T143000
DTEND;TZID=Europe/Berlin:20260922T170000
DTSTAMP:20260419T174546
CREATED:20251030T143859Z
LAST-MODIFIED:20251204T203856Z
UID:10004719-1790087400-1790096400@buergertreff-neuendettelsau.de
SUMMARY:Offenes Treffen
DESCRIPTION:Gelegenheit zum geselligen Miteinander\, zum Spiel\, zum persönlichen Gespräch und zur Kontaktaufnahme bei einer Tasse Kaffee oder Tee. Kommen Sie einfach herein … Herzlich willkommen!
URL:https://buergertreff-neuendettelsau.de/veranstaltung/offenes-treffen-5/2026-09-22/
LOCATION:Bürgertreff Neuendettelsau\, Heilsbronner Str. 2\, Neuendettelsau\, Bayern\, 91564\, Deutschland
ATTACH;FMTTYPE=image/jpeg:https://buergertreff-neuendettelsau.de/wp-content/uploads/2023/08/Offener-Treff.jpg
END:VEVENT
BEGIN:VEVENT
DTSTART;TZID=Europe/Berlin:20261027T143000
DTEND;TZID=Europe/Berlin:20261027T170000
DTSTAMP:20260419T174546
CREATED:20251030T143859Z
LAST-MODIFIED:20251204T203856Z
UID:10004720-1793111400-1793120400@buergertreff-neuendettelsau.de
SUMMARY:Offenes Treffen
DESCRIPTION:Gelegenheit zum geselligen Miteinander\, zum Spiel\, zum persönlichen Gespräch und zur Kontaktaufnahme bei einer Tasse Kaffee oder Tee. Kommen Sie einfach herein … Herzlich willkommen!
URL:https://buergertreff-neuendettelsau.de/veranstaltung/offenes-treffen-5/2026-10-27/
LOCATION:Bürgertreff Neuendettelsau\, Heilsbronner Str. 2\, Neuendettelsau\, Bayern\, 91564\, Deutschland
ATTACH;FMTTYPE=image/jpeg:https://buergertreff-neuendettelsau.de/wp-content/uploads/2023/08/Offener-Treff.jpg
END:VEVENT
BEGIN:VEVENT
DTSTART;TZID=Europe/Berlin:20261124T143000
DTEND;TZID=Europe/Berlin:20261124T170000
DTSTAMP:20260419T174546
CREATED:20251030T143859Z
LAST-MODIFIED:20251204T203856Z
UID:10004721-1795530600-1795539600@buergertreff-neuendettelsau.de
SUMMARY:Offenes Treffen
DESCRIPTION:Gelegenheit zum geselligen Miteinander\, zum Spiel\, zum persönlichen Gespräch und zur Kontaktaufnahme bei einer Tasse Kaffee oder Tee. Kommen Sie einfach herein … Herzlich willkommen!
URL:https://buergertreff-neuendettelsau.de/veranstaltung/offenes-treffen-5/2026-11-24/
LOCATION:Bürgertreff Neuendettelsau\, Heilsbronner Str. 2\, Neuendettelsau\, Bayern\, 91564\, Deutschland
ATTACH;FMTTYPE=image/jpeg:https://buergertreff-neuendettelsau.de/wp-content/uploads/2023/08/Offener-Treff.jpg
END:VEVENT
BEGIN:VEVENT
DTSTART;TZID=Europe/Berlin:20261222T143000
DTEND;TZID=Europe/Berlin:20261222T170000
DTSTAMP:20260419T174546
CREATED:20251030T143859Z
LAST-MODIFIED:20251204T203856Z
UID:10004722-1797949800-1797958800@buergertreff-neuendettelsau.de
SUMMARY:Offenes Treffen
DESCRIPTION:Gelegenheit zum geselligen Miteinander\, zum Spiel\, zum persönlichen Gespräch und zur Kontaktaufnahme bei einer Tasse Kaffee oder Tee. Kommen Sie einfach herein … Herzlich willkommen!
URL:https://buergertreff-neuendettelsau.de/veranstaltung/offenes-treffen-5/2026-12-22/
LOCATION:Bürgertreff Neuendettelsau\, Heilsbronner Str. 2\, Neuendettelsau\, Bayern\, 91564\, Deutschland
ATTACH;FMTTYPE=image/jpeg:https://buergertreff-neuendettelsau.de/wp-content/uploads/2023/08/Offener-Treff.jpg
END:VEVENT
BEGIN:VEVENT
DTSTART;TZID=Europe/Berlin:20270126T143000
DTEND;TZID=Europe/Berlin:20270126T170000
DTSTAMP:20260419T174546
CREATED:20251030T143859Z
LAST-MODIFIED:20251204T203856Z
UID:10004723-1800973800-1800982800@buergertreff-neuendettelsau.de
SUMMARY:Offenes Treffen
DESCRIPTION:Gelegenheit zum geselligen Miteinander\, zum Spiel\, zum persönlichen Gespräch und zur Kontaktaufnahme bei einer Tasse Kaffee oder Tee. Kommen Sie einfach herein … Herzlich willkommen!
URL:https://buergertreff-neuendettelsau.de/veranstaltung/offenes-treffen-5/2027-01-26/
LOCATION:Bürgertreff Neuendettelsau\, Heilsbronner Str. 2\, Neuendettelsau\, Bayern\, 91564\, Deutschland
ATTACH;FMTTYPE=image/jpeg:https://buergertreff-neuendettelsau.de/wp-content/uploads/2023/08/Offener-Treff.jpg
END:VEVENT
BEGIN:VEVENT
DTSTART;TZID=Europe/Berlin:20270223T143000
DTEND;TZID=Europe/Berlin:20270223T170000
DTSTAMP:20260419T174546
CREATED:20251030T143859Z
LAST-MODIFIED:20251204T203856Z
UID:10004724-1803393000-1803402000@buergertreff-neuendettelsau.de
SUMMARY:Offenes Treffen
DESCRIPTION:Gelegenheit zum geselligen Miteinander\, zum Spiel\, zum persönlichen Gespräch und zur Kontaktaufnahme bei einer Tasse Kaffee oder Tee. Kommen Sie einfach herein … Herzlich willkommen!
URL:https://buergertreff-neuendettelsau.de/veranstaltung/offenes-treffen-5/2027-02-23/
LOCATION:Bürgertreff Neuendettelsau\, Heilsbronner Str. 2\, Neuendettelsau\, Bayern\, 91564\, Deutschland
ATTACH;FMTTYPE=image/jpeg:https://buergertreff-neuendettelsau.de/wp-content/uploads/2023/08/Offener-Treff.jpg
END:VEVENT
BEGIN:VEVENT
DTSTART;TZID=Europe/Berlin:20270323T143000
DTEND;TZID=Europe/Berlin:20270323T170000
DTSTAMP:20260419T174546
CREATED:20251030T143859Z
LAST-MODIFIED:20251204T203856Z
UID:10004725-1805812200-1805821200@buergertreff-neuendettelsau.de
SUMMARY:Offenes Treffen
DESCRIPTION:Gelegenheit zum geselligen Miteinander\, zum Spiel\, zum persönlichen Gespräch und zur Kontaktaufnahme bei einer Tasse Kaffee oder Tee. Kommen Sie einfach herein … Herzlich willkommen!
URL:https://buergertreff-neuendettelsau.de/veranstaltung/offenes-treffen-5/2027-03-23/
LOCATION:Bürgertreff Neuendettelsau\, Heilsbronner Str. 2\, Neuendettelsau\, Bayern\, 91564\, Deutschland
ATTACH;FMTTYPE=image/jpeg:https://buergertreff-neuendettelsau.de/wp-content/uploads/2023/08/Offener-Treff.jpg
END:VEVENT
BEGIN:VEVENT
DTSTART;TZID=Europe/Berlin:20270427T143000
DTEND;TZID=Europe/Berlin:20270427T170000
DTSTAMP:20260419T174546
CREATED:20251030T143859Z
LAST-MODIFIED:20251204T203856Z
UID:10004726-1808836200-1808845200@buergertreff-neuendettelsau.de
SUMMARY:Offenes Treffen
DESCRIPTION:Gelegenheit zum geselligen Miteinander\, zum Spiel\, zum persönlichen Gespräch und zur Kontaktaufnahme bei einer Tasse Kaffee oder Tee. Kommen Sie einfach herein … Herzlich willkommen!
URL:https://buergertreff-neuendettelsau.de/veranstaltung/offenes-treffen-5/2027-04-27/
LOCATION:Bürgertreff Neuendettelsau\, Heilsbronner Str. 2\, Neuendettelsau\, Bayern\, 91564\, Deutschland
ATTACH;FMTTYPE=image/jpeg:https://buergertreff-neuendettelsau.de/wp-content/uploads/2023/08/Offener-Treff.jpg
END:VEVENT
BEGIN:VEVENT
DTSTART;TZID=Europe/Berlin:20270525T143000
DTEND;TZID=Europe/Berlin:20270525T170000
DTSTAMP:20260419T174546
CREATED:20251030T143859Z
LAST-MODIFIED:20251204T203856Z
UID:10004727-1811255400-1811264400@buergertreff-neuendettelsau.de
SUMMARY:Offenes Treffen
DESCRIPTION:Gelegenheit zum geselligen Miteinander\, zum Spiel\, zum persönlichen Gespräch und zur Kontaktaufnahme bei einer Tasse Kaffee oder Tee. Kommen Sie einfach herein … Herzlich willkommen!
URL:https://buergertreff-neuendettelsau.de/veranstaltung/offenes-treffen-5/2027-05-25/
LOCATION:Bürgertreff Neuendettelsau\, Heilsbronner Str. 2\, Neuendettelsau\, Bayern\, 91564\, Deutschland
ATTACH;FMTTYPE=image/jpeg:https://buergertreff-neuendettelsau.de/wp-content/uploads/2023/08/Offener-Treff.jpg
END:VEVENT
BEGIN:VEVENT
DTSTART;TZID=Europe/Berlin:20270622T143000
DTEND;TZID=Europe/Berlin:20270622T170000
DTSTAMP:20260419T174546
CREATED:20251030T143859Z
LAST-MODIFIED:20251204T203856Z
UID:10004728-1813674600-1813683600@buergertreff-neuendettelsau.de
SUMMARY:Offenes Treffen
DESCRIPTION:Gelegenheit zum geselligen Miteinander\, zum Spiel\, zum persönlichen Gespräch und zur Kontaktaufnahme bei einer Tasse Kaffee oder Tee. Kommen Sie einfach herein … Herzlich willkommen!
URL:https://buergertreff-neuendettelsau.de/veranstaltung/offenes-treffen-5/2027-06-22/
LOCATION:Bürgertreff Neuendettelsau\, Heilsbronner Str. 2\, Neuendettelsau\, Bayern\, 91564\, Deutschland
ATTACH;FMTTYPE=image/jpeg:https://buergertreff-neuendettelsau.de/wp-content/uploads/2023/08/Offener-Treff.jpg
END:VEVENT
BEGIN:VEVENT
DTSTART;TZID=Europe/Berlin:20270727T143000
DTEND;TZID=Europe/Berlin:20270727T170000
DTSTAMP:20260419T174546
CREATED:20251030T143859Z
LAST-MODIFIED:20251204T203856Z
UID:10004729-1816698600-1816707600@buergertreff-neuendettelsau.de
SUMMARY:Offenes Treffen
DESCRIPTION:Gelegenheit zum geselligen Miteinander\, zum Spiel\, zum persönlichen Gespräch und zur Kontaktaufnahme bei einer Tasse Kaffee oder Tee. Kommen Sie einfach herein … Herzlich willkommen!
URL:https://buergertreff-neuendettelsau.de/veranstaltung/offenes-treffen-5/2027-07-27/
LOCATION:Bürgertreff Neuendettelsau\, Heilsbronner Str. 2\, Neuendettelsau\, Bayern\, 91564\, Deutschland
ATTACH;FMTTYPE=image/jpeg:https://buergertreff-neuendettelsau.de/wp-content/uploads/2023/08/Offener-Treff.jpg
END:VEVENT
BEGIN:VEVENT
DTSTART;TZID=Europe/Berlin:20270824T143000
DTEND;TZID=Europe/Berlin:20270824T170000
DTSTAMP:20260419T174546
CREATED:20251030T143859Z
LAST-MODIFIED:20251204T203856Z
UID:10004730-1819117800-1819126800@buergertreff-neuendettelsau.de
SUMMARY:Offenes Treffen
DESCRIPTION:Gelegenheit zum geselligen Miteinander\, zum Spiel\, zum persönlichen Gespräch und zur Kontaktaufnahme bei einer Tasse Kaffee oder Tee. Kommen Sie einfach herein … Herzlich willkommen!
URL:https://buergertreff-neuendettelsau.de/veranstaltung/offenes-treffen-5/2027-08-24/
LOCATION:Bürgertreff Neuendettelsau\, Heilsbronner Str. 2\, Neuendettelsau\, Bayern\, 91564\, Deutschland
ATTACH;FMTTYPE=image/jpeg:https://buergertreff-neuendettelsau.de/wp-content/uploads/2023/08/Offener-Treff.jpg
END:VEVENT
BEGIN:VEVENT
DTSTART;TZID=Europe/Berlin:20270928T143000
DTEND;TZID=Europe/Berlin:20270928T170000
DTSTAMP:20260419T174546
CREATED:20251030T143859Z
LAST-MODIFIED:20251204T203856Z
UID:10004731-1822141800-1822150800@buergertreff-neuendettelsau.de
SUMMARY:Offenes Treffen
DESCRIPTION:Gelegenheit zum geselligen Miteinander\, zum Spiel\, zum persönlichen Gespräch und zur Kontaktaufnahme bei einer Tasse Kaffee oder Tee. Kommen Sie einfach herein … Herzlich willkommen!
URL:https://buergertreff-neuendettelsau.de/veranstaltung/offenes-treffen-5/2027-09-28/
LOCATION:Bürgertreff Neuendettelsau\, Heilsbronner Str. 2\, Neuendettelsau\, Bayern\, 91564\, Deutschland
ATTACH;FMTTYPE=image/jpeg:https://buergertreff-neuendettelsau.de/wp-content/uploads/2023/08/Offener-Treff.jpg
END:VEVENT
BEGIN:VEVENT
DTSTART;TZID=Europe/Berlin:20271026T143000
DTEND;TZID=Europe/Berlin:20271026T170000
DTSTAMP:20260419T174546
CREATED:20251030T143859Z
LAST-MODIFIED:20251204T203856Z
UID:10004732-1824561000-1824570000@buergertreff-neuendettelsau.de
SUMMARY:Offenes Treffen
DESCRIPTION:Gelegenheit zum geselligen Miteinander\, zum Spiel\, zum persönlichen Gespräch und zur Kontaktaufnahme bei einer Tasse Kaffee oder Tee. Kommen Sie einfach herein … Herzlich willkommen!
URL:https://buergertreff-neuendettelsau.de/veranstaltung/offenes-treffen-5/2027-10-26/
LOCATION:Bürgertreff Neuendettelsau\, Heilsbronner Str. 2\, Neuendettelsau\, Bayern\, 91564\, Deutschland
ATTACH;FMTTYPE=image/jpeg:https://buergertreff-neuendettelsau.de/wp-content/uploads/2023/08/Offener-Treff.jpg
END:VEVENT
BEGIN:VEVENT
DTSTART;TZID=Europe/Berlin:20271123T143000
DTEND;TZID=Europe/Berlin:20271123T170000
DTSTAMP:20260419T174546
CREATED:20251030T143859Z
LAST-MODIFIED:20251204T203856Z
UID:10004733-1826980200-1826989200@buergertreff-neuendettelsau.de
SUMMARY:Offenes Treffen
DESCRIPTION:Gelegenheit zum geselligen Miteinander\, zum Spiel\, zum persönlichen Gespräch und zur Kontaktaufnahme bei einer Tasse Kaffee oder Tee. Kommen Sie einfach herein … Herzlich willkommen!
URL:https://buergertreff-neuendettelsau.de/veranstaltung/offenes-treffen-5/2027-11-23/
LOCATION:Bürgertreff Neuendettelsau\, Heilsbronner Str. 2\, Neuendettelsau\, Bayern\, 91564\, Deutschland
ATTACH;FMTTYPE=image/jpeg:https://buergertreff-neuendettelsau.de/wp-content/uploads/2023/08/Offener-Treff.jpg
END:VEVENT
BEGIN:VEVENT
DTSTART;TZID=Europe/Berlin:20271228T143000
DTEND;TZID=Europe/Berlin:20271228T170000
DTSTAMP:20260419T174546
CREATED:20251030T143859Z
LAST-MODIFIED:20251204T203856Z
UID:10004734-1830004200-1830013200@buergertreff-neuendettelsau.de
SUMMARY:Offenes Treffen
DESCRIPTION:Gelegenheit zum geselligen Miteinander\, zum Spiel\, zum persönlichen Gespräch und zur Kontaktaufnahme bei einer Tasse Kaffee oder Tee. Kommen Sie einfach herein … Herzlich willkommen!
URL:https://buergertreff-neuendettelsau.de/veranstaltung/offenes-treffen-5/2027-12-28/
LOCATION:Bürgertreff Neuendettelsau\, Heilsbronner Str. 2\, Neuendettelsau\, Bayern\, 91564\, Deutschland
ATTACH;FMTTYPE=image/jpeg:https://buergertreff-neuendettelsau.de/wp-content/uploads/2023/08/Offener-Treff.jpg
END:VEVENT
BEGIN:VEVENT
DTSTART;TZID=Europe/Berlin:20280125T143000
DTEND;TZID=Europe/Berlin:20280125T170000
DTSTAMP:20260419T174546
CREATED:20251030T143859Z
LAST-MODIFIED:20251204T203856Z
UID:10004735-1832423400-1832432400@buergertreff-neuendettelsau.de
SUMMARY:Offenes Treffen
DESCRIPTION:Gelegenheit zum geselligen Miteinander\, zum Spiel\, zum persönlichen Gespräch und zur Kontaktaufnahme bei einer Tasse Kaffee oder Tee. Kommen Sie einfach herein … Herzlich willkommen!
URL:https://buergertreff-neuendettelsau.de/veranstaltung/offenes-treffen-5/2028-01-25/
LOCATION:Bürgertreff Neuendettelsau\, Heilsbronner Str. 2\, Neuendettelsau\, Bayern\, 91564\, Deutschland
ATTACH;FMTTYPE=image/jpeg:https://buergertreff-neuendettelsau.de/wp-content/uploads/2023/08/Offener-Treff.jpg
END:VEVENT
BEGIN:VEVENT
DTSTART;TZID=Europe/Berlin:20280222T143000
DTEND;TZID=Europe/Berlin:20280222T170000
DTSTAMP:20260419T174546
CREATED:20251030T143859Z
LAST-MODIFIED:20251204T203856Z
UID:10004736-1834842600-1834851600@buergertreff-neuendettelsau.de
SUMMARY:Offenes Treffen
DESCRIPTION:Gelegenheit zum geselligen Miteinander\, zum Spiel\, zum persönlichen Gespräch und zur Kontaktaufnahme bei einer Tasse Kaffee oder Tee. Kommen Sie einfach herein … Herzlich willkommen!
URL:https://buergertreff-neuendettelsau.de/veranstaltung/offenes-treffen-5/2028-02-22/
LOCATION:Bürgertreff Neuendettelsau\, Heilsbronner Str. 2\, Neuendettelsau\, Bayern\, 91564\, Deutschland
ATTACH;FMTTYPE=image/jpeg:https://buergertreff-neuendettelsau.de/wp-content/uploads/2023/08/Offener-Treff.jpg
END:VEVENT
BEGIN:VEVENT
DTSTART;TZID=Europe/Berlin:20280328T143000
DTEND;TZID=Europe/Berlin:20280328T170000
DTSTAMP:20260419T174546
CREATED:20251030T143859Z
LAST-MODIFIED:20251204T203856Z
UID:10004737-1837866600-1837875600@buergertreff-neuendettelsau.de
SUMMARY:Offenes Treffen
DESCRIPTION:Gelegenheit zum geselligen Miteinander\, zum Spiel\, zum persönlichen Gespräch und zur Kontaktaufnahme bei einer Tasse Kaffee oder Tee. Kommen Sie einfach herein … Herzlich willkommen!
URL:https://buergertreff-neuendettelsau.de/veranstaltung/offenes-treffen-5/2028-03-28/
LOCATION:Bürgertreff Neuendettelsau\, Heilsbronner Str. 2\, Neuendettelsau\, Bayern\, 91564\, Deutschland
ATTACH;FMTTYPE=image/jpeg:https://buergertreff-neuendettelsau.de/wp-content/uploads/2023/08/Offener-Treff.jpg
END:VEVENT
BEGIN:VEVENT
DTSTART;TZID=Europe/Berlin:20280425T143000
DTEND;TZID=Europe/Berlin:20280425T170000
DTSTAMP:20260419T174546
CREATED:20251030T143859Z
LAST-MODIFIED:20251204T203856Z
UID:10004738-1840285800-1840294800@buergertreff-neuendettelsau.de
SUMMARY:Offenes Treffen
DESCRIPTION:Gelegenheit zum geselligen Miteinander\, zum Spiel\, zum persönlichen Gespräch und zur Kontaktaufnahme bei einer Tasse Kaffee oder Tee. Kommen Sie einfach herein … Herzlich willkommen!
URL:https://buergertreff-neuendettelsau.de/veranstaltung/offenes-treffen-5/2028-04-25/
LOCATION:Bürgertreff Neuendettelsau\, Heilsbronner Str. 2\, Neuendettelsau\, Bayern\, 91564\, Deutschland
ATTACH;FMTTYPE=image/jpeg:https://buergertreff-neuendettelsau.de/wp-content/uploads/2023/08/Offener-Treff.jpg
END:VEVENT
BEGIN:VEVENT
DTSTART;TZID=Europe/Berlin:20280523T143000
DTEND;TZID=Europe/Berlin:20280523T170000
DTSTAMP:20260419T174546
CREATED:20251030T143859Z
LAST-MODIFIED:20251204T203856Z
UID:10004739-1842705000-1842714000@buergertreff-neuendettelsau.de
SUMMARY:Offenes Treffen
DESCRIPTION:Gelegenheit zum geselligen Miteinander\, zum Spiel\, zum persönlichen Gespräch und zur Kontaktaufnahme bei einer Tasse Kaffee oder Tee. Kommen Sie einfach herein … Herzlich willkommen!
URL:https://buergertreff-neuendettelsau.de/veranstaltung/offenes-treffen-5/2028-05-23/
LOCATION:Bürgertreff Neuendettelsau\, Heilsbronner Str. 2\, Neuendettelsau\, Bayern\, 91564\, Deutschland
ATTACH;FMTTYPE=image/jpeg:https://buergertreff-neuendettelsau.de/wp-content/uploads/2023/08/Offener-Treff.jpg
END:VEVENT
BEGIN:VEVENT
DTSTART;TZID=Europe/Berlin:20280627T143000
DTEND;TZID=Europe/Berlin:20280627T170000
DTSTAMP:20260419T174546
CREATED:20251030T143859Z
LAST-MODIFIED:20251204T203856Z
UID:10004740-1845729000-1845738000@buergertreff-neuendettelsau.de
SUMMARY:Offenes Treffen
DESCRIPTION:Gelegenheit zum geselligen Miteinander\, zum Spiel\, zum persönlichen Gespräch und zur Kontaktaufnahme bei einer Tasse Kaffee oder Tee. Kommen Sie einfach herein … Herzlich willkommen!
URL:https://buergertreff-neuendettelsau.de/veranstaltung/offenes-treffen-5/2028-06-27/
LOCATION:Bürgertreff Neuendettelsau\, Heilsbronner Str. 2\, Neuendettelsau\, Bayern\, 91564\, Deutschland
ATTACH;FMTTYPE=image/jpeg:https://buergertreff-neuendettelsau.de/wp-content/uploads/2023/08/Offener-Treff.jpg
END:VEVENT
BEGIN:VEVENT
DTSTART;TZID=Europe/Berlin:20280725T143000
DTEND;TZID=Europe/Berlin:20280725T170000
DTSTAMP:20260419T174546
CREATED:20251030T143859Z
LAST-MODIFIED:20251204T203856Z
UID:10004741-1848148200-1848157200@buergertreff-neuendettelsau.de
SUMMARY:Offenes Treffen
DESCRIPTION:Gelegenheit zum geselligen Miteinander\, zum Spiel\, zum persönlichen Gespräch und zur Kontaktaufnahme bei einer Tasse Kaffee oder Tee. Kommen Sie einfach herein … Herzlich willkommen!
URL:https://buergertreff-neuendettelsau.de/veranstaltung/offenes-treffen-5/2028-07-25/
LOCATION:Bürgertreff Neuendettelsau\, Heilsbronner Str. 2\, Neuendettelsau\, Bayern\, 91564\, Deutschland
ATTACH;FMTTYPE=image/jpeg:https://buergertreff-neuendettelsau.de/wp-content/uploads/2023/08/Offener-Treff.jpg
END:VEVENT
BEGIN:VEVENT
DTSTART;TZID=Europe/Berlin:20280822T143000
DTEND;TZID=Europe/Berlin:20280822T170000
DTSTAMP:20260419T174546
CREATED:20251030T143859Z
LAST-MODIFIED:20251204T203856Z
UID:10004742-1850567400-1850576400@buergertreff-neuendettelsau.de
SUMMARY:Offenes Treffen
DESCRIPTION:Gelegenheit zum geselligen Miteinander\, zum Spiel\, zum persönlichen Gespräch und zur Kontaktaufnahme bei einer Tasse Kaffee oder Tee. Kommen Sie einfach herein … Herzlich willkommen!
URL:https://buergertreff-neuendettelsau.de/veranstaltung/offenes-treffen-5/2028-08-22/
LOCATION:Bürgertreff Neuendettelsau\, Heilsbronner Str. 2\, Neuendettelsau\, Bayern\, 91564\, Deutschland
ATTACH;FMTTYPE=image/jpeg:https://buergertreff-neuendettelsau.de/wp-content/uploads/2023/08/Offener-Treff.jpg
END:VEVENT
BEGIN:VEVENT
DTSTART;TZID=Europe/Berlin:20280926T143000
DTEND;TZID=Europe/Berlin:20280926T170000
DTSTAMP:20260419T174546
CREATED:20251030T143859Z
LAST-MODIFIED:20251204T203856Z
UID:10004743-1853591400-1853600400@buergertreff-neuendettelsau.de
SUMMARY:Offenes Treffen
DESCRIPTION:Gelegenheit zum geselligen Miteinander\, zum Spiel\, zum persönlichen Gespräch und zur Kontaktaufnahme bei einer Tasse Kaffee oder Tee. Kommen Sie einfach herein … Herzlich willkommen!
URL:https://buergertreff-neuendettelsau.de/veranstaltung/offenes-treffen-5/2028-09-26/
LOCATION:Bürgertreff Neuendettelsau\, Heilsbronner Str. 2\, Neuendettelsau\, Bayern\, 91564\, Deutschland
ATTACH;FMTTYPE=image/jpeg:https://buergertreff-neuendettelsau.de/wp-content/uploads/2023/08/Offener-Treff.jpg
END:VEVENT
END:VCALENDAR