BEGIN:VCALENDAR
VERSION:2.0
PRODID:-// - ECPv6.15.20//NONSGML v1.0//EN
CALSCALE:GREGORIAN
METHOD:PUBLISH
X-ORIGINAL-URL:https://buergertreff-neuendettelsau.de
X-WR-CALDESC:Veranstaltungen für 
REFRESH-INTERVAL;VALUE=DURATION:PT1H
X-Robots-Tag:noindex
X-PUBLISHED-TTL:PT1H
BEGIN:VTIMEZONE
TZID:Europe/Berlin
BEGIN:DAYLIGHT
TZOFFSETFROM:+0100
TZOFFSETTO:+0200
TZNAME:CEST
DTSTART:20250330T010000
END:DAYLIGHT
BEGIN:STANDARD
TZOFFSETFROM:+0200
TZOFFSETTO:+0100
TZNAME:CET
DTSTART:20251026T010000
END:STANDARD
BEGIN:DAYLIGHT
TZOFFSETFROM:+0100
TZOFFSETTO:+0200
TZNAME:CEST
DTSTART:20260329T010000
END:DAYLIGHT
BEGIN:STANDARD
TZOFFSETFROM:+0200
TZOFFSETTO:+0100
TZNAME:CET
DTSTART:20261025T010000
END:STANDARD
BEGIN:DAYLIGHT
TZOFFSETFROM:+0100
TZOFFSETTO:+0200
TZNAME:CEST
DTSTART:20270328T010000
END:DAYLIGHT
BEGIN:STANDARD
TZOFFSETFROM:+0200
TZOFFSETTO:+0100
TZNAME:CET
DTSTART:20271031T010000
END:STANDARD
END:VTIMEZONE
BEGIN:VEVENT
DTSTART;TZID=Europe/Berlin:20260511T180000
DTEND;TZID=Europe/Berlin:20260511T200000
DTSTAMP:20260423T104509
CREATED:20251118T081436Z
LAST-MODIFIED:20260420T202920Z
UID:10004309-1778522400-1778529600@buergertreff-neuendettelsau.de
SUMMARY:Reparatur-Treff
DESCRIPTION:Fachkundige Ehrenamtliche reaparieren Geräte alle Art\, vornehmlich elektrische Haushaltsgeräte\, gegen Spende. Ein Experte schärft Messer und Scheren. Textile Arbeiten mit Nadel und Faden sind gelegentlich auch möglich. Letzte Annahme um 19.30 Uhr.
URL:https://buergertreff-neuendettelsau.de/veranstaltung/reparatur-treff-2/2026-05-11/
LOCATION:Bürgertreff Neuendettelsau\, Heilsbronner Str. 2\, Neuendettelsau\, Bayern\, 91564\, Deutschland
END:VEVENT
BEGIN:VEVENT
DTSTART;TZID=Europe/Berlin:20260608T180000
DTEND;TZID=Europe/Berlin:20260608T200000
DTSTAMP:20260423T104509
CREATED:20251118T081436Z
LAST-MODIFIED:20260420T202920Z
UID:10004310-1780941600-1780948800@buergertreff-neuendettelsau.de
SUMMARY:Reparatur-Treff
DESCRIPTION:Fachkundige Ehrenamtliche reaparieren Geräte alle Art\, vornehmlich elektrische Haushaltsgeräte\, gegen Spende. Ein Experte schärft Messer und Scheren. Textile Arbeiten mit Nadel und Faden sind gelegentlich auch möglich. Letzte Annahme um 19.30 Uhr.
URL:https://buergertreff-neuendettelsau.de/veranstaltung/reparatur-treff-2/2026-06-08/
LOCATION:Bürgertreff Neuendettelsau\, Heilsbronner Str. 2\, Neuendettelsau\, Bayern\, 91564\, Deutschland
END:VEVENT
BEGIN:VEVENT
DTSTART;TZID=Europe/Berlin:20260713T180000
DTEND;TZID=Europe/Berlin:20260713T200000
DTSTAMP:20260423T104509
CREATED:20251118T081436Z
LAST-MODIFIED:20260420T202920Z
UID:10004311-1783965600-1783972800@buergertreff-neuendettelsau.de
SUMMARY:Reparatur-Treff
DESCRIPTION:Fachkundige Ehrenamtliche reaparieren Geräte alle Art\, vornehmlich elektrische Haushaltsgeräte\, gegen Spende. Ein Experte schärft Messer und Scheren. Textile Arbeiten mit Nadel und Faden sind gelegentlich auch möglich. Letzte Annahme um 19.30 Uhr.
URL:https://buergertreff-neuendettelsau.de/veranstaltung/reparatur-treff-2/2026-07-13/
LOCATION:Bürgertreff Neuendettelsau\, Heilsbronner Str. 2\, Neuendettelsau\, Bayern\, 91564\, Deutschland
END:VEVENT
BEGIN:VEVENT
DTSTART;TZID=Europe/Berlin:20260810T180000
DTEND;TZID=Europe/Berlin:20260810T200000
DTSTAMP:20260423T104509
CREATED:20251118T081436Z
LAST-MODIFIED:20260420T202920Z
UID:10004312-1786384800-1786392000@buergertreff-neuendettelsau.de
SUMMARY:Reparatur-Treff
DESCRIPTION:Fachkundige Ehrenamtliche reaparieren Geräte alle Art\, vornehmlich elektrische Haushaltsgeräte\, gegen Spende. Ein Experte schärft Messer und Scheren. Textile Arbeiten mit Nadel und Faden sind gelegentlich auch möglich. Letzte Annahme um 19.30 Uhr.
URL:https://buergertreff-neuendettelsau.de/veranstaltung/reparatur-treff-2/2026-08-10/
LOCATION:Bürgertreff Neuendettelsau\, Heilsbronner Str. 2\, Neuendettelsau\, Bayern\, 91564\, Deutschland
END:VEVENT
BEGIN:VEVENT
DTSTART;TZID=Europe/Berlin:20260914T180000
DTEND;TZID=Europe/Berlin:20260914T200000
DTSTAMP:20260423T104509
CREATED:20251118T081436Z
LAST-MODIFIED:20260420T202920Z
UID:10004313-1789408800-1789416000@buergertreff-neuendettelsau.de
SUMMARY:Reparatur-Treff
DESCRIPTION:Fachkundige Ehrenamtliche reaparieren Geräte alle Art\, vornehmlich elektrische Haushaltsgeräte\, gegen Spende. Ein Experte schärft Messer und Scheren. Textile Arbeiten mit Nadel und Faden sind gelegentlich auch möglich. Letzte Annahme um 19.30 Uhr.
URL:https://buergertreff-neuendettelsau.de/veranstaltung/reparatur-treff-2/2026-09-14/
LOCATION:Bürgertreff Neuendettelsau\, Heilsbronner Str. 2\, Neuendettelsau\, Bayern\, 91564\, Deutschland
END:VEVENT
BEGIN:VEVENT
DTSTART;TZID=Europe/Berlin:20261012T180000
DTEND;TZID=Europe/Berlin:20261012T200000
DTSTAMP:20260423T104509
CREATED:20251118T081436Z
LAST-MODIFIED:20260420T202920Z
UID:10004314-1791828000-1791835200@buergertreff-neuendettelsau.de
SUMMARY:Reparatur-Treff
DESCRIPTION:Fachkundige Ehrenamtliche reaparieren Geräte alle Art\, vornehmlich elektrische Haushaltsgeräte\, gegen Spende. Ein Experte schärft Messer und Scheren. Textile Arbeiten mit Nadel und Faden sind gelegentlich auch möglich. Letzte Annahme um 19.30 Uhr.
URL:https://buergertreff-neuendettelsau.de/veranstaltung/reparatur-treff-2/2026-10-12/
LOCATION:Bürgertreff Neuendettelsau\, Heilsbronner Str. 2\, Neuendettelsau\, Bayern\, 91564\, Deutschland
END:VEVENT
BEGIN:VEVENT
DTSTART;TZID=Europe/Berlin:20261109T180000
DTEND;TZID=Europe/Berlin:20261109T200000
DTSTAMP:20260423T104509
CREATED:20251118T081436Z
LAST-MODIFIED:20260420T202920Z
UID:10004315-1794247200-1794254400@buergertreff-neuendettelsau.de
SUMMARY:Reparatur-Treff
DESCRIPTION:Fachkundige Ehrenamtliche reaparieren Geräte alle Art\, vornehmlich elektrische Haushaltsgeräte\, gegen Spende. Ein Experte schärft Messer und Scheren. Textile Arbeiten mit Nadel und Faden sind gelegentlich auch möglich. Letzte Annahme um 19.30 Uhr.
URL:https://buergertreff-neuendettelsau.de/veranstaltung/reparatur-treff-2/2026-11-09/
LOCATION:Bürgertreff Neuendettelsau\, Heilsbronner Str. 2\, Neuendettelsau\, Bayern\, 91564\, Deutschland
END:VEVENT
BEGIN:VEVENT
DTSTART;TZID=Europe/Berlin:20261214T180000
DTEND;TZID=Europe/Berlin:20261214T200000
DTSTAMP:20260423T104509
CREATED:20251118T081436Z
LAST-MODIFIED:20260420T202920Z
UID:10004316-1797271200-1797278400@buergertreff-neuendettelsau.de
SUMMARY:Reparatur-Treff
DESCRIPTION:Fachkundige Ehrenamtliche reaparieren Geräte alle Art\, vornehmlich elektrische Haushaltsgeräte\, gegen Spende. Ein Experte schärft Messer und Scheren. Textile Arbeiten mit Nadel und Faden sind gelegentlich auch möglich. Letzte Annahme um 19.30 Uhr.
URL:https://buergertreff-neuendettelsau.de/veranstaltung/reparatur-treff-2/2026-12-14/
LOCATION:Bürgertreff Neuendettelsau\, Heilsbronner Str. 2\, Neuendettelsau\, Bayern\, 91564\, Deutschland
END:VEVENT
END:VCALENDAR