BEGIN:VCALENDAR
VERSION:2.0
PRODID:-// - ECPv6.15.20//NONSGML v1.0//EN
CALSCALE:GREGORIAN
METHOD:PUBLISH
X-ORIGINAL-URL:https://buergertreff-neuendettelsau.de
X-WR-CALDESC:Veranstaltungen für 
REFRESH-INTERVAL;VALUE=DURATION:PT1H
X-Robots-Tag:noindex
X-PUBLISHED-TTL:PT1H
BEGIN:VTIMEZONE
TZID:Europe/Berlin
BEGIN:DAYLIGHT
TZOFFSETFROM:+0100
TZOFFSETTO:+0200
TZNAME:CEST
DTSTART:20250330T010000
END:DAYLIGHT
BEGIN:STANDARD
TZOFFSETFROM:+0200
TZOFFSETTO:+0100
TZNAME:CET
DTSTART:20251026T010000
END:STANDARD
BEGIN:DAYLIGHT
TZOFFSETFROM:+0100
TZOFFSETTO:+0200
TZNAME:CEST
DTSTART:20260329T010000
END:DAYLIGHT
BEGIN:STANDARD
TZOFFSETFROM:+0200
TZOFFSETTO:+0100
TZNAME:CET
DTSTART:20261025T010000
END:STANDARD
BEGIN:DAYLIGHT
TZOFFSETFROM:+0100
TZOFFSETTO:+0200
TZNAME:CEST
DTSTART:20270328T010000
END:DAYLIGHT
BEGIN:STANDARD
TZOFFSETFROM:+0200
TZOFFSETTO:+0100
TZNAME:CET
DTSTART:20271031T010000
END:STANDARD
BEGIN:DAYLIGHT
TZOFFSETFROM:+0100
TZOFFSETTO:+0200
TZNAME:CEST
DTSTART:20280326T010000
END:DAYLIGHT
BEGIN:STANDARD
TZOFFSETFROM:+0200
TZOFFSETTO:+0100
TZNAME:CET
DTSTART:20281029T010000
END:STANDARD
BEGIN:DAYLIGHT
TZOFFSETFROM:+0100
TZOFFSETTO:+0200
TZNAME:CEST
DTSTART:20290325T010000
END:DAYLIGHT
BEGIN:STANDARD
TZOFFSETFROM:+0200
TZOFFSETTO:+0100
TZNAME:CET
DTSTART:20291028T010000
END:STANDARD
END:VTIMEZONE
BEGIN:VEVENT
DTSTART;TZID=Europe/Berlin:20260428T180000
DTEND;TZID=Europe/Berlin:20260428T200000
DTSTAMP:20260423T103510
CREATED:20251203T170805Z
LAST-MODIFIED:20251203T170825Z
UID:10004417-1777399200-1777406400@buergertreff-neuendettelsau.de
SUMMARY:Stricken & Plaudern
DESCRIPTION:Feste Maschen in lockerer Runde. Frauen (warum nicht auch Männer?) treffen sich zum Stricken und Handarbeiten. Sie fachsimbeln\, helfen sich gegenseitig und geben Anregungen. Das Gespräch über „Gott und die Welt“ kommt dabei nicht zu kurz. Herzliche willkommen!
URL:https://buergertreff-neuendettelsau.de/veranstaltung/stricken-plaudern-2/2026-04-28/
LOCATION:Bürgertreff Neuendettelsau\, Heilsbronner Str. 2\, Neuendettelsau\, Bayern\, 91564\, Deutschland
ATTACH;FMTTYPE=image/jpeg:https://buergertreff-neuendettelsau.de/wp-content/uploads/2023/02/IMG_4223.jpg
END:VEVENT
BEGIN:VEVENT
DTSTART;TZID=Europe/Berlin:20260526T180000
DTEND;TZID=Europe/Berlin:20260526T200000
DTSTAMP:20260423T103510
CREATED:20251203T170805Z
LAST-MODIFIED:20251203T170825Z
UID:10004418-1779818400-1779825600@buergertreff-neuendettelsau.de
SUMMARY:Stricken & Plaudern
DESCRIPTION:Feste Maschen in lockerer Runde. Frauen (warum nicht auch Männer?) treffen sich zum Stricken und Handarbeiten. Sie fachsimbeln\, helfen sich gegenseitig und geben Anregungen. Das Gespräch über „Gott und die Welt“ kommt dabei nicht zu kurz. Herzliche willkommen!
URL:https://buergertreff-neuendettelsau.de/veranstaltung/stricken-plaudern-2/2026-05-26/
LOCATION:Bürgertreff Neuendettelsau\, Heilsbronner Str. 2\, Neuendettelsau\, Bayern\, 91564\, Deutschland
ATTACH;FMTTYPE=image/jpeg:https://buergertreff-neuendettelsau.de/wp-content/uploads/2023/02/IMG_4223.jpg
END:VEVENT
BEGIN:VEVENT
DTSTART;TZID=Europe/Berlin:20260623T180000
DTEND;TZID=Europe/Berlin:20260623T200000
DTSTAMP:20260423T103510
CREATED:20251203T170805Z
LAST-MODIFIED:20251203T170825Z
UID:10004419-1782237600-1782244800@buergertreff-neuendettelsau.de
SUMMARY:Stricken & Plaudern
DESCRIPTION:Feste Maschen in lockerer Runde. Frauen (warum nicht auch Männer?) treffen sich zum Stricken und Handarbeiten. Sie fachsimbeln\, helfen sich gegenseitig und geben Anregungen. Das Gespräch über „Gott und die Welt“ kommt dabei nicht zu kurz. Herzliche willkommen!
URL:https://buergertreff-neuendettelsau.de/veranstaltung/stricken-plaudern-2/2026-06-23/
LOCATION:Bürgertreff Neuendettelsau\, Heilsbronner Str. 2\, Neuendettelsau\, Bayern\, 91564\, Deutschland
ATTACH;FMTTYPE=image/jpeg:https://buergertreff-neuendettelsau.de/wp-content/uploads/2023/02/IMG_4223.jpg
END:VEVENT
BEGIN:VEVENT
DTSTART;TZID=Europe/Berlin:20260728T180000
DTEND;TZID=Europe/Berlin:20260728T200000
DTSTAMP:20260423T103510
CREATED:20251203T170805Z
LAST-MODIFIED:20251203T170825Z
UID:10004420-1785261600-1785268800@buergertreff-neuendettelsau.de
SUMMARY:Stricken & Plaudern
DESCRIPTION:Feste Maschen in lockerer Runde. Frauen (warum nicht auch Männer?) treffen sich zum Stricken und Handarbeiten. Sie fachsimbeln\, helfen sich gegenseitig und geben Anregungen. Das Gespräch über „Gott und die Welt“ kommt dabei nicht zu kurz. Herzliche willkommen!
URL:https://buergertreff-neuendettelsau.de/veranstaltung/stricken-plaudern-2/2026-07-28/
LOCATION:Bürgertreff Neuendettelsau\, Heilsbronner Str. 2\, Neuendettelsau\, Bayern\, 91564\, Deutschland
ATTACH;FMTTYPE=image/jpeg:https://buergertreff-neuendettelsau.de/wp-content/uploads/2023/02/IMG_4223.jpg
END:VEVENT
BEGIN:VEVENT
DTSTART;TZID=Europe/Berlin:20260825T180000
DTEND;TZID=Europe/Berlin:20260825T200000
DTSTAMP:20260423T103510
CREATED:20251203T170805Z
LAST-MODIFIED:20251203T170825Z
UID:10004421-1787680800-1787688000@buergertreff-neuendettelsau.de
SUMMARY:Stricken & Plaudern
DESCRIPTION:Feste Maschen in lockerer Runde. Frauen (warum nicht auch Männer?) treffen sich zum Stricken und Handarbeiten. Sie fachsimbeln\, helfen sich gegenseitig und geben Anregungen. Das Gespräch über „Gott und die Welt“ kommt dabei nicht zu kurz. Herzliche willkommen!
URL:https://buergertreff-neuendettelsau.de/veranstaltung/stricken-plaudern-2/2026-08-25/
LOCATION:Bürgertreff Neuendettelsau\, Heilsbronner Str. 2\, Neuendettelsau\, Bayern\, 91564\, Deutschland
ATTACH;FMTTYPE=image/jpeg:https://buergertreff-neuendettelsau.de/wp-content/uploads/2023/02/IMG_4223.jpg
END:VEVENT
BEGIN:VEVENT
DTSTART;TZID=Europe/Berlin:20260922T180000
DTEND;TZID=Europe/Berlin:20260922T200000
DTSTAMP:20260423T103510
CREATED:20251203T170805Z
LAST-MODIFIED:20251203T170825Z
UID:10004422-1790100000-1790107200@buergertreff-neuendettelsau.de
SUMMARY:Stricken & Plaudern
DESCRIPTION:Feste Maschen in lockerer Runde. Frauen (warum nicht auch Männer?) treffen sich zum Stricken und Handarbeiten. Sie fachsimbeln\, helfen sich gegenseitig und geben Anregungen. Das Gespräch über „Gott und die Welt“ kommt dabei nicht zu kurz. Herzliche willkommen!
URL:https://buergertreff-neuendettelsau.de/veranstaltung/stricken-plaudern-2/2026-09-22/
LOCATION:Bürgertreff Neuendettelsau\, Heilsbronner Str. 2\, Neuendettelsau\, Bayern\, 91564\, Deutschland
ATTACH;FMTTYPE=image/jpeg:https://buergertreff-neuendettelsau.de/wp-content/uploads/2023/02/IMG_4223.jpg
END:VEVENT
BEGIN:VEVENT
DTSTART;TZID=Europe/Berlin:20261027T180000
DTEND;TZID=Europe/Berlin:20261027T200000
DTSTAMP:20260423T103510
CREATED:20251203T170805Z
LAST-MODIFIED:20251203T170825Z
UID:10004423-1793124000-1793131200@buergertreff-neuendettelsau.de
SUMMARY:Stricken & Plaudern
DESCRIPTION:Feste Maschen in lockerer Runde. Frauen (warum nicht auch Männer?) treffen sich zum Stricken und Handarbeiten. Sie fachsimbeln\, helfen sich gegenseitig und geben Anregungen. Das Gespräch über „Gott und die Welt“ kommt dabei nicht zu kurz. Herzliche willkommen!
URL:https://buergertreff-neuendettelsau.de/veranstaltung/stricken-plaudern-2/2026-10-27/
LOCATION:Bürgertreff Neuendettelsau\, Heilsbronner Str. 2\, Neuendettelsau\, Bayern\, 91564\, Deutschland
ATTACH;FMTTYPE=image/jpeg:https://buergertreff-neuendettelsau.de/wp-content/uploads/2023/02/IMG_4223.jpg
END:VEVENT
BEGIN:VEVENT
DTSTART;TZID=Europe/Berlin:20261124T180000
DTEND;TZID=Europe/Berlin:20261124T200000
DTSTAMP:20260423T103510
CREATED:20251203T170805Z
LAST-MODIFIED:20251203T170825Z
UID:10004424-1795543200-1795550400@buergertreff-neuendettelsau.de
SUMMARY:Stricken & Plaudern
DESCRIPTION:Feste Maschen in lockerer Runde. Frauen (warum nicht auch Männer?) treffen sich zum Stricken und Handarbeiten. Sie fachsimbeln\, helfen sich gegenseitig und geben Anregungen. Das Gespräch über „Gott und die Welt“ kommt dabei nicht zu kurz. Herzliche willkommen!
URL:https://buergertreff-neuendettelsau.de/veranstaltung/stricken-plaudern-2/2026-11-24/
LOCATION:Bürgertreff Neuendettelsau\, Heilsbronner Str. 2\, Neuendettelsau\, Bayern\, 91564\, Deutschland
ATTACH;FMTTYPE=image/jpeg:https://buergertreff-neuendettelsau.de/wp-content/uploads/2023/02/IMG_4223.jpg
END:VEVENT
BEGIN:VEVENT
DTSTART;TZID=Europe/Berlin:20261222T180000
DTEND;TZID=Europe/Berlin:20261222T200000
DTSTAMP:20260423T103510
CREATED:20251203T170805Z
LAST-MODIFIED:20251203T170825Z
UID:10004425-1797962400-1797969600@buergertreff-neuendettelsau.de
SUMMARY:Stricken & Plaudern
DESCRIPTION:Feste Maschen in lockerer Runde. Frauen (warum nicht auch Männer?) treffen sich zum Stricken und Handarbeiten. Sie fachsimbeln\, helfen sich gegenseitig und geben Anregungen. Das Gespräch über „Gott und die Welt“ kommt dabei nicht zu kurz. Herzliche willkommen!
URL:https://buergertreff-neuendettelsau.de/veranstaltung/stricken-plaudern-2/2026-12-22/
LOCATION:Bürgertreff Neuendettelsau\, Heilsbronner Str. 2\, Neuendettelsau\, Bayern\, 91564\, Deutschland
ATTACH;FMTTYPE=image/jpeg:https://buergertreff-neuendettelsau.de/wp-content/uploads/2023/02/IMG_4223.jpg
END:VEVENT
BEGIN:VEVENT
DTSTART;TZID=Europe/Berlin:20270126T180000
DTEND;TZID=Europe/Berlin:20270126T200000
DTSTAMP:20260423T103510
CREATED:20251203T170805Z
LAST-MODIFIED:20251203T170825Z
UID:10004426-1800986400-1800993600@buergertreff-neuendettelsau.de
SUMMARY:Stricken & Plaudern
DESCRIPTION:Feste Maschen in lockerer Runde. Frauen (warum nicht auch Männer?) treffen sich zum Stricken und Handarbeiten. Sie fachsimbeln\, helfen sich gegenseitig und geben Anregungen. Das Gespräch über „Gott und die Welt“ kommt dabei nicht zu kurz. Herzliche willkommen!
URL:https://buergertreff-neuendettelsau.de/veranstaltung/stricken-plaudern-2/2027-01-26/
LOCATION:Bürgertreff Neuendettelsau\, Heilsbronner Str. 2\, Neuendettelsau\, Bayern\, 91564\, Deutschland
ATTACH;FMTTYPE=image/jpeg:https://buergertreff-neuendettelsau.de/wp-content/uploads/2023/02/IMG_4223.jpg
END:VEVENT
BEGIN:VEVENT
DTSTART;TZID=Europe/Berlin:20270223T180000
DTEND;TZID=Europe/Berlin:20270223T200000
DTSTAMP:20260423T103510
CREATED:20251203T170805Z
LAST-MODIFIED:20251203T170825Z
UID:10004427-1803405600-1803412800@buergertreff-neuendettelsau.de
SUMMARY:Stricken & Plaudern
DESCRIPTION:Feste Maschen in lockerer Runde. Frauen (warum nicht auch Männer?) treffen sich zum Stricken und Handarbeiten. Sie fachsimbeln\, helfen sich gegenseitig und geben Anregungen. Das Gespräch über „Gott und die Welt“ kommt dabei nicht zu kurz. Herzliche willkommen!
URL:https://buergertreff-neuendettelsau.de/veranstaltung/stricken-plaudern-2/2027-02-23/
LOCATION:Bürgertreff Neuendettelsau\, Heilsbronner Str. 2\, Neuendettelsau\, Bayern\, 91564\, Deutschland
ATTACH;FMTTYPE=image/jpeg:https://buergertreff-neuendettelsau.de/wp-content/uploads/2023/02/IMG_4223.jpg
END:VEVENT
BEGIN:VEVENT
DTSTART;TZID=Europe/Berlin:20270323T180000
DTEND;TZID=Europe/Berlin:20270323T200000
DTSTAMP:20260423T103510
CREATED:20251203T170805Z
LAST-MODIFIED:20251203T170825Z
UID:10004428-1805824800-1805832000@buergertreff-neuendettelsau.de
SUMMARY:Stricken & Plaudern
DESCRIPTION:Feste Maschen in lockerer Runde. Frauen (warum nicht auch Männer?) treffen sich zum Stricken und Handarbeiten. Sie fachsimbeln\, helfen sich gegenseitig und geben Anregungen. Das Gespräch über „Gott und die Welt“ kommt dabei nicht zu kurz. Herzliche willkommen!
URL:https://buergertreff-neuendettelsau.de/veranstaltung/stricken-plaudern-2/2027-03-23/
LOCATION:Bürgertreff Neuendettelsau\, Heilsbronner Str. 2\, Neuendettelsau\, Bayern\, 91564\, Deutschland
ATTACH;FMTTYPE=image/jpeg:https://buergertreff-neuendettelsau.de/wp-content/uploads/2023/02/IMG_4223.jpg
END:VEVENT
BEGIN:VEVENT
DTSTART;TZID=Europe/Berlin:20270427T180000
DTEND;TZID=Europe/Berlin:20270427T200000
DTSTAMP:20260423T103510
CREATED:20251203T170805Z
LAST-MODIFIED:20251203T170825Z
UID:10004429-1808848800-1808856000@buergertreff-neuendettelsau.de
SUMMARY:Stricken & Plaudern
DESCRIPTION:Feste Maschen in lockerer Runde. Frauen (warum nicht auch Männer?) treffen sich zum Stricken und Handarbeiten. Sie fachsimbeln\, helfen sich gegenseitig und geben Anregungen. Das Gespräch über „Gott und die Welt“ kommt dabei nicht zu kurz. Herzliche willkommen!
URL:https://buergertreff-neuendettelsau.de/veranstaltung/stricken-plaudern-2/2027-04-27/
LOCATION:Bürgertreff Neuendettelsau\, Heilsbronner Str. 2\, Neuendettelsau\, Bayern\, 91564\, Deutschland
ATTACH;FMTTYPE=image/jpeg:https://buergertreff-neuendettelsau.de/wp-content/uploads/2023/02/IMG_4223.jpg
END:VEVENT
BEGIN:VEVENT
DTSTART;TZID=Europe/Berlin:20270525T180000
DTEND;TZID=Europe/Berlin:20270525T200000
DTSTAMP:20260423T103510
CREATED:20251203T170805Z
LAST-MODIFIED:20251203T170825Z
UID:10004430-1811268000-1811275200@buergertreff-neuendettelsau.de
SUMMARY:Stricken & Plaudern
DESCRIPTION:Feste Maschen in lockerer Runde. Frauen (warum nicht auch Männer?) treffen sich zum Stricken und Handarbeiten. Sie fachsimbeln\, helfen sich gegenseitig und geben Anregungen. Das Gespräch über „Gott und die Welt“ kommt dabei nicht zu kurz. Herzliche willkommen!
URL:https://buergertreff-neuendettelsau.de/veranstaltung/stricken-plaudern-2/2027-05-25/
LOCATION:Bürgertreff Neuendettelsau\, Heilsbronner Str. 2\, Neuendettelsau\, Bayern\, 91564\, Deutschland
ATTACH;FMTTYPE=image/jpeg:https://buergertreff-neuendettelsau.de/wp-content/uploads/2023/02/IMG_4223.jpg
END:VEVENT
BEGIN:VEVENT
DTSTART;TZID=Europe/Berlin:20270622T180000
DTEND;TZID=Europe/Berlin:20270622T200000
DTSTAMP:20260423T103510
CREATED:20251203T170805Z
LAST-MODIFIED:20251203T170825Z
UID:10004431-1813687200-1813694400@buergertreff-neuendettelsau.de
SUMMARY:Stricken & Plaudern
DESCRIPTION:Feste Maschen in lockerer Runde. Frauen (warum nicht auch Männer?) treffen sich zum Stricken und Handarbeiten. Sie fachsimbeln\, helfen sich gegenseitig und geben Anregungen. Das Gespräch über „Gott und die Welt“ kommt dabei nicht zu kurz. Herzliche willkommen!
URL:https://buergertreff-neuendettelsau.de/veranstaltung/stricken-plaudern-2/2027-06-22/
LOCATION:Bürgertreff Neuendettelsau\, Heilsbronner Str. 2\, Neuendettelsau\, Bayern\, 91564\, Deutschland
ATTACH;FMTTYPE=image/jpeg:https://buergertreff-neuendettelsau.de/wp-content/uploads/2023/02/IMG_4223.jpg
END:VEVENT
BEGIN:VEVENT
DTSTART;TZID=Europe/Berlin:20270727T180000
DTEND;TZID=Europe/Berlin:20270727T200000
DTSTAMP:20260423T103510
CREATED:20251203T170805Z
LAST-MODIFIED:20251203T170825Z
UID:10004432-1816711200-1816718400@buergertreff-neuendettelsau.de
SUMMARY:Stricken & Plaudern
DESCRIPTION:Feste Maschen in lockerer Runde. Frauen (warum nicht auch Männer?) treffen sich zum Stricken und Handarbeiten. Sie fachsimbeln\, helfen sich gegenseitig und geben Anregungen. Das Gespräch über „Gott und die Welt“ kommt dabei nicht zu kurz. Herzliche willkommen!
URL:https://buergertreff-neuendettelsau.de/veranstaltung/stricken-plaudern-2/2027-07-27/
LOCATION:Bürgertreff Neuendettelsau\, Heilsbronner Str. 2\, Neuendettelsau\, Bayern\, 91564\, Deutschland
ATTACH;FMTTYPE=image/jpeg:https://buergertreff-neuendettelsau.de/wp-content/uploads/2023/02/IMG_4223.jpg
END:VEVENT
BEGIN:VEVENT
DTSTART;TZID=Europe/Berlin:20270824T180000
DTEND;TZID=Europe/Berlin:20270824T200000
DTSTAMP:20260423T103510
CREATED:20251203T170805Z
LAST-MODIFIED:20251203T170825Z
UID:10004433-1819130400-1819137600@buergertreff-neuendettelsau.de
SUMMARY:Stricken & Plaudern
DESCRIPTION:Feste Maschen in lockerer Runde. Frauen (warum nicht auch Männer?) treffen sich zum Stricken und Handarbeiten. Sie fachsimbeln\, helfen sich gegenseitig und geben Anregungen. Das Gespräch über „Gott und die Welt“ kommt dabei nicht zu kurz. Herzliche willkommen!
URL:https://buergertreff-neuendettelsau.de/veranstaltung/stricken-plaudern-2/2027-08-24/
LOCATION:Bürgertreff Neuendettelsau\, Heilsbronner Str. 2\, Neuendettelsau\, Bayern\, 91564\, Deutschland
ATTACH;FMTTYPE=image/jpeg:https://buergertreff-neuendettelsau.de/wp-content/uploads/2023/02/IMG_4223.jpg
END:VEVENT
BEGIN:VEVENT
DTSTART;TZID=Europe/Berlin:20270928T180000
DTEND;TZID=Europe/Berlin:20270928T200000
DTSTAMP:20260423T103510
CREATED:20251203T170805Z
LAST-MODIFIED:20251203T170825Z
UID:10004434-1822154400-1822161600@buergertreff-neuendettelsau.de
SUMMARY:Stricken & Plaudern
DESCRIPTION:Feste Maschen in lockerer Runde. Frauen (warum nicht auch Männer?) treffen sich zum Stricken und Handarbeiten. Sie fachsimbeln\, helfen sich gegenseitig und geben Anregungen. Das Gespräch über „Gott und die Welt“ kommt dabei nicht zu kurz. Herzliche willkommen!
URL:https://buergertreff-neuendettelsau.de/veranstaltung/stricken-plaudern-2/2027-09-28/
LOCATION:Bürgertreff Neuendettelsau\, Heilsbronner Str. 2\, Neuendettelsau\, Bayern\, 91564\, Deutschland
ATTACH;FMTTYPE=image/jpeg:https://buergertreff-neuendettelsau.de/wp-content/uploads/2023/02/IMG_4223.jpg
END:VEVENT
BEGIN:VEVENT
DTSTART;TZID=Europe/Berlin:20271026T180000
DTEND;TZID=Europe/Berlin:20271026T200000
DTSTAMP:20260423T103510
CREATED:20251203T170805Z
LAST-MODIFIED:20251203T170825Z
UID:10004435-1824573600-1824580800@buergertreff-neuendettelsau.de
SUMMARY:Stricken & Plaudern
DESCRIPTION:Feste Maschen in lockerer Runde. Frauen (warum nicht auch Männer?) treffen sich zum Stricken und Handarbeiten. Sie fachsimbeln\, helfen sich gegenseitig und geben Anregungen. Das Gespräch über „Gott und die Welt“ kommt dabei nicht zu kurz. Herzliche willkommen!
URL:https://buergertreff-neuendettelsau.de/veranstaltung/stricken-plaudern-2/2027-10-26/
LOCATION:Bürgertreff Neuendettelsau\, Heilsbronner Str. 2\, Neuendettelsau\, Bayern\, 91564\, Deutschland
ATTACH;FMTTYPE=image/jpeg:https://buergertreff-neuendettelsau.de/wp-content/uploads/2023/02/IMG_4223.jpg
END:VEVENT
BEGIN:VEVENT
DTSTART;TZID=Europe/Berlin:20271123T180000
DTEND;TZID=Europe/Berlin:20271123T200000
DTSTAMP:20260423T103510
CREATED:20251203T170805Z
LAST-MODIFIED:20251203T170825Z
UID:10004436-1826992800-1827000000@buergertreff-neuendettelsau.de
SUMMARY:Stricken & Plaudern
DESCRIPTION:Feste Maschen in lockerer Runde. Frauen (warum nicht auch Männer?) treffen sich zum Stricken und Handarbeiten. Sie fachsimbeln\, helfen sich gegenseitig und geben Anregungen. Das Gespräch über „Gott und die Welt“ kommt dabei nicht zu kurz. Herzliche willkommen!
URL:https://buergertreff-neuendettelsau.de/veranstaltung/stricken-plaudern-2/2027-11-23/
LOCATION:Bürgertreff Neuendettelsau\, Heilsbronner Str. 2\, Neuendettelsau\, Bayern\, 91564\, Deutschland
ATTACH;FMTTYPE=image/jpeg:https://buergertreff-neuendettelsau.de/wp-content/uploads/2023/02/IMG_4223.jpg
END:VEVENT
BEGIN:VEVENT
DTSTART;TZID=Europe/Berlin:20271228T180000
DTEND;TZID=Europe/Berlin:20271228T200000
DTSTAMP:20260423T103510
CREATED:20251203T170805Z
LAST-MODIFIED:20251203T170825Z
UID:10004437-1830016800-1830024000@buergertreff-neuendettelsau.de
SUMMARY:Stricken & Plaudern
DESCRIPTION:Feste Maschen in lockerer Runde. Frauen (warum nicht auch Männer?) treffen sich zum Stricken und Handarbeiten. Sie fachsimbeln\, helfen sich gegenseitig und geben Anregungen. Das Gespräch über „Gott und die Welt“ kommt dabei nicht zu kurz. Herzliche willkommen!
URL:https://buergertreff-neuendettelsau.de/veranstaltung/stricken-plaudern-2/2027-12-28/
LOCATION:Bürgertreff Neuendettelsau\, Heilsbronner Str. 2\, Neuendettelsau\, Bayern\, 91564\, Deutschland
ATTACH;FMTTYPE=image/jpeg:https://buergertreff-neuendettelsau.de/wp-content/uploads/2023/02/IMG_4223.jpg
END:VEVENT
BEGIN:VEVENT
DTSTART;TZID=Europe/Berlin:20280125T180000
DTEND;TZID=Europe/Berlin:20280125T200000
DTSTAMP:20260423T103510
CREATED:20251203T170805Z
LAST-MODIFIED:20251203T170825Z
UID:10004438-1832436000-1832443200@buergertreff-neuendettelsau.de
SUMMARY:Stricken & Plaudern
DESCRIPTION:Feste Maschen in lockerer Runde. Frauen (warum nicht auch Männer?) treffen sich zum Stricken und Handarbeiten. Sie fachsimbeln\, helfen sich gegenseitig und geben Anregungen. Das Gespräch über „Gott und die Welt“ kommt dabei nicht zu kurz. Herzliche willkommen!
URL:https://buergertreff-neuendettelsau.de/veranstaltung/stricken-plaudern-2/2028-01-25/
LOCATION:Bürgertreff Neuendettelsau\, Heilsbronner Str. 2\, Neuendettelsau\, Bayern\, 91564\, Deutschland
ATTACH;FMTTYPE=image/jpeg:https://buergertreff-neuendettelsau.de/wp-content/uploads/2023/02/IMG_4223.jpg
END:VEVENT
BEGIN:VEVENT
DTSTART;TZID=Europe/Berlin:20280222T180000
DTEND;TZID=Europe/Berlin:20280222T200000
DTSTAMP:20260423T103510
CREATED:20251203T170805Z
LAST-MODIFIED:20251203T170825Z
UID:10004439-1834855200-1834862400@buergertreff-neuendettelsau.de
SUMMARY:Stricken & Plaudern
DESCRIPTION:Feste Maschen in lockerer Runde. Frauen (warum nicht auch Männer?) treffen sich zum Stricken und Handarbeiten. Sie fachsimbeln\, helfen sich gegenseitig und geben Anregungen. Das Gespräch über „Gott und die Welt“ kommt dabei nicht zu kurz. Herzliche willkommen!
URL:https://buergertreff-neuendettelsau.de/veranstaltung/stricken-plaudern-2/2028-02-22/
LOCATION:Bürgertreff Neuendettelsau\, Heilsbronner Str. 2\, Neuendettelsau\, Bayern\, 91564\, Deutschland
ATTACH;FMTTYPE=image/jpeg:https://buergertreff-neuendettelsau.de/wp-content/uploads/2023/02/IMG_4223.jpg
END:VEVENT
BEGIN:VEVENT
DTSTART;TZID=Europe/Berlin:20280328T180000
DTEND;TZID=Europe/Berlin:20280328T200000
DTSTAMP:20260423T103510
CREATED:20251203T170805Z
LAST-MODIFIED:20251203T170825Z
UID:10004440-1837879200-1837886400@buergertreff-neuendettelsau.de
SUMMARY:Stricken & Plaudern
DESCRIPTION:Feste Maschen in lockerer Runde. Frauen (warum nicht auch Männer?) treffen sich zum Stricken und Handarbeiten. Sie fachsimbeln\, helfen sich gegenseitig und geben Anregungen. Das Gespräch über „Gott und die Welt“ kommt dabei nicht zu kurz. Herzliche willkommen!
URL:https://buergertreff-neuendettelsau.de/veranstaltung/stricken-plaudern-2/2028-03-28/
LOCATION:Bürgertreff Neuendettelsau\, Heilsbronner Str. 2\, Neuendettelsau\, Bayern\, 91564\, Deutschland
ATTACH;FMTTYPE=image/jpeg:https://buergertreff-neuendettelsau.de/wp-content/uploads/2023/02/IMG_4223.jpg
END:VEVENT
BEGIN:VEVENT
DTSTART;TZID=Europe/Berlin:20280425T180000
DTEND;TZID=Europe/Berlin:20280425T200000
DTSTAMP:20260423T103510
CREATED:20251203T170805Z
LAST-MODIFIED:20251203T170825Z
UID:10004441-1840298400-1840305600@buergertreff-neuendettelsau.de
SUMMARY:Stricken & Plaudern
DESCRIPTION:Feste Maschen in lockerer Runde. Frauen (warum nicht auch Männer?) treffen sich zum Stricken und Handarbeiten. Sie fachsimbeln\, helfen sich gegenseitig und geben Anregungen. Das Gespräch über „Gott und die Welt“ kommt dabei nicht zu kurz. Herzliche willkommen!
URL:https://buergertreff-neuendettelsau.de/veranstaltung/stricken-plaudern-2/2028-04-25/
LOCATION:Bürgertreff Neuendettelsau\, Heilsbronner Str. 2\, Neuendettelsau\, Bayern\, 91564\, Deutschland
ATTACH;FMTTYPE=image/jpeg:https://buergertreff-neuendettelsau.de/wp-content/uploads/2023/02/IMG_4223.jpg
END:VEVENT
BEGIN:VEVENT
DTSTART;TZID=Europe/Berlin:20280523T180000
DTEND;TZID=Europe/Berlin:20280523T200000
DTSTAMP:20260423T103510
CREATED:20251203T170805Z
LAST-MODIFIED:20251203T170825Z
UID:10004442-1842717600-1842724800@buergertreff-neuendettelsau.de
SUMMARY:Stricken & Plaudern
DESCRIPTION:Feste Maschen in lockerer Runde. Frauen (warum nicht auch Männer?) treffen sich zum Stricken und Handarbeiten. Sie fachsimbeln\, helfen sich gegenseitig und geben Anregungen. Das Gespräch über „Gott und die Welt“ kommt dabei nicht zu kurz. Herzliche willkommen!
URL:https://buergertreff-neuendettelsau.de/veranstaltung/stricken-plaudern-2/2028-05-23/
LOCATION:Bürgertreff Neuendettelsau\, Heilsbronner Str. 2\, Neuendettelsau\, Bayern\, 91564\, Deutschland
ATTACH;FMTTYPE=image/jpeg:https://buergertreff-neuendettelsau.de/wp-content/uploads/2023/02/IMG_4223.jpg
END:VEVENT
BEGIN:VEVENT
DTSTART;TZID=Europe/Berlin:20280627T180000
DTEND;TZID=Europe/Berlin:20280627T200000
DTSTAMP:20260423T103510
CREATED:20251203T170805Z
LAST-MODIFIED:20251203T170825Z
UID:10004443-1845741600-1845748800@buergertreff-neuendettelsau.de
SUMMARY:Stricken & Plaudern
DESCRIPTION:Feste Maschen in lockerer Runde. Frauen (warum nicht auch Männer?) treffen sich zum Stricken und Handarbeiten. Sie fachsimbeln\, helfen sich gegenseitig und geben Anregungen. Das Gespräch über „Gott und die Welt“ kommt dabei nicht zu kurz. Herzliche willkommen!
URL:https://buergertreff-neuendettelsau.de/veranstaltung/stricken-plaudern-2/2028-06-27/
LOCATION:Bürgertreff Neuendettelsau\, Heilsbronner Str. 2\, Neuendettelsau\, Bayern\, 91564\, Deutschland
ATTACH;FMTTYPE=image/jpeg:https://buergertreff-neuendettelsau.de/wp-content/uploads/2023/02/IMG_4223.jpg
END:VEVENT
BEGIN:VEVENT
DTSTART;TZID=Europe/Berlin:20280725T180000
DTEND;TZID=Europe/Berlin:20280725T200000
DTSTAMP:20260423T103510
CREATED:20251203T170805Z
LAST-MODIFIED:20251203T170825Z
UID:10004444-1848160800-1848168000@buergertreff-neuendettelsau.de
SUMMARY:Stricken & Plaudern
DESCRIPTION:Feste Maschen in lockerer Runde. Frauen (warum nicht auch Männer?) treffen sich zum Stricken und Handarbeiten. Sie fachsimbeln\, helfen sich gegenseitig und geben Anregungen. Das Gespräch über „Gott und die Welt“ kommt dabei nicht zu kurz. Herzliche willkommen!
URL:https://buergertreff-neuendettelsau.de/veranstaltung/stricken-plaudern-2/2028-07-25/
LOCATION:Bürgertreff Neuendettelsau\, Heilsbronner Str. 2\, Neuendettelsau\, Bayern\, 91564\, Deutschland
ATTACH;FMTTYPE=image/jpeg:https://buergertreff-neuendettelsau.de/wp-content/uploads/2023/02/IMG_4223.jpg
END:VEVENT
BEGIN:VEVENT
DTSTART;TZID=Europe/Berlin:20280822T180000
DTEND;TZID=Europe/Berlin:20280822T200000
DTSTAMP:20260423T103510
CREATED:20251203T170805Z
LAST-MODIFIED:20251203T170825Z
UID:10004445-1850580000-1850587200@buergertreff-neuendettelsau.de
SUMMARY:Stricken & Plaudern
DESCRIPTION:Feste Maschen in lockerer Runde. Frauen (warum nicht auch Männer?) treffen sich zum Stricken und Handarbeiten. Sie fachsimbeln\, helfen sich gegenseitig und geben Anregungen. Das Gespräch über „Gott und die Welt“ kommt dabei nicht zu kurz. Herzliche willkommen!
URL:https://buergertreff-neuendettelsau.de/veranstaltung/stricken-plaudern-2/2028-08-22/
LOCATION:Bürgertreff Neuendettelsau\, Heilsbronner Str. 2\, Neuendettelsau\, Bayern\, 91564\, Deutschland
ATTACH;FMTTYPE=image/jpeg:https://buergertreff-neuendettelsau.de/wp-content/uploads/2023/02/IMG_4223.jpg
END:VEVENT
BEGIN:VEVENT
DTSTART;TZID=Europe/Berlin:20280926T180000
DTEND;TZID=Europe/Berlin:20280926T200000
DTSTAMP:20260423T103510
CREATED:20251203T170805Z
LAST-MODIFIED:20251203T170825Z
UID:10004446-1853604000-1853611200@buergertreff-neuendettelsau.de
SUMMARY:Stricken & Plaudern
DESCRIPTION:Feste Maschen in lockerer Runde. Frauen (warum nicht auch Männer?) treffen sich zum Stricken und Handarbeiten. Sie fachsimbeln\, helfen sich gegenseitig und geben Anregungen. Das Gespräch über „Gott und die Welt“ kommt dabei nicht zu kurz. Herzliche willkommen!
URL:https://buergertreff-neuendettelsau.de/veranstaltung/stricken-plaudern-2/2028-09-26/
LOCATION:Bürgertreff Neuendettelsau\, Heilsbronner Str. 2\, Neuendettelsau\, Bayern\, 91564\, Deutschland
ATTACH;FMTTYPE=image/jpeg:https://buergertreff-neuendettelsau.de/wp-content/uploads/2023/02/IMG_4223.jpg
END:VEVENT
END:VCALENDAR