BEGIN:VCALENDAR
VERSION:2.0
PRODID:-// - ECPv6.15.20//NONSGML v1.0//EN
CALSCALE:GREGORIAN
METHOD:PUBLISH
X-ORIGINAL-URL:https://buergertreff-neuendettelsau.de
X-WR-CALDESC:Veranstaltungen für 
REFRESH-INTERVAL;VALUE=DURATION:PT1H
X-Robots-Tag:noindex
X-PUBLISHED-TTL:PT1H
BEGIN:VTIMEZONE
TZID:Europe/Berlin
BEGIN:DAYLIGHT
TZOFFSETFROM:+0100
TZOFFSETTO:+0200
TZNAME:CEST
DTSTART:20250330T010000
END:DAYLIGHT
BEGIN:STANDARD
TZOFFSETFROM:+0200
TZOFFSETTO:+0100
TZNAME:CET
DTSTART:20251026T010000
END:STANDARD
BEGIN:DAYLIGHT
TZOFFSETFROM:+0100
TZOFFSETTO:+0200
TZNAME:CEST
DTSTART:20260329T010000
END:DAYLIGHT
BEGIN:STANDARD
TZOFFSETFROM:+0200
TZOFFSETTO:+0100
TZNAME:CET
DTSTART:20261025T010000
END:STANDARD
BEGIN:DAYLIGHT
TZOFFSETFROM:+0100
TZOFFSETTO:+0200
TZNAME:CEST
DTSTART:20270328T010000
END:DAYLIGHT
BEGIN:STANDARD
TZOFFSETFROM:+0200
TZOFFSETTO:+0100
TZNAME:CET
DTSTART:20271031T010000
END:STANDARD
BEGIN:DAYLIGHT
TZOFFSETFROM:+0100
TZOFFSETTO:+0200
TZNAME:CEST
DTSTART:20280326T010000
END:DAYLIGHT
BEGIN:STANDARD
TZOFFSETFROM:+0200
TZOFFSETTO:+0100
TZNAME:CET
DTSTART:20281029T010000
END:STANDARD
BEGIN:DAYLIGHT
TZOFFSETFROM:+0100
TZOFFSETTO:+0200
TZNAME:CEST
DTSTART:20290325T010000
END:DAYLIGHT
BEGIN:STANDARD
TZOFFSETFROM:+0200
TZOFFSETTO:+0100
TZNAME:CET
DTSTART:20291028T010000
END:STANDARD
END:VTIMEZONE
BEGIN:VEVENT
DTSTART;TZID=Europe/Berlin:20260513T190000
DTEND;TZID=Europe/Berlin:20260513T210000
DTSTAMP:20260420T023458
CREATED:20251203T171245Z
LAST-MODIFIED:20251203T171250Z
UID:10004476-1778698800-1778706000@buergertreff-neuendettelsau.de
SUMMARY:Man(n) trifft sich
DESCRIPTION:Mit aktuellen Themen
URL:https://buergertreff-neuendettelsau.de/veranstaltung/mann-trifft-sich-11/2026-05-13/
LOCATION:Bürgertreff Neuendettelsau\, Heilsbronner Str. 2\, Neuendettelsau\, Bayern\, 91564\, Deutschland
END:VEVENT
BEGIN:VEVENT
DTSTART;TZID=Europe/Berlin:20260610T190000
DTEND;TZID=Europe/Berlin:20260610T210000
DTSTAMP:20260420T023458
CREATED:20251203T171245Z
LAST-MODIFIED:20251203T171250Z
UID:10004477-1781118000-1781125200@buergertreff-neuendettelsau.de
SUMMARY:Man(n) trifft sich
DESCRIPTION:Mit aktuellen Themen
URL:https://buergertreff-neuendettelsau.de/veranstaltung/mann-trifft-sich-11/2026-06-10/
LOCATION:Bürgertreff Neuendettelsau\, Heilsbronner Str. 2\, Neuendettelsau\, Bayern\, 91564\, Deutschland
END:VEVENT
BEGIN:VEVENT
DTSTART;TZID=Europe/Berlin:20260708T190000
DTEND;TZID=Europe/Berlin:20260708T210000
DTSTAMP:20260420T023458
CREATED:20251203T171245Z
LAST-MODIFIED:20251203T171250Z
UID:10004478-1783537200-1783544400@buergertreff-neuendettelsau.de
SUMMARY:Man(n) trifft sich
DESCRIPTION:Mit aktuellen Themen
URL:https://buergertreff-neuendettelsau.de/veranstaltung/mann-trifft-sich-11/2026-07-08/
LOCATION:Bürgertreff Neuendettelsau\, Heilsbronner Str. 2\, Neuendettelsau\, Bayern\, 91564\, Deutschland
END:VEVENT
BEGIN:VEVENT
DTSTART;TZID=Europe/Berlin:20260812T190000
DTEND;TZID=Europe/Berlin:20260812T210000
DTSTAMP:20260420T023458
CREATED:20251203T171245Z
LAST-MODIFIED:20251203T171250Z
UID:10004479-1786561200-1786568400@buergertreff-neuendettelsau.de
SUMMARY:Man(n) trifft sich
DESCRIPTION:Mit aktuellen Themen
URL:https://buergertreff-neuendettelsau.de/veranstaltung/mann-trifft-sich-11/2026-08-12/
LOCATION:Bürgertreff Neuendettelsau\, Heilsbronner Str. 2\, Neuendettelsau\, Bayern\, 91564\, Deutschland
END:VEVENT
BEGIN:VEVENT
DTSTART;TZID=Europe/Berlin:20260909T190000
DTEND;TZID=Europe/Berlin:20260909T210000
DTSTAMP:20260420T023458
CREATED:20251203T171245Z
LAST-MODIFIED:20251203T171250Z
UID:10004480-1788980400-1788987600@buergertreff-neuendettelsau.de
SUMMARY:Man(n) trifft sich
DESCRIPTION:Mit aktuellen Themen
URL:https://buergertreff-neuendettelsau.de/veranstaltung/mann-trifft-sich-11/2026-09-09/
LOCATION:Bürgertreff Neuendettelsau\, Heilsbronner Str. 2\, Neuendettelsau\, Bayern\, 91564\, Deutschland
END:VEVENT
BEGIN:VEVENT
DTSTART;TZID=Europe/Berlin:20261014T190000
DTEND;TZID=Europe/Berlin:20261014T210000
DTSTAMP:20260420T023458
CREATED:20251203T171245Z
LAST-MODIFIED:20251203T171250Z
UID:10004481-1792004400-1792011600@buergertreff-neuendettelsau.de
SUMMARY:Man(n) trifft sich
DESCRIPTION:Mit aktuellen Themen
URL:https://buergertreff-neuendettelsau.de/veranstaltung/mann-trifft-sich-11/2026-10-14/
LOCATION:Bürgertreff Neuendettelsau\, Heilsbronner Str. 2\, Neuendettelsau\, Bayern\, 91564\, Deutschland
END:VEVENT
BEGIN:VEVENT
DTSTART;TZID=Europe/Berlin:20261111T190000
DTEND;TZID=Europe/Berlin:20261111T210000
DTSTAMP:20260420T023458
CREATED:20251203T171245Z
LAST-MODIFIED:20251203T171250Z
UID:10004482-1794423600-1794430800@buergertreff-neuendettelsau.de
SUMMARY:Man(n) trifft sich
DESCRIPTION:Mit aktuellen Themen
URL:https://buergertreff-neuendettelsau.de/veranstaltung/mann-trifft-sich-11/2026-11-11/
LOCATION:Bürgertreff Neuendettelsau\, Heilsbronner Str. 2\, Neuendettelsau\, Bayern\, 91564\, Deutschland
END:VEVENT
BEGIN:VEVENT
DTSTART;TZID=Europe/Berlin:20261209T190000
DTEND;TZID=Europe/Berlin:20261209T210000
DTSTAMP:20260420T023458
CREATED:20251203T171245Z
LAST-MODIFIED:20251203T171250Z
UID:10004483-1796842800-1796850000@buergertreff-neuendettelsau.de
SUMMARY:Man(n) trifft sich
DESCRIPTION:Mit aktuellen Themen
URL:https://buergertreff-neuendettelsau.de/veranstaltung/mann-trifft-sich-11/2026-12-09/
LOCATION:Bürgertreff Neuendettelsau\, Heilsbronner Str. 2\, Neuendettelsau\, Bayern\, 91564\, Deutschland
END:VEVENT
BEGIN:VEVENT
DTSTART;TZID=Europe/Berlin:20270113T190000
DTEND;TZID=Europe/Berlin:20270113T210000
DTSTAMP:20260420T023458
CREATED:20251203T171245Z
LAST-MODIFIED:20251203T171250Z
UID:10004484-1799866800-1799874000@buergertreff-neuendettelsau.de
SUMMARY:Man(n) trifft sich
DESCRIPTION:Mit aktuellen Themen
URL:https://buergertreff-neuendettelsau.de/veranstaltung/mann-trifft-sich-11/2027-01-13/
LOCATION:Bürgertreff Neuendettelsau\, Heilsbronner Str. 2\, Neuendettelsau\, Bayern\, 91564\, Deutschland
END:VEVENT
BEGIN:VEVENT
DTSTART;TZID=Europe/Berlin:20270210T190000
DTEND;TZID=Europe/Berlin:20270210T210000
DTSTAMP:20260420T023458
CREATED:20251203T171245Z
LAST-MODIFIED:20251203T171250Z
UID:10004485-1802286000-1802293200@buergertreff-neuendettelsau.de
SUMMARY:Man(n) trifft sich
DESCRIPTION:Mit aktuellen Themen
URL:https://buergertreff-neuendettelsau.de/veranstaltung/mann-trifft-sich-11/2027-02-10/
LOCATION:Bürgertreff Neuendettelsau\, Heilsbronner Str. 2\, Neuendettelsau\, Bayern\, 91564\, Deutschland
END:VEVENT
BEGIN:VEVENT
DTSTART;TZID=Europe/Berlin:20270310T190000
DTEND;TZID=Europe/Berlin:20270310T210000
DTSTAMP:20260420T023458
CREATED:20251203T171245Z
LAST-MODIFIED:20251203T171250Z
UID:10004486-1804705200-1804712400@buergertreff-neuendettelsau.de
SUMMARY:Man(n) trifft sich
DESCRIPTION:Mit aktuellen Themen
URL:https://buergertreff-neuendettelsau.de/veranstaltung/mann-trifft-sich-11/2027-03-10/
LOCATION:Bürgertreff Neuendettelsau\, Heilsbronner Str. 2\, Neuendettelsau\, Bayern\, 91564\, Deutschland
END:VEVENT
BEGIN:VEVENT
DTSTART;TZID=Europe/Berlin:20270414T190000
DTEND;TZID=Europe/Berlin:20270414T210000
DTSTAMP:20260420T023458
CREATED:20251203T171245Z
LAST-MODIFIED:20251203T171250Z
UID:10004487-1807729200-1807736400@buergertreff-neuendettelsau.de
SUMMARY:Man(n) trifft sich
DESCRIPTION:Mit aktuellen Themen
URL:https://buergertreff-neuendettelsau.de/veranstaltung/mann-trifft-sich-11/2027-04-14/
LOCATION:Bürgertreff Neuendettelsau\, Heilsbronner Str. 2\, Neuendettelsau\, Bayern\, 91564\, Deutschland
END:VEVENT
BEGIN:VEVENT
DTSTART;TZID=Europe/Berlin:20270512T190000
DTEND;TZID=Europe/Berlin:20270512T210000
DTSTAMP:20260420T023458
CREATED:20251203T171245Z
LAST-MODIFIED:20251203T171250Z
UID:10004488-1810148400-1810155600@buergertreff-neuendettelsau.de
SUMMARY:Man(n) trifft sich
DESCRIPTION:Mit aktuellen Themen
URL:https://buergertreff-neuendettelsau.de/veranstaltung/mann-trifft-sich-11/2027-05-12/
LOCATION:Bürgertreff Neuendettelsau\, Heilsbronner Str. 2\, Neuendettelsau\, Bayern\, 91564\, Deutschland
END:VEVENT
BEGIN:VEVENT
DTSTART;TZID=Europe/Berlin:20270609T190000
DTEND;TZID=Europe/Berlin:20270609T210000
DTSTAMP:20260420T023458
CREATED:20251203T171245Z
LAST-MODIFIED:20251203T171250Z
UID:10004489-1812567600-1812574800@buergertreff-neuendettelsau.de
SUMMARY:Man(n) trifft sich
DESCRIPTION:Mit aktuellen Themen
URL:https://buergertreff-neuendettelsau.de/veranstaltung/mann-trifft-sich-11/2027-06-09/
LOCATION:Bürgertreff Neuendettelsau\, Heilsbronner Str. 2\, Neuendettelsau\, Bayern\, 91564\, Deutschland
END:VEVENT
BEGIN:VEVENT
DTSTART;TZID=Europe/Berlin:20270714T190000
DTEND;TZID=Europe/Berlin:20270714T210000
DTSTAMP:20260420T023458
CREATED:20251203T171245Z
LAST-MODIFIED:20251203T171250Z
UID:10004490-1815591600-1815598800@buergertreff-neuendettelsau.de
SUMMARY:Man(n) trifft sich
DESCRIPTION:Mit aktuellen Themen
URL:https://buergertreff-neuendettelsau.de/veranstaltung/mann-trifft-sich-11/2027-07-14/
LOCATION:Bürgertreff Neuendettelsau\, Heilsbronner Str. 2\, Neuendettelsau\, Bayern\, 91564\, Deutschland
END:VEVENT
BEGIN:VEVENT
DTSTART;TZID=Europe/Berlin:20270811T190000
DTEND;TZID=Europe/Berlin:20270811T210000
DTSTAMP:20260420T023458
CREATED:20251203T171245Z
LAST-MODIFIED:20251203T171250Z
UID:10004491-1818010800-1818018000@buergertreff-neuendettelsau.de
SUMMARY:Man(n) trifft sich
DESCRIPTION:Mit aktuellen Themen
URL:https://buergertreff-neuendettelsau.de/veranstaltung/mann-trifft-sich-11/2027-08-11/
LOCATION:Bürgertreff Neuendettelsau\, Heilsbronner Str. 2\, Neuendettelsau\, Bayern\, 91564\, Deutschland
END:VEVENT
BEGIN:VEVENT
DTSTART;TZID=Europe/Berlin:20270908T190000
DTEND;TZID=Europe/Berlin:20270908T210000
DTSTAMP:20260420T023458
CREATED:20251203T171245Z
LAST-MODIFIED:20251203T171250Z
UID:10004492-1820430000-1820437200@buergertreff-neuendettelsau.de
SUMMARY:Man(n) trifft sich
DESCRIPTION:Mit aktuellen Themen
URL:https://buergertreff-neuendettelsau.de/veranstaltung/mann-trifft-sich-11/2027-09-08/
LOCATION:Bürgertreff Neuendettelsau\, Heilsbronner Str. 2\, Neuendettelsau\, Bayern\, 91564\, Deutschland
END:VEVENT
BEGIN:VEVENT
DTSTART;TZID=Europe/Berlin:20271013T190000
DTEND;TZID=Europe/Berlin:20271013T210000
DTSTAMP:20260420T023458
CREATED:20251203T171245Z
LAST-MODIFIED:20251203T171250Z
UID:10004493-1823454000-1823461200@buergertreff-neuendettelsau.de
SUMMARY:Man(n) trifft sich
DESCRIPTION:Mit aktuellen Themen
URL:https://buergertreff-neuendettelsau.de/veranstaltung/mann-trifft-sich-11/2027-10-13/
LOCATION:Bürgertreff Neuendettelsau\, Heilsbronner Str. 2\, Neuendettelsau\, Bayern\, 91564\, Deutschland
END:VEVENT
BEGIN:VEVENT
DTSTART;TZID=Europe/Berlin:20271110T190000
DTEND;TZID=Europe/Berlin:20271110T210000
DTSTAMP:20260420T023458
CREATED:20251203T171245Z
LAST-MODIFIED:20251203T171250Z
UID:10004494-1825873200-1825880400@buergertreff-neuendettelsau.de
SUMMARY:Man(n) trifft sich
DESCRIPTION:Mit aktuellen Themen
URL:https://buergertreff-neuendettelsau.de/veranstaltung/mann-trifft-sich-11/2027-11-10/
LOCATION:Bürgertreff Neuendettelsau\, Heilsbronner Str. 2\, Neuendettelsau\, Bayern\, 91564\, Deutschland
END:VEVENT
BEGIN:VEVENT
DTSTART;TZID=Europe/Berlin:20271208T190000
DTEND;TZID=Europe/Berlin:20271208T210000
DTSTAMP:20260420T023458
CREATED:20251203T171245Z
LAST-MODIFIED:20251203T171250Z
UID:10004495-1828292400-1828299600@buergertreff-neuendettelsau.de
SUMMARY:Man(n) trifft sich
DESCRIPTION:Mit aktuellen Themen
URL:https://buergertreff-neuendettelsau.de/veranstaltung/mann-trifft-sich-11/2027-12-08/
LOCATION:Bürgertreff Neuendettelsau\, Heilsbronner Str. 2\, Neuendettelsau\, Bayern\, 91564\, Deutschland
END:VEVENT
BEGIN:VEVENT
DTSTART;TZID=Europe/Berlin:20280112T190000
DTEND;TZID=Europe/Berlin:20280112T210000
DTSTAMP:20260420T023458
CREATED:20251203T171245Z
LAST-MODIFIED:20251203T171250Z
UID:10004496-1831316400-1831323600@buergertreff-neuendettelsau.de
SUMMARY:Man(n) trifft sich
DESCRIPTION:Mit aktuellen Themen
URL:https://buergertreff-neuendettelsau.de/veranstaltung/mann-trifft-sich-11/2028-01-12/
LOCATION:Bürgertreff Neuendettelsau\, Heilsbronner Str. 2\, Neuendettelsau\, Bayern\, 91564\, Deutschland
END:VEVENT
BEGIN:VEVENT
DTSTART;TZID=Europe/Berlin:20280209T190000
DTEND;TZID=Europe/Berlin:20280209T210000
DTSTAMP:20260420T023458
CREATED:20251203T171245Z
LAST-MODIFIED:20251203T171250Z
UID:10004497-1833735600-1833742800@buergertreff-neuendettelsau.de
SUMMARY:Man(n) trifft sich
DESCRIPTION:Mit aktuellen Themen
URL:https://buergertreff-neuendettelsau.de/veranstaltung/mann-trifft-sich-11/2028-02-09/
LOCATION:Bürgertreff Neuendettelsau\, Heilsbronner Str. 2\, Neuendettelsau\, Bayern\, 91564\, Deutschland
END:VEVENT
BEGIN:VEVENT
DTSTART;TZID=Europe/Berlin:20280308T190000
DTEND;TZID=Europe/Berlin:20280308T210000
DTSTAMP:20260420T023458
CREATED:20251203T171245Z
LAST-MODIFIED:20251203T171250Z
UID:10004498-1836154800-1836162000@buergertreff-neuendettelsau.de
SUMMARY:Man(n) trifft sich
DESCRIPTION:Mit aktuellen Themen
URL:https://buergertreff-neuendettelsau.de/veranstaltung/mann-trifft-sich-11/2028-03-08/
LOCATION:Bürgertreff Neuendettelsau\, Heilsbronner Str. 2\, Neuendettelsau\, Bayern\, 91564\, Deutschland
END:VEVENT
BEGIN:VEVENT
DTSTART;TZID=Europe/Berlin:20280412T190000
DTEND;TZID=Europe/Berlin:20280412T210000
DTSTAMP:20260420T023458
CREATED:20251203T171245Z
LAST-MODIFIED:20251203T171250Z
UID:10004499-1839178800-1839186000@buergertreff-neuendettelsau.de
SUMMARY:Man(n) trifft sich
DESCRIPTION:Mit aktuellen Themen
URL:https://buergertreff-neuendettelsau.de/veranstaltung/mann-trifft-sich-11/2028-04-12/
LOCATION:Bürgertreff Neuendettelsau\, Heilsbronner Str. 2\, Neuendettelsau\, Bayern\, 91564\, Deutschland
END:VEVENT
BEGIN:VEVENT
DTSTART;TZID=Europe/Berlin:20280510T190000
DTEND;TZID=Europe/Berlin:20280510T210000
DTSTAMP:20260420T023458
CREATED:20251203T171245Z
LAST-MODIFIED:20251203T171250Z
UID:10004500-1841598000-1841605200@buergertreff-neuendettelsau.de
SUMMARY:Man(n) trifft sich
DESCRIPTION:Mit aktuellen Themen
URL:https://buergertreff-neuendettelsau.de/veranstaltung/mann-trifft-sich-11/2028-05-10/
LOCATION:Bürgertreff Neuendettelsau\, Heilsbronner Str. 2\, Neuendettelsau\, Bayern\, 91564\, Deutschland
END:VEVENT
BEGIN:VEVENT
DTSTART;TZID=Europe/Berlin:20280614T190000
DTEND;TZID=Europe/Berlin:20280614T210000
DTSTAMP:20260420T023458
CREATED:20251203T171245Z
LAST-MODIFIED:20251203T171250Z
UID:10004501-1844622000-1844629200@buergertreff-neuendettelsau.de
SUMMARY:Man(n) trifft sich
DESCRIPTION:Mit aktuellen Themen
URL:https://buergertreff-neuendettelsau.de/veranstaltung/mann-trifft-sich-11/2028-06-14/
LOCATION:Bürgertreff Neuendettelsau\, Heilsbronner Str. 2\, Neuendettelsau\, Bayern\, 91564\, Deutschland
END:VEVENT
BEGIN:VEVENT
DTSTART;TZID=Europe/Berlin:20280712T190000
DTEND;TZID=Europe/Berlin:20280712T210000
DTSTAMP:20260420T023458
CREATED:20251203T171245Z
LAST-MODIFIED:20251203T171250Z
UID:10004502-1847041200-1847048400@buergertreff-neuendettelsau.de
SUMMARY:Man(n) trifft sich
DESCRIPTION:Mit aktuellen Themen
URL:https://buergertreff-neuendettelsau.de/veranstaltung/mann-trifft-sich-11/2028-07-12/
LOCATION:Bürgertreff Neuendettelsau\, Heilsbronner Str. 2\, Neuendettelsau\, Bayern\, 91564\, Deutschland
END:VEVENT
BEGIN:VEVENT
DTSTART;TZID=Europe/Berlin:20280809T190000
DTEND;TZID=Europe/Berlin:20280809T210000
DTSTAMP:20260420T023458
CREATED:20251203T171245Z
LAST-MODIFIED:20251203T171250Z
UID:10004503-1849460400-1849467600@buergertreff-neuendettelsau.de
SUMMARY:Man(n) trifft sich
DESCRIPTION:Mit aktuellen Themen
URL:https://buergertreff-neuendettelsau.de/veranstaltung/mann-trifft-sich-11/2028-08-09/
LOCATION:Bürgertreff Neuendettelsau\, Heilsbronner Str. 2\, Neuendettelsau\, Bayern\, 91564\, Deutschland
END:VEVENT
BEGIN:VEVENT
DTSTART;TZID=Europe/Berlin:20280913T190000
DTEND;TZID=Europe/Berlin:20280913T210000
DTSTAMP:20260420T023458
CREATED:20251203T171245Z
LAST-MODIFIED:20251203T171250Z
UID:10004504-1852484400-1852491600@buergertreff-neuendettelsau.de
SUMMARY:Man(n) trifft sich
DESCRIPTION:Mit aktuellen Themen
URL:https://buergertreff-neuendettelsau.de/veranstaltung/mann-trifft-sich-11/2028-09-13/
LOCATION:Bürgertreff Neuendettelsau\, Heilsbronner Str. 2\, Neuendettelsau\, Bayern\, 91564\, Deutschland
END:VEVENT
BEGIN:VEVENT
DTSTART;TZID=Europe/Berlin:20281011T190000
DTEND;TZID=Europe/Berlin:20281011T210000
DTSTAMP:20260420T023458
CREATED:20251203T171245Z
LAST-MODIFIED:20251203T171250Z
UID:10004505-1854903600-1854910800@buergertreff-neuendettelsau.de
SUMMARY:Man(n) trifft sich
DESCRIPTION:Mit aktuellen Themen
URL:https://buergertreff-neuendettelsau.de/veranstaltung/mann-trifft-sich-11/2028-10-11/
LOCATION:Bürgertreff Neuendettelsau\, Heilsbronner Str. 2\, Neuendettelsau\, Bayern\, 91564\, Deutschland
END:VEVENT
END:VCALENDAR