BEGIN:VCALENDAR
VERSION:2.0
PRODID:-// - ECPv6.15.20//NONSGML v1.0//EN
CALSCALE:GREGORIAN
METHOD:PUBLISH
X-ORIGINAL-URL:https://buergertreff-neuendettelsau.de
X-WR-CALDESC:Veranstaltungen für 
REFRESH-INTERVAL;VALUE=DURATION:PT1H
X-Robots-Tag:noindex
X-PUBLISHED-TTL:PT1H
BEGIN:VTIMEZONE
TZID:Europe/Berlin
BEGIN:DAYLIGHT
TZOFFSETFROM:+0100
TZOFFSETTO:+0200
TZNAME:CEST
DTSTART:20230326T010000
END:DAYLIGHT
BEGIN:STANDARD
TZOFFSETFROM:+0200
TZOFFSETTO:+0100
TZNAME:CET
DTSTART:20231029T010000
END:STANDARD
BEGIN:DAYLIGHT
TZOFFSETFROM:+0100
TZOFFSETTO:+0200
TZNAME:CEST
DTSTART:20240331T010000
END:DAYLIGHT
BEGIN:STANDARD
TZOFFSETFROM:+0200
TZOFFSETTO:+0100
TZNAME:CET
DTSTART:20241027T010000
END:STANDARD
BEGIN:DAYLIGHT
TZOFFSETFROM:+0100
TZOFFSETTO:+0200
TZNAME:CEST
DTSTART:20250330T010000
END:DAYLIGHT
BEGIN:STANDARD
TZOFFSETFROM:+0200
TZOFFSETTO:+0100
TZNAME:CET
DTSTART:20251026T010000
END:STANDARD
END:VTIMEZONE
BEGIN:VEVENT
DTSTART;TZID=Europe/Berlin:20241108T180000
DTEND;TZID=Europe/Berlin:20241108T200000
DTSTAMP:20260422T120125
CREATED:20240717T102556Z
LAST-MODIFIED:20241015T081406Z
UID:10001668-1731088800-1731096000@buergertreff-neuendettelsau.de
SUMMARY:Musikalischer Feierabend: Chor Takt 44
DESCRIPTION:Den „Musikalischen Feierabend“ am Freitag\, 8. November\, gestaltet der Chor Takt 44. Dieser wurde im Jahr 2018 von einigen Frauen aus verschiedenen Bereichen des Diakoneo Sozialunternehmens gegründet. Er probt regelmäßig in Neuendettelsau. Gesungen wird zweistimmig mit Klavierbegleitung. Mittlerweile singen zwölf Frauen mit\, die Leitung und das Klavier hat Hartmut Kawohl übernommen. Das Repertoire ist breit gefächert. Es umfasst deutsche Volkslieder ebenso wie englische Volkslieder\, Songs der Beatles und von ABBA\, Spirituals\, Scherzlieder und auch verschiedene Weihnachtslieder. Im Bürgertreff wird der Chor etwa zur Hälfte deutsche und englische Lieder singen und einen Querschnitt seines Repertoires zum Besten geben. Der Eintritt ist frei. Herzlich willkommen!
URL:https://buergertreff-neuendettelsau.de/veranstaltung/musikalischer-feierabend-chor-takt-44/
LOCATION:Bürgertreff Neuendettelsau\, Heilsbronner Str. 2\, Neuendettelsau\, Bayern\, 91564\, Deutschland
ATTACH;FMTTYPE=image/jpeg:https://buergertreff-neuendettelsau.de/wp-content/uploads/2024/07/Takt-44.jpeg
END:VEVENT
END:VCALENDAR