BEGIN:VCALENDAR
VERSION:2.0
PRODID:-// - ECPv6.15.20//NONSGML v1.0//EN
CALSCALE:GREGORIAN
METHOD:PUBLISH
X-ORIGINAL-URL:https://buergertreff-neuendettelsau.de
X-WR-CALDESC:Veranstaltungen für 
REFRESH-INTERVAL;VALUE=DURATION:PT1H
X-Robots-Tag:noindex
X-PUBLISHED-TTL:PT1H
BEGIN:VTIMEZONE
TZID:Europe/Berlin
BEGIN:DAYLIGHT
TZOFFSETFROM:+0100
TZOFFSETTO:+0200
TZNAME:CEST
DTSTART:20250330T010000
END:DAYLIGHT
BEGIN:STANDARD
TZOFFSETFROM:+0200
TZOFFSETTO:+0100
TZNAME:CET
DTSTART:20251026T010000
END:STANDARD
BEGIN:DAYLIGHT
TZOFFSETFROM:+0100
TZOFFSETTO:+0200
TZNAME:CEST
DTSTART:20260329T010000
END:DAYLIGHT
BEGIN:STANDARD
TZOFFSETFROM:+0200
TZOFFSETTO:+0100
TZNAME:CET
DTSTART:20261025T010000
END:STANDARD
BEGIN:DAYLIGHT
TZOFFSETFROM:+0100
TZOFFSETTO:+0200
TZNAME:CEST
DTSTART:20270328T010000
END:DAYLIGHT
BEGIN:STANDARD
TZOFFSETFROM:+0200
TZOFFSETTO:+0100
TZNAME:CET
DTSTART:20271031T010000
END:STANDARD
END:VTIMEZONE
BEGIN:VEVENT
DTSTART;TZID=Europe/Berlin:20260226T090000
DTEND;TZID=Europe/Berlin:20260226T110000
DTSTAMP:20260423T131138
CREATED:20260221T100538Z
LAST-MODIFIED:20260221T100548Z
UID:10005324-1772096400-1772103600@buergertreff-neuendettelsau.de
SUMMARY:Treffen der Tafelhelferinnen
DESCRIPTION:u.a. Hygieneschulung
URL:https://buergertreff-neuendettelsau.de/veranstaltung/treffen-der-tafelhelferinnen-3/
ATTACH;FMTTYPE=image/png:https://buergertreff-neuendettelsau.de/wp-content/uploads/2023/10/DieTafeln.png
END:VEVENT
BEGIN:VEVENT
DTSTART;TZID=Europe/Berlin:20260226T143000
DTEND;TZID=Europe/Berlin:20260226T170000
DTSTAMP:20260423T131138
CREATED:20251204T204110Z
LAST-MODIFIED:20251204T204118Z
UID:10004776-1772116200-1772125200@buergertreff-neuendettelsau.de
SUMMARY:Offenes Treffen
DESCRIPTION:Für alle Menschen jedes Alters\, die Gemeinschaft suchen. Bei einem Getränke (Kaffee/Tee) treffen sie sich mit Gleichgesinnten zu einer entspannten Runde zur Unterhaltung oder zum Spiel. Bei schönem Wetter auch auf der Terrasse. Für Fragen jeder Art stehen Ansprechpartner*innen bereit. Kommen Sie einfach herein …
URL:https://buergertreff-neuendettelsau.de/veranstaltung/offenes-treffen-8/2026-02-26/
LOCATION:Bürgertreff Neuendettelsau\, Heilsbronner Str. 2\, Neuendettelsau\, Bayern\, 91564\, Deutschland
ATTACH;FMTTYPE=image/jpeg:https://buergertreff-neuendettelsau.de/wp-content/uploads/2023/08/Offener-Treff.jpg
END:VEVENT
BEGIN:VEVENT
DTSTART;TZID=Europe/Berlin:20260226T190000
DTEND;TZID=Europe/Berlin:20260226T210000
DTSTAMP:20260423T131138
CREATED:20251105T201048Z
LAST-MODIFIED:20251110T121022Z
UID:10004286-1772132400-1772139600@buergertreff-neuendettelsau.de
SUMMARY:Treffen für Alleinstehende
DESCRIPTION:„Keine Lust mal wieder allein unterwegs zu sein\, lieber mit netten Leuten was unternehmen? Dann komm doch vorbei!“ Unter diesem Motto steht das neue Angebot\, das die stellvertretende Vorsitzende des Bündnis für Familie\, Petra Schweigert\, macht. Beim Treffen für Alleinstehende soll Zeit sein zum Kenennlernen und Austausch für Frauen und Männer zur gemeinsamen Freizeitgestaltung. Herzlich willkommen! Weitere Infos unter Telefon 0176 6388 69 55 (auch Whatsapp).
URL:https://buergertreff-neuendettelsau.de/veranstaltung/treffen-fuer-alleinstehende-3/
LOCATION:Bürgertreff Neuendettelsau\, Heilsbronner Str. 2\, Neuendettelsau\, Bayern\, 91564\, Deutschland
END:VEVENT
END:VCALENDAR