BEGIN:VCALENDAR
VERSION:2.0
PRODID:-// - ECPv6.15.20//NONSGML v1.0//EN
CALSCALE:GREGORIAN
METHOD:PUBLISH
X-ORIGINAL-URL:https://buergertreff-neuendettelsau.de
X-WR-CALDESC:Veranstaltungen für 
REFRESH-INTERVAL;VALUE=DURATION:PT1H
X-Robots-Tag:noindex
X-PUBLISHED-TTL:PT1H
BEGIN:VTIMEZONE
TZID:Europe/Berlin
BEGIN:DAYLIGHT
TZOFFSETFROM:+0100
TZOFFSETTO:+0200
TZNAME:CEST
DTSTART:20250330T010000
END:DAYLIGHT
BEGIN:STANDARD
TZOFFSETFROM:+0200
TZOFFSETTO:+0100
TZNAME:CET
DTSTART:20251026T010000
END:STANDARD
BEGIN:DAYLIGHT
TZOFFSETFROM:+0100
TZOFFSETTO:+0200
TZNAME:CEST
DTSTART:20260329T010000
END:DAYLIGHT
BEGIN:STANDARD
TZOFFSETFROM:+0200
TZOFFSETTO:+0100
TZNAME:CET
DTSTART:20261025T010000
END:STANDARD
BEGIN:DAYLIGHT
TZOFFSETFROM:+0100
TZOFFSETTO:+0200
TZNAME:CEST
DTSTART:20270328T010000
END:DAYLIGHT
BEGIN:STANDARD
TZOFFSETFROM:+0200
TZOFFSETTO:+0100
TZNAME:CET
DTSTART:20271031T010000
END:STANDARD
END:VTIMEZONE
BEGIN:VEVENT
DTSTART;TZID=Europe/Berlin:20260227T193000
DTEND;TZID=Europe/Berlin:20260227T220000
DTSTAMP:20260423T132407
CREATED:20260202T135512Z
LAST-MODIFIED:20260210T083758Z
UID:10003836-1772220600-1772229600@buergertreff-neuendettelsau.de
SUMMARY:Dorfkino "Die Möllner Briefe" ( FSK 12)
DESCRIPTION:Dokumentarfilm von Martina Priessner aus dem Jahr 2025\, mehrfach ausgezeichnet.Deutschland\, 23. November 1992. Bei einem rassistischen Angriff kommen drei Familienmitglieder von İbrahim Arslan in einem Feuer ums Leben. Dreißig Jahre später entdeckt İbrahim Arslan Tausende von Briefen der Solidarität\, die im Stadtarchiv vergessen wurden. Wir begleiten die Familie bei der Bewältigung ihres tiefen Traumas. \n\n\n\n\n      Sie sehen gerade einen Platzhalterinhalt von YouTube. Um auf den eigentlichen Inhalt zuzugreifen\, klicken Sie auf die Schaltfläche unten. Bitte beachten Sie\, dass dabei Daten an Drittanbieter weitergegeben werden.  Mehr Informationen   Inhalt entsperren Erforderlichen Service akzeptieren und Inhalte entsperren
URL:https://buergertreff-neuendettelsau.de/veranstaltung/dorfkino-im-buergertreff-36/
LOCATION:Bürgertreff Neuendettelsau\, Heilsbronner Str. 2\, Neuendettelsau\, Bayern\, 91564\, Deutschland
CATEGORIES:Dorfkino im Bürgertreff
ATTACH;FMTTYPE=image/jpeg:https://buergertreff-neuendettelsau.de/wp-content/uploads/2024/05/MoellnerBriefe.jpg
END:VEVENT
END:VCALENDAR