BEGIN:VCALENDAR
VERSION:2.0
PRODID:-// - ECPv6.15.20//NONSGML v1.0//EN
CALSCALE:GREGORIAN
METHOD:PUBLISH
X-ORIGINAL-URL:https://buergertreff-neuendettelsau.de
X-WR-CALDESC:Veranstaltungen für 
REFRESH-INTERVAL;VALUE=DURATION:PT1H
X-Robots-Tag:noindex
X-PUBLISHED-TTL:PT1H
BEGIN:VTIMEZONE
TZID:Europe/Berlin
BEGIN:DAYLIGHT
TZOFFSETFROM:+0100
TZOFFSETTO:+0200
TZNAME:CEST
DTSTART:20250330T010000
END:DAYLIGHT
BEGIN:STANDARD
TZOFFSETFROM:+0200
TZOFFSETTO:+0100
TZNAME:CET
DTSTART:20251026T010000
END:STANDARD
BEGIN:DAYLIGHT
TZOFFSETFROM:+0100
TZOFFSETTO:+0200
TZNAME:CEST
DTSTART:20260329T010000
END:DAYLIGHT
BEGIN:STANDARD
TZOFFSETFROM:+0200
TZOFFSETTO:+0100
TZNAME:CET
DTSTART:20261025T010000
END:STANDARD
BEGIN:DAYLIGHT
TZOFFSETFROM:+0100
TZOFFSETTO:+0200
TZNAME:CEST
DTSTART:20270328T010000
END:DAYLIGHT
BEGIN:STANDARD
TZOFFSETFROM:+0200
TZOFFSETTO:+0100
TZNAME:CET
DTSTART:20271031T010000
END:STANDARD
END:VTIMEZONE
BEGIN:VEVENT
DTSTART;TZID=Europe/Berlin:20260307T092000
DTEND;TZID=Europe/Berlin:20260307T100000
DTSTAMP:20260423T132943
CREATED:20251222T180129Z
LAST-MODIFIED:20251222T180131Z
UID:10005042-1772875200-1772877600@buergertreff-neuendettelsau.de
SUMMARY:Lebensmittel retten
DESCRIPTION:Einkaufsmärkte sortieren Lebensmittel aus\, deren MHD (Mindesthaltbarkeitsdatum) erreicht ist. Häufig landen diese Lebensmittel dann in der Tonne. Dabei sind die Lebensmittel in aller Regel über das MHD hinaus genießbar. Um die Verschwendung wertvoller Lebensmittel zu verhindern\, holt Helmut Keuerleber diese aus dem Einkaufsmarkt in Bruckberg ab und bringt sie nach Neuendettelsau. Dort werden sie jeden Samstag von 9.20 bis 10 Uhr auf dem Parkplatz der Passage an alle „Lebensmittelretter“ kostenlos abgegeben. Siehe auch Gruppe „Lebensmittelrettung“ auf der Crossiety-App.
URL:https://buergertreff-neuendettelsau.de/veranstaltung/lebensmittel-retten-3/2026-03-07/
ATTACH;FMTTYPE=image/jpeg:https://buergertreff-neuendettelsau.de/wp-content/uploads/2024/12/Lebensmittel-retten.jpg
END:VEVENT
BEGIN:VEVENT
DTSTART;TZID=Europe/Berlin:20260307T150000
DTEND;TZID=Europe/Berlin:20260307T170000
DTSTAMP:20260423T132943
CREATED:20260225T164940Z
LAST-MODIFIED:20260225T165205Z
UID:10005330-1772895600-1772902800@buergertreff-neuendettelsau.de
SUMMARY:Kino K7 - Lino-ein voll verkatertes Abenteuer ( FSK 0 )
DESCRIPTION:Einlass 14:30 Uhr\, Filmbeginn 15:00 Uhr \n\n\n\nFSK 0 \n\n\n\nLino arbeitet als Entertainer auf Kinderfeiern\, hält es aber einfach nicht mehr aus\, wie mies\, respektlos und abschätzig er von den Kindern behandelt wird. Alle machen sich über ihn lustig\, weil er in einem Katzenkostüm steckt\, ungeschickt und ein Tollpatsch ist. Doch schließlich fasst er den Entschluss\, sein Leben zu ändern. Er will einfach kein Pechvogel mehr sein! Also besucht er kurzerhand einen Zauberer\, der ihm dabei helfen soll. Die Zauberei geht allerdings gewaltig schief und plötzlich ist Lino eine waschechte Katze! Sein Leben sollte sich also tatsächlich gehörig ändern: Während die Polizei Jagd auf ihn macht\, erobert er außerdem das Herz eines kleines Waisenmädchens\, ddem er auf einer Flucht begegnet. Und die weicht ihn von nun an nicht mehr von der Seite! Trotzdem hat Lino vor allem ein Ziel: Er will um jeden Preis wieder sein altes Leben als Mensch zurück! \n\n\n\n\n      Sie sehen gerade einen Platzhalterinhalt von YouTube. Um auf den eigentlichen Inhalt zuzugreifen\, klicken Sie auf die Schaltfläche unten. Bitte beachten Sie\, dass dabei Daten an Drittanbieter weitergegeben werden.  Mehr Informationen   Inhalt entsperren Erforderlichen Service akzeptieren und Inhalte entsperren
URL:https://buergertreff-neuendettelsau.de/veranstaltung/kino-k7-lino-ein-voll-verkatertes-abenteuer-fsk-0/
LOCATION:Turnhalle\, Heckenstraße 7\, Neuendettelsau\, Bayern\, 91564\, Deutschland
CATEGORIES:Dorfkino im Bürgertreff
ATTACH;FMTTYPE=image/jpeg:https://buergertreff-neuendettelsau.de/wp-content/uploads/2026/02/2026-03-07-Lino-ein-voll-verkatertes-Abenteuer-FSK-0-.jpg
END:VEVENT
BEGIN:VEVENT
DTSTART;TZID=Europe/Berlin:20260307T160000
DTEND;TZID=Europe/Berlin:20260307T180000
DTSTAMP:20260423T132943
CREATED:20251027T174200Z
LAST-MODIFIED:20251027T174331Z
UID:10004005-1772899200-1772906400@buergertreff-neuendettelsau.de
SUMMARY:Gesprächskreis Deutsch International
DESCRIPTION:Treffen interessierter Frauen und Männer zum kulturellen Austausch\, Verbesserung der deutschen Sprachkenntnisse und zur Integration – in entspannter Runde bei Kaffee und Kuchen
URL:https://buergertreff-neuendettelsau.de/veranstaltung/gespraechskreis-deutsch-international-2/2026-03-07/
LOCATION:Bürgertreff Neuendettelsau\, Heilsbronner Str. 2\, Neuendettelsau\, Bayern\, 91564\, Deutschland
ATTACH;FMTTYPE=image/jpeg:https://buergertreff-neuendettelsau.de/wp-content/uploads/2023/04/Cafeinternational-2.jpg
END:VEVENT
BEGIN:VEVENT
DTSTART;TZID=Europe/Berlin:20260307T200000
DTEND;TZID=Europe/Berlin:20260307T220000
DTSTAMP:20260423T132943
CREATED:20260225T165809Z
LAST-MODIFIED:20260225T165959Z
UID:10005331-1772913600-1772920800@buergertreff-neuendettelsau.de
SUMMARY:Kino K7 - Das Kanu des Manitu ( FSK 6 )
DESCRIPTION:Einlass 19:30 Uhr\, Filmbeginn 20:00 Uhr  \n\n\n\nFSK 6 \n\n\n\nDass es Apachen-Häuptling Abahachi und seinem weißen Blutsbruder Ranger langweilig wird\, kann man nun wirklich nicht behaupten. Vor allem die neue Bande in der Gegend sorgt immer wieder für Aufregung – und schnell sind auch die beiden ungleichen Brüder mitten drin im Geschehen. Denn die Bande hat es auf das legendäre „Kanu des Manitu“ abgesehen und stellt den beiden deshalb eine Falle. In der Folge finden sich die beiden Blutsbrüder also am Galgen wieder. Aus der Patsche hilft ihnen schließlich ein alter Freund: Dimitri. Der verschrobene Grieche und seine Kollegin Mary können Abahachi und Ranger in letzter Sekunde vor dem Schlimmsten bewahren. Doch das war natürlich erst mal nur die halbe Miete\, denn die Bande treibt selbstverständlich immer noch ihr Unwesen und das Abenteuer der vier ungleichen Freunde beginnt gerade erst so richtig… \n\n\n\n\n      Sie sehen gerade einen Platzhalterinhalt von YouTube. Um auf den eigentlichen Inhalt zuzugreifen\, klicken Sie auf die Schaltfläche unten. Bitte beachten Sie\, dass dabei Daten an Drittanbieter weitergegeben werden.  Mehr Informationen   Inhalt entsperren Erforderlichen Service akzeptieren und Inhalte entsperren
URL:https://buergertreff-neuendettelsau.de/veranstaltung/kino-k7-das-kanu-des-manitu-fsk-6/
LOCATION:Turnhalle\, Heckenstraße 7\, Neuendettelsau\, Bayern\, 91564\, Deutschland
CATEGORIES:Dorfkino im Bürgertreff
ATTACH;FMTTYPE=image/jpeg:https://buergertreff-neuendettelsau.de/wp-content/uploads/2026/02/2026-03-07-Das-Kanu-des-Manitu-FSK-6-.jpg
END:VEVENT
END:VCALENDAR