BEGIN:VCALENDAR
VERSION:2.0
PRODID:-// - ECPv6.15.20//NONSGML v1.0//EN
CALSCALE:GREGORIAN
METHOD:PUBLISH
X-ORIGINAL-URL:https://buergertreff-neuendettelsau.de
X-WR-CALDESC:Veranstaltungen für 
REFRESH-INTERVAL;VALUE=DURATION:PT1H
X-Robots-Tag:noindex
X-PUBLISHED-TTL:PT1H
BEGIN:VTIMEZONE
TZID:Europe/Berlin
BEGIN:DAYLIGHT
TZOFFSETFROM:+0100
TZOFFSETTO:+0200
TZNAME:CEST
DTSTART:20250330T010000
END:DAYLIGHT
BEGIN:STANDARD
TZOFFSETFROM:+0200
TZOFFSETTO:+0100
TZNAME:CET
DTSTART:20251026T010000
END:STANDARD
BEGIN:DAYLIGHT
TZOFFSETFROM:+0100
TZOFFSETTO:+0200
TZNAME:CEST
DTSTART:20260329T010000
END:DAYLIGHT
BEGIN:STANDARD
TZOFFSETFROM:+0200
TZOFFSETTO:+0100
TZNAME:CET
DTSTART:20261025T010000
END:STANDARD
BEGIN:DAYLIGHT
TZOFFSETFROM:+0100
TZOFFSETTO:+0200
TZNAME:CEST
DTSTART:20270328T010000
END:DAYLIGHT
BEGIN:STANDARD
TZOFFSETFROM:+0200
TZOFFSETTO:+0100
TZNAME:CET
DTSTART:20271031T010000
END:STANDARD
END:VTIMEZONE
BEGIN:VEVENT
DTSTART;TZID=Europe/Berlin:20260514T143000
DTEND;TZID=Europe/Berlin:20260514T170000
DTSTAMP:20260421T150007
CREATED:20251204T204110Z
LAST-MODIFIED:20251204T204118Z
UID:10004787-1778769000-1778778000@buergertreff-neuendettelsau.de
SUMMARY:Offenes Treffen
DESCRIPTION:Für alle Menschen jedes Alters\, die Gemeinschaft suchen. Bei einem Getränke (Kaffee/Tee) treffen sie sich mit Gleichgesinnten zu einer entspannten Runde zur Unterhaltung oder zum Spiel. Bei schönem Wetter auch auf der Terrasse. Für Fragen jeder Art stehen Ansprechpartner*innen bereit. Kommen Sie einfach herein …
URL:https://buergertreff-neuendettelsau.de/veranstaltung/offenes-treffen-8/2026-05-14/
LOCATION:Bürgertreff Neuendettelsau\, Heilsbronner Str. 2\, Neuendettelsau\, Bayern\, 91564\, Deutschland
ATTACH;FMTTYPE=image/jpeg:https://buergertreff-neuendettelsau.de/wp-content/uploads/2023/08/Offener-Treff.jpg
END:VEVENT
BEGIN:VEVENT
DTSTART;TZID=Europe/Berlin:20260515T113000
DTEND;TZID=Europe/Berlin:20260515T140000
DTSTAMP:20260421T150007
CREATED:20250428T091723Z
LAST-MODIFIED:20250913T155537Z
UID:10003537-1778844600-1778853600@buergertreff-neuendettelsau.de
SUMMARY:Mittagstisch des Seniorenbeirats
DESCRIPTION:Unter dem Motto „Gemeinsam schmeckt’s besser“ bietet der Seniorenbeirat Mittagessen an. Reservierungen sind jeweils bis zum vorangehenden Montag (12 Uhr) per Anmeldeformular (im Bürgertreff und im Rathaus erhältlich) oder telefonisch unter 5103 (Kinkelin) möglich.
URL:https://buergertreff-neuendettelsau.de/veranstaltung/mittagstisch-des-seniorenbeirats-3/2026-05-15/
LOCATION:Bürgertreff Neuendettelsau\, Heilsbronner Str. 2\, Neuendettelsau\, Bayern\, 91564\, Deutschland
ATTACH;FMTTYPE=image/jpeg:https://buergertreff-neuendettelsau.de/wp-content/uploads/2023/09/mittagstisch.jpeg
END:VEVENT
BEGIN:VEVENT
DTSTART;TZID=Europe/Berlin:20260516T092000
DTEND;TZID=Europe/Berlin:20260516T100000
DTSTAMP:20260421T150007
CREATED:20251222T180129Z
LAST-MODIFIED:20251222T180131Z
UID:10005052-1778923200-1778925600@buergertreff-neuendettelsau.de
SUMMARY:Lebensmittel retten
DESCRIPTION:Einkaufsmärkte sortieren Lebensmittel aus\, deren MHD (Mindesthaltbarkeitsdatum) erreicht ist. Häufig landen diese Lebensmittel dann in der Tonne. Dabei sind die Lebensmittel in aller Regel über das MHD hinaus genießbar. Um die Verschwendung wertvoller Lebensmittel zu verhindern\, holt Helmut Keuerleber diese aus dem Einkaufsmarkt in Bruckberg ab und bringt sie nach Neuendettelsau. Dort werden sie jeden Samstag von 9.20 bis 10 Uhr auf dem Parkplatz der Passage an alle „Lebensmittelretter“ kostenlos abgegeben. Siehe auch Gruppe „Lebensmittelrettung“ auf der Crossiety-App.
URL:https://buergertreff-neuendettelsau.de/veranstaltung/lebensmittel-retten-3/2026-05-16/
LOCATION:Bayern
ATTACH;FMTTYPE=image/jpeg:https://buergertreff-neuendettelsau.de/wp-content/uploads/2024/12/Lebensmittel-retten.jpg
END:VEVENT
BEGIN:VEVENT
DTSTART;TZID=Europe/Berlin:20260516T150000
DTEND;TZID=Europe/Berlin:20260516T170000
DTSTAMP:20260421T150007
CREATED:20260309T160207Z
LAST-MODIFIED:20260309T160208Z
UID:10005431-1778943600-1778950800@buergertreff-neuendettelsau.de
SUMMARY:Kino K7 - Checker Tobi 3 - Die heimliche Herrscherin der Erde ( FSK 0 )
DESCRIPTION:Einlass 14:30 Uhr\, Filmbeginn 15:00 Uhr \n\n\n\nFSK 0 \n\n\n\nChecker Tobi  räumt zusammen mit Marina den Keller auf und stößt dabei auf eine alte Rätselfrage aus seiner Kindheit: Wer hinterlässt die tiefsten Spuren im Erdreich? Seine Spurensuche führt ihn an entlegene Orte wie den ostafrikanischen Inselstaat Madagaskar\, zum norwegischen Spitzbergen im Arktischen Ozean und nach Mexiko. Mit jedem einzelnen Schritt\, mit jeder Reise\, mit jedem Abenteuer kommt er der herbeigesehnten Lösung immer näher\, bis er schließlich entdeckt\, was diese scheinbar unterschiedlichen Orte miteinander verbindet. Am Ende findet er die Antwort\, die seinem achtjährigen Ich gefehlt hat… \n\n\n\n\n      Sie sehen gerade einen Platzhalterinhalt von YouTube. Um auf den eigentlichen Inhalt zuzugreifen\, klicken Sie auf die Schaltfläche unten. Bitte beachten Sie\, dass dabei Daten an Drittanbieter weitergegeben werden.  Mehr Informationen   Inhalt entsperren Erforderlichen Service akzeptieren und Inhalte entsperren
URL:https://buergertreff-neuendettelsau.de/veranstaltung/kino-k7-checker-tobi-3-die-heimliche-herrscherin-der-erde-fsk-0/
LOCATION:Turnhalle\, Heckenstraße 7\, Neuendettelsau\, Bayern\, 91564\, Deutschland
CATEGORIES:Dorfkino im Bürgertreff
ATTACH;FMTTYPE=image/jpeg:https://buergertreff-neuendettelsau.de/wp-content/uploads/2026/03/20260516-Checker-Tobi-3-Die-heimliche-Herrscherin-der-Erde-FSK-0-.jpg
END:VEVENT
BEGIN:VEVENT
DTSTART;TZID=Europe/Berlin:20260516T160000
DTEND;TZID=Europe/Berlin:20260516T180000
DTSTAMP:20260421T150007
CREATED:20251027T174200Z
LAST-MODIFIED:20251027T174331Z
UID:10004015-1778947200-1778954400@buergertreff-neuendettelsau.de
SUMMARY:Gesprächskreis Deutsch International
DESCRIPTION:Treffen interessierter Frauen und Männer zum kulturellen Austausch\, Verbesserung der deutschen Sprachkenntnisse und zur Integration – in entspannter Runde bei Kaffee und Kuchen
URL:https://buergertreff-neuendettelsau.de/veranstaltung/gespraechskreis-deutsch-international-2/2026-05-16/
LOCATION:Bürgertreff Neuendettelsau\, Heilsbronner Str. 2\, Neuendettelsau\, Bayern\, 91564\, Deutschland
ATTACH;FMTTYPE=image/jpeg:https://buergertreff-neuendettelsau.de/wp-content/uploads/2023/04/Cafeinternational-2.jpg
END:VEVENT
BEGIN:VEVENT
DTSTART;TZID=Europe/Berlin:20260518T170000
DTEND;TZID=Europe/Berlin:20260518T190000
DTSTAMP:20260421T150007
CREATED:20251120T112643Z
LAST-MODIFIED:20251120T112645Z
UID:10004333-1779123600-1779130800@buergertreff-neuendettelsau.de
SUMMARY:TSC-Geschäftsstelle
DESCRIPTION:Willi Lennert\, Geschäftsführer des TSC Neuendettelsau\, steht für alle Fragen und Anliegen rund um den Verein zur Verfügung
URL:https://buergertreff-neuendettelsau.de/veranstaltung/tsc-geschaeftsstelle/2026-05-18/
LOCATION:Bürgertreff Neuendettelsau\, Heilsbronner Str. 2\, Neuendettelsau\, Bayern\, 91564\, Deutschland
ATTACH;FMTTYPE=image/png:https://buergertreff-neuendettelsau.de/wp-content/uploads/2023/06/TSC-logo.png
END:VEVENT
BEGIN:VEVENT
DTSTART;TZID=Europe/Berlin:20260519T143000
DTEND;TZID=Europe/Berlin:20260519T170000
DTSTAMP:20260421T150007
CREATED:20251030T144314Z
LAST-MODIFIED:20251204T203653Z
UID:10004656-1779201000-1779210000@buergertreff-neuendettelsau.de
SUMMARY:Offenes Treffen mit Strickrunde
DESCRIPTION:Gelegenheit zum geselligen Miteinander\, zum Spiel\, zum persönlichen Gespräch und zur Kontaktaufnahme bei einer Tasse Kaffee oder Tee. Heute mit Teilnehmerinnen des Strickkreises „Stricken & Plaudern“. Kommen Sie einfach herein … Herzlich willkommen!
URL:https://buergertreff-neuendettelsau.de/veranstaltung/offenes-treffen-mit-strickrunde/2026-05-19/
LOCATION:Bayern
ATTACH;FMTTYPE=image/png:https://buergertreff-neuendettelsau.de/wp-content/uploads/2025/10/photo-collage.png.png
END:VEVENT
BEGIN:VEVENT
DTSTART;TZID=Europe/Berlin:20260519T193000
DTEND;TZID=Europe/Berlin:20260519T213000
DTSTAMP:20260421T150007
CREATED:20241112T084819Z
LAST-MODIFIED:20241112T084822Z
UID:10002705-1779219000-1779226200@buergertreff-neuendettelsau.de
SUMMARY:Monatstreffen Bund Naturschutz
DESCRIPTION:Ortsgruppe bespricht aktuelle Themen\, gelegentlich Vorträge
URL:https://buergertreff-neuendettelsau.de/veranstaltung/monatstreffen-bund-naturschutz/2026-05-19/
LOCATION:Bürgertreff Neuendettelsau\, Heilsbronner Str. 2\, Neuendettelsau\, Bayern\, 91564\, Deutschland
ATTACH;FMTTYPE=image/png:https://buergertreff-neuendettelsau.de/wp-content/uploads/2023/03/1200px-Bund_Naturschutz_in_Bayern_e.V._Logo.svg_.png
END:VEVENT
BEGIN:VEVENT
DTSTART;TZID=Europe/Berlin:20260520T180000
DTEND;TZID=Europe/Berlin:20260520T200000
DTSTAMP:20260421T150007
CREATED:20250124T154234Z
LAST-MODIFIED:20250928T193214Z
UID:10003791-1779300000-1779307200@buergertreff-neuendettelsau.de
SUMMARY:Fit mit Smartphone und Tablet
DESCRIPTION:Frustriert vom Handy? Probleme mit der Bedienung oder allgemeine Fragen rund um Handy und Tablet?Gemeinsam die Welt der Technologie entdecken.
URL:https://buergertreff-neuendettelsau.de/veranstaltung/fit-mit-smartphone-und-tablet/2026-05-20/
LOCATION:Bürgertreff Neuendettelsau\, Heilsbronner Str. 2\, Neuendettelsau\, Bayern\, 91564\, Deutschland
ATTACH;FMTTYPE=image/jpeg:https://buergertreff-neuendettelsau.de/wp-content/uploads/2023/04/network-g9fc40cdf8_1920.jpg
ORGANIZER;CN="Frank Neumann-Staude":MAILTO:frank@staude.net
END:VEVENT
BEGIN:VEVENT
DTSTART;TZID=Europe/Berlin:20260520T201500
DTEND;TZID=Europe/Berlin:20260520T220000
DTSTAMP:20260421T150007
CREATED:20251027T164350Z
LAST-MODIFIED:20251114T101819Z
UID:10003924-1779308100-1779314400@buergertreff-neuendettelsau.de
SUMMARY:SPD-Ortsverein
DESCRIPTION:Vorstandssitzung
URL:https://buergertreff-neuendettelsau.de/veranstaltung/spd-ortsverein-11/
LOCATION:Bürgertreff Neuendettelsau\, Heilsbronner Str. 2\, Neuendettelsau\, Bayern\, 91564\, Deutschland
ATTACH;FMTTYPE=image/png:https://buergertreff-neuendettelsau.de/wp-content/uploads/2023/07/SPD_Logo__Claim_BTW_2021.svg_.png
END:VEVENT
BEGIN:VEVENT
DTSTART;TZID=Europe/Berlin:20260521T143000
DTEND;TZID=Europe/Berlin:20260521T170000
DTSTAMP:20260421T150007
CREATED:20251204T204110Z
LAST-MODIFIED:20251204T204118Z
UID:10004788-1779373800-1779382800@buergertreff-neuendettelsau.de
SUMMARY:Offenes Treffen
DESCRIPTION:Für alle Menschen jedes Alters\, die Gemeinschaft suchen. Bei einem Getränke (Kaffee/Tee) treffen sie sich mit Gleichgesinnten zu einer entspannten Runde zur Unterhaltung oder zum Spiel. Bei schönem Wetter auch auf der Terrasse. Für Fragen jeder Art stehen Ansprechpartner*innen bereit. Kommen Sie einfach herein …
URL:https://buergertreff-neuendettelsau.de/veranstaltung/offenes-treffen-8/2026-05-21/
LOCATION:Bürgertreff Neuendettelsau\, Heilsbronner Str. 2\, Neuendettelsau\, Bayern\, 91564\, Deutschland
ATTACH;FMTTYPE=image/jpeg:https://buergertreff-neuendettelsau.de/wp-content/uploads/2023/08/Offener-Treff.jpg
END:VEVENT
BEGIN:VEVENT
DTSTART;TZID=Europe/Berlin:20260522T193000
DTEND;TZID=Europe/Berlin:20260522T220000
DTSTAMP:20260421T150007
CREATED:20260309T143533Z
LAST-MODIFIED:20260309T143535Z
UID:10003839-1779478200-1779487200@buergertreff-neuendettelsau.de
SUMMARY:Dorfkino im Bürgertreff - Astrid Lindgren - Die Menschheit hat den Verstand verloren ( FSK 12 )
DESCRIPTION:Einlass 19:30 Uhr\, Filmbeginn 20:00 Uhr \n\n\n\nFSK 12 \n\n\n\nAstrid Lindgren\, die vor allem durch ihre Kinderbücher wie „Pippi Langstrumpf“\, „Michel aus Lönneberga“ und „Ronja Räubertochter“ bekannt wurde\, prägte mit ihren Werken Generationen von Leser*innen. Astrid Lindgren – Die Menschheit hat den Verstand verloren nähert sich der Autorin auf neue Weise\, widmet sich ihren Tagebüchern\, die zwischen 1939-1945 entstanden sind und erzählt von der noch unbekannten Astrid Lindgren als Chronistin des Zweiten Weltkriegs. \n\n\n\nDie erst 2015 veröffentlichten und in mehr als 20 Sprachen übersetzen Kriegstagebücher von Astrid Lindgren lagen 70 Jahre lang in ihrem Schlafzimmer im Wäscheschrank verborgen. Sie sind eine einzigartige Dokumentation vom Schrecken der Diktatur und des Terrors aus der Sicht einer Mutter und frühen Feministin und appellieren leidenschaftlich an Mitmenschlichkeit\, Frieden und Gleichberechtigung. \n\n\n\n \n\n\n\n\n      Sie sehen gerade einen Platzhalterinhalt von YouTube. Um auf den eigentlichen Inhalt zuzugreifen\, klicken Sie auf die Schaltfläche unten. Bitte beachten Sie\, dass dabei Daten an Drittanbieter weitergegeben werden.  Mehr Informationen   Inhalt entsperren Erforderlichen Service akzeptieren und Inhalte entsperren
URL:https://buergertreff-neuendettelsau.de/veranstaltung/dorfkino-im-buergertreff-astrid-lindgren-die-menschheit-hat-den-verstand-verloren-fsk-12/
LOCATION:Bürgertreff Neuendettelsau\, Heilsbronner Str. 2\, Neuendettelsau\, Bayern\, 91564\, Deutschland
CATEGORIES:Dorfkino im Bürgertreff
ATTACH;FMTTYPE=image/webp:https://buergertreff-neuendettelsau.de/wp-content/uploads/2024/05/20260522-Astrid-Lindgren-Die-Menschheit-hat-den-Verstand-verloren-FSK-12-.webp
END:VEVENT
BEGIN:VEVENT
DTSTART;TZID=Europe/Berlin:20260523T090000
DTEND;TZID=Europe/Berlin:20260523T140000
DTSTAMP:20260421T150007
CREATED:20260202T140242Z
LAST-MODIFIED:20260420T202446Z
UID:10005315-1779526800-1779544800@buergertreff-neuendettelsau.de
SUMMARY:Faires Frühstück
DESCRIPTION:Die Steuerungsgruppe „Fair Trade“ lädt zum im Rahmen der „Internationalen Fairen Woche“ zum Fairen Frühstück ein. Herzlich willkommen!
URL:https://buergertreff-neuendettelsau.de/veranstaltung/faires-fruehstueck/
LOCATION:Bürgertreff Neuendettelsau\, Heilsbronner Str. 2\, Neuendettelsau\, Bayern\, 91564\, Deutschland
END:VEVENT
BEGIN:VEVENT
DTSTART;TZID=Europe/Berlin:20260523T092000
DTEND;TZID=Europe/Berlin:20260523T100000
DTSTAMP:20260421T150007
CREATED:20251222T180129Z
LAST-MODIFIED:20251222T180131Z
UID:10005053-1779528000-1779530400@buergertreff-neuendettelsau.de
SUMMARY:Lebensmittel retten
DESCRIPTION:Einkaufsmärkte sortieren Lebensmittel aus\, deren MHD (Mindesthaltbarkeitsdatum) erreicht ist. Häufig landen diese Lebensmittel dann in der Tonne. Dabei sind die Lebensmittel in aller Regel über das MHD hinaus genießbar. Um die Verschwendung wertvoller Lebensmittel zu verhindern\, holt Helmut Keuerleber diese aus dem Einkaufsmarkt in Bruckberg ab und bringt sie nach Neuendettelsau. Dort werden sie jeden Samstag von 9.20 bis 10 Uhr auf dem Parkplatz der Passage an alle „Lebensmittelretter“ kostenlos abgegeben. Siehe auch Gruppe „Lebensmittelrettung“ auf der Crossiety-App.
URL:https://buergertreff-neuendettelsau.de/veranstaltung/lebensmittel-retten-3/2026-05-23/
LOCATION:Bayern
ATTACH;FMTTYPE=image/jpeg:https://buergertreff-neuendettelsau.de/wp-content/uploads/2024/12/Lebensmittel-retten.jpg
END:VEVENT
BEGIN:VEVENT
DTSTART;TZID=Europe/Berlin:20260523T160000
DTEND;TZID=Europe/Berlin:20260523T180000
DTSTAMP:20260421T150007
CREATED:20251027T174200Z
LAST-MODIFIED:20251027T174331Z
UID:10004016-1779552000-1779559200@buergertreff-neuendettelsau.de
SUMMARY:Gesprächskreis Deutsch International
DESCRIPTION:Treffen interessierter Frauen und Männer zum kulturellen Austausch\, Verbesserung der deutschen Sprachkenntnisse und zur Integration – in entspannter Runde bei Kaffee und Kuchen
URL:https://buergertreff-neuendettelsau.de/veranstaltung/gespraechskreis-deutsch-international-2/2026-05-23/
LOCATION:Bürgertreff Neuendettelsau\, Heilsbronner Str. 2\, Neuendettelsau\, Bayern\, 91564\, Deutschland
ATTACH;FMTTYPE=image/jpeg:https://buergertreff-neuendettelsau.de/wp-content/uploads/2023/04/Cafeinternational-2.jpg
END:VEVENT
BEGIN:VEVENT
DTSTART;TZID=Europe/Berlin:20260525T183000
DTEND;TZID=Europe/Berlin:20260525T200000
DTSTAMP:20260421T150007
CREATED:20260309T062512Z
LAST-MODIFIED:20260309T062831Z
UID:10005368-1779733800-1779739200@buergertreff-neuendettelsau.de
SUMMARY:Internationaler Frauentreff
DESCRIPTION:Leitung Irene Riedel
URL:https://buergertreff-neuendettelsau.de/veranstaltung/internationaler-frauentreff/2026-05-25/
LOCATION:Bürgertreff Neuendettelsau\, Heilsbronner Str. 2\, Neuendettelsau\, Bayern\, 91564\, Deutschland
END:VEVENT
BEGIN:VEVENT
DTSTART;TZID=Europe/Berlin:20260526T143000
DTEND;TZID=Europe/Berlin:20260526T170000
DTSTAMP:20260421T150007
CREATED:20251030T143859Z
LAST-MODIFIED:20251204T203856Z
UID:10004715-1779805800-1779814800@buergertreff-neuendettelsau.de
SUMMARY:Offenes Treffen
DESCRIPTION:Gelegenheit zum geselligen Miteinander\, zum Spiel\, zum persönlichen Gespräch und zur Kontaktaufnahme bei einer Tasse Kaffee oder Tee. Kommen Sie einfach herein … Herzlich willkommen!
URL:https://buergertreff-neuendettelsau.de/veranstaltung/offenes-treffen-5/2026-05-26/
LOCATION:Bürgertreff Neuendettelsau\, Heilsbronner Str. 2\, Neuendettelsau\, Bayern\, 91564\, Deutschland
ATTACH;FMTTYPE=image/jpeg:https://buergertreff-neuendettelsau.de/wp-content/uploads/2023/08/Offener-Treff.jpg
END:VEVENT
BEGIN:VEVENT
DTSTART;TZID=Europe/Berlin:20260526T180000
DTEND;TZID=Europe/Berlin:20260526T200000
DTSTAMP:20260421T150007
CREATED:20251203T170805Z
LAST-MODIFIED:20251203T170825Z
UID:10004418-1779818400-1779825600@buergertreff-neuendettelsau.de
SUMMARY:Stricken & Plaudern
DESCRIPTION:Feste Maschen in lockerer Runde. Frauen (warum nicht auch Männer?) treffen sich zum Stricken und Handarbeiten. Sie fachsimbeln\, helfen sich gegenseitig und geben Anregungen. Das Gespräch über „Gott und die Welt“ kommt dabei nicht zu kurz. Herzliche willkommen!
URL:https://buergertreff-neuendettelsau.de/veranstaltung/stricken-plaudern-2/2026-05-26/
LOCATION:Bürgertreff Neuendettelsau\, Heilsbronner Str. 2\, Neuendettelsau\, Bayern\, 91564\, Deutschland
ATTACH;FMTTYPE=image/jpeg:https://buergertreff-neuendettelsau.de/wp-content/uploads/2023/02/IMG_4223.jpg
END:VEVENT
BEGIN:VEVENT
DTSTART;TZID=Europe/Berlin:20260527T190000
DTEND;TZID=Europe/Berlin:20260527T210000
DTSTAMP:20260421T150007
CREATED:20251105T201418Z
LAST-MODIFIED:20251105T201420Z
UID:10004289-1779908400-1779915600@buergertreff-neuendettelsau.de
SUMMARY:Treffen für Alleinstehende
DESCRIPTION:„Keine Lust mal wieder allein unterwegs zu sein\, lieber mit netten Leuten was unternehmen? Dann komm doch vorbei!“ Unter diesem Motto steht das neue Angebot\, das die stellvertretende Vorsitzende des Bündnis für Familie\, Petra Schweigert\, macht. Beim Treffen für Alleinstehende soll Zeit sein zum Kenennlernen und Austausch für Frauen und Männer zur gemeinsamen Freizeitgestaltung. Herzlich willkommen! Weitere Infos unter Telefon 0176 6388 69 55 (auch Whatsapp).
URL:https://buergertreff-neuendettelsau.de/veranstaltung/treffen-fuer-alleinstehende-6/
LOCATION:Bürgertreff Neuendettelsau\, Heilsbronner Str. 2\, Neuendettelsau\, Bayern\, 91564\, Deutschland
END:VEVENT
BEGIN:VEVENT
DTSTART;TZID=Europe/Berlin:20260528T143000
DTEND;TZID=Europe/Berlin:20260528T170000
DTSTAMP:20260421T150007
CREATED:20251204T204110Z
LAST-MODIFIED:20251204T204118Z
UID:10004789-1779978600-1779987600@buergertreff-neuendettelsau.de
SUMMARY:Offenes Treffen
DESCRIPTION:Für alle Menschen jedes Alters\, die Gemeinschaft suchen. Bei einem Getränke (Kaffee/Tee) treffen sie sich mit Gleichgesinnten zu einer entspannten Runde zur Unterhaltung oder zum Spiel. Bei schönem Wetter auch auf der Terrasse. Für Fragen jeder Art stehen Ansprechpartner*innen bereit. Kommen Sie einfach herein …
URL:https://buergertreff-neuendettelsau.de/veranstaltung/offenes-treffen-8/2026-05-28/
LOCATION:Bürgertreff Neuendettelsau\, Heilsbronner Str. 2\, Neuendettelsau\, Bayern\, 91564\, Deutschland
ATTACH;FMTTYPE=image/jpeg:https://buergertreff-neuendettelsau.de/wp-content/uploads/2023/08/Offener-Treff.jpg
END:VEVENT
BEGIN:VEVENT
DTSTART;TZID=Europe/Berlin:20260529T113000
DTEND;TZID=Europe/Berlin:20260529T140000
DTSTAMP:20260421T150007
CREATED:20250428T091723Z
LAST-MODIFIED:20250913T155537Z
UID:10003538-1780054200-1780063200@buergertreff-neuendettelsau.de
SUMMARY:Mittagstisch des Seniorenbeirats
DESCRIPTION:Unter dem Motto „Gemeinsam schmeckt’s besser“ bietet der Seniorenbeirat Mittagessen an. Reservierungen sind jeweils bis zum vorangehenden Montag (12 Uhr) per Anmeldeformular (im Bürgertreff und im Rathaus erhältlich) oder telefonisch unter 5103 (Kinkelin) möglich.
URL:https://buergertreff-neuendettelsau.de/veranstaltung/mittagstisch-des-seniorenbeirats-3/2026-05-29/
LOCATION:Bürgertreff Neuendettelsau\, Heilsbronner Str. 2\, Neuendettelsau\, Bayern\, 91564\, Deutschland
ATTACH;FMTTYPE=image/jpeg:https://buergertreff-neuendettelsau.de/wp-content/uploads/2023/09/mittagstisch.jpeg
END:VEVENT
BEGIN:VEVENT
DTSTART;TZID=Europe/Berlin:20260529T180000
DTEND;TZID=Europe/Berlin:20260529T200000
DTSTAMP:20260421T150007
CREATED:20260224T095321Z
LAST-MODIFIED:20260224T095323Z
UID:10005325-1780077600-1780084800@buergertreff-neuendettelsau.de
SUMMARY:Veranstaltung mit Kunstwerkstatt Wohnen
DESCRIPTION:
URL:https://buergertreff-neuendettelsau.de/veranstaltung/veranstaltung-mit-kunstwerkstatt-wohnen/
LOCATION:Bayern
END:VEVENT
BEGIN:VEVENT
DTSTART;TZID=Europe/Berlin:20260530T092000
DTEND;TZID=Europe/Berlin:20260530T100000
DTSTAMP:20260421T150007
CREATED:20251222T180129Z
LAST-MODIFIED:20251222T180131Z
UID:10005054-1780132800-1780135200@buergertreff-neuendettelsau.de
SUMMARY:Lebensmittel retten
DESCRIPTION:Einkaufsmärkte sortieren Lebensmittel aus\, deren MHD (Mindesthaltbarkeitsdatum) erreicht ist. Häufig landen diese Lebensmittel dann in der Tonne. Dabei sind die Lebensmittel in aller Regel über das MHD hinaus genießbar. Um die Verschwendung wertvoller Lebensmittel zu verhindern\, holt Helmut Keuerleber diese aus dem Einkaufsmarkt in Bruckberg ab und bringt sie nach Neuendettelsau. Dort werden sie jeden Samstag von 9.20 bis 10 Uhr auf dem Parkplatz der Passage an alle „Lebensmittelretter“ kostenlos abgegeben. Siehe auch Gruppe „Lebensmittelrettung“ auf der Crossiety-App.
URL:https://buergertreff-neuendettelsau.de/veranstaltung/lebensmittel-retten-3/2026-05-30/
LOCATION:Bayern
ATTACH;FMTTYPE=image/jpeg:https://buergertreff-neuendettelsau.de/wp-content/uploads/2024/12/Lebensmittel-retten.jpg
END:VEVENT
BEGIN:VEVENT
DTSTART;TZID=Europe/Berlin:20260530T160000
DTEND;TZID=Europe/Berlin:20260530T180000
DTSTAMP:20260421T150007
CREATED:20251027T174200Z
LAST-MODIFIED:20251027T174331Z
UID:10004017-1780156800-1780164000@buergertreff-neuendettelsau.de
SUMMARY:Gesprächskreis Deutsch International
DESCRIPTION:Treffen interessierter Frauen und Männer zum kulturellen Austausch\, Verbesserung der deutschen Sprachkenntnisse und zur Integration – in entspannter Runde bei Kaffee und Kuchen
URL:https://buergertreff-neuendettelsau.de/veranstaltung/gespraechskreis-deutsch-international-2/2026-05-30/
LOCATION:Bürgertreff Neuendettelsau\, Heilsbronner Str. 2\, Neuendettelsau\, Bayern\, 91564\, Deutschland
ATTACH;FMTTYPE=image/jpeg:https://buergertreff-neuendettelsau.de/wp-content/uploads/2023/04/Cafeinternational-2.jpg
END:VEVENT
BEGIN:VEVENT
DTSTART;TZID=Europe/Berlin:20260601T163000
DTEND;TZID=Europe/Berlin:20260601T183000
DTSTAMP:20260421T150007
CREATED:20251118T082008Z
LAST-MODIFIED:20251118T082010Z
UID:10004322-1780331400-1780338600@buergertreff-neuendettelsau.de
SUMMARY:Trauercafé
DESCRIPTION:Offener Gesprächskreis für Menschen in belastenden Lebenssituationen\, geleitet von Pfrin. Elfriede Raschzok und Team
URL:https://buergertreff-neuendettelsau.de/veranstaltung/trauercafe-2/2026-06-01/
LOCATION:Bürgertreff Neuendettelsau\, Heilsbronner Str. 2\, Neuendettelsau\, Bayern\, 91564\, Deutschland
ATTACH;FMTTYPE=image/jpeg:https://buergertreff-neuendettelsau.de/wp-content/uploads/2023/11/Unendlichkeitszeichen-Auto.jpg
END:VEVENT
BEGIN:VEVENT
DTSTART;TZID=Europe/Berlin:20260602T143000
DTEND;TZID=Europe/Berlin:20260602T170000
DTSTAMP:20260421T150007
CREATED:20251204T203005Z
LAST-MODIFIED:20251204T203010Z
UID:10004540-1780410600-1780419600@buergertreff-neuendettelsau.de
SUMMARY:Offenes Treffen mit Spiele-Nachmittag
DESCRIPTION:Das Bündnis für Familie lädt ein zum gemütlichen Beisammensein bei Kaffee/Tee und zur Möglichkeit zu einem Gesellschaftsspiel. Schaut einfach mal rein. Für Fragen\, Ideen\, Wünsche und Gespräche… Jeder ist willkommen.
URL:https://buergertreff-neuendettelsau.de/veranstaltung/offenes-treffen-mit-spiele-nachmittag-3/2026-06-02/
LOCATION:Bürgertreff Neuendettelsau\, Heilsbronner Str. 2\, Neuendettelsau\, Bayern\, 91564\, Deutschland
ATTACH;FMTTYPE=image/jpeg:https://buergertreff-neuendettelsau.de/wp-content/uploads/2023/06/gesellschaftsspiele-104_v-gseagaleriexl.jpg
END:VEVENT
BEGIN:VEVENT
DTSTART;TZID=Europe/Berlin:20260603T180000
DTEND;TZID=Europe/Berlin:20260603T200000
DTSTAMP:20260421T150007
CREATED:20241228T080842Z
LAST-MODIFIED:20250928T193323Z
UID:10003804-1780509600-1780516800@buergertreff-neuendettelsau.de
SUMMARY:Fit mit Smartphone und Tablet
DESCRIPTION:Frustriert vom Handy? Probleme mit der Bedienung oder allgemeine Fragen rund um Handy und Tablet?Gemeinsam die Welt der Technologie entdecken.
URL:https://buergertreff-neuendettelsau.de/veranstaltung/fit-mit-smartphone-und-tablet-3/2026-06-03/
LOCATION:Bürgertreff Neuendettelsau\, Heilsbronner Str. 2\, Neuendettelsau\, Bayern\, 91564\, Deutschland
ATTACH;FMTTYPE=image/jpeg:https://buergertreff-neuendettelsau.de/wp-content/uploads/2023/04/network-g9fc40cdf8_1920.jpg
ORGANIZER;CN="Frank Neumann-Staude":MAILTO:frank@staude.net
END:VEVENT
BEGIN:VEVENT
DTSTART;TZID=Europe/Berlin:20260604T143000
DTEND;TZID=Europe/Berlin:20260604T170000
DTSTAMP:20260421T150007
CREATED:20251204T204110Z
LAST-MODIFIED:20251204T204118Z
UID:10004790-1780583400-1780592400@buergertreff-neuendettelsau.de
SUMMARY:Offenes Treffen
DESCRIPTION:Für alle Menschen jedes Alters\, die Gemeinschaft suchen. Bei einem Getränke (Kaffee/Tee) treffen sie sich mit Gleichgesinnten zu einer entspannten Runde zur Unterhaltung oder zum Spiel. Bei schönem Wetter auch auf der Terrasse. Für Fragen jeder Art stehen Ansprechpartner*innen bereit. Kommen Sie einfach herein …
URL:https://buergertreff-neuendettelsau.de/veranstaltung/offenes-treffen-8/2026-06-04/
LOCATION:Bürgertreff Neuendettelsau\, Heilsbronner Str. 2\, Neuendettelsau\, Bayern\, 91564\, Deutschland
ATTACH;FMTTYPE=image/jpeg:https://buergertreff-neuendettelsau.de/wp-content/uploads/2023/08/Offener-Treff.jpg
END:VEVENT
BEGIN:VEVENT
DTSTART;TZID=Europe/Berlin:20260606T092000
DTEND;TZID=Europe/Berlin:20260606T100000
DTSTAMP:20260421T150007
CREATED:20251222T180129Z
LAST-MODIFIED:20251222T180131Z
UID:10005055-1780737600-1780740000@buergertreff-neuendettelsau.de
SUMMARY:Lebensmittel retten
DESCRIPTION:Einkaufsmärkte sortieren Lebensmittel aus\, deren MHD (Mindesthaltbarkeitsdatum) erreicht ist. Häufig landen diese Lebensmittel dann in der Tonne. Dabei sind die Lebensmittel in aller Regel über das MHD hinaus genießbar. Um die Verschwendung wertvoller Lebensmittel zu verhindern\, holt Helmut Keuerleber diese aus dem Einkaufsmarkt in Bruckberg ab und bringt sie nach Neuendettelsau. Dort werden sie jeden Samstag von 9.20 bis 10 Uhr auf dem Parkplatz der Passage an alle „Lebensmittelretter“ kostenlos abgegeben. Siehe auch Gruppe „Lebensmittelrettung“ auf der Crossiety-App.
URL:https://buergertreff-neuendettelsau.de/veranstaltung/lebensmittel-retten-3/2026-06-06/
LOCATION:Bayern
ATTACH;FMTTYPE=image/jpeg:https://buergertreff-neuendettelsau.de/wp-content/uploads/2024/12/Lebensmittel-retten.jpg
END:VEVENT
BEGIN:VEVENT
DTSTART;TZID=Europe/Berlin:20260606T150000
DTEND;TZID=Europe/Berlin:20260606T170000
DTSTAMP:20260421T150007
CREATED:20260314T160411Z
LAST-MODIFIED:20260314T160424Z
UID:10005434-1780758000-1780765200@buergertreff-neuendettelsau.de
SUMMARY:Kino K7 - Garfield - Eine Extra Portion Abenteuer ( FSK 0 )
DESCRIPTION:Einlass 14:30 Uhr\, Filmbeginn 15:00 Uhr \n\n\n\nFSK 0 \n\n\n\nGarfield\, der weltberühmten Montage hassenden und Lasagne liebenden Wohnungskatze\, steht ein wildes Abenteuer in der großen weiten Welt bevor. Nach einem unerwarteten Wiedersehen mit seinem lange verschollenen Vater – der struppigen Straßenkatze Vic – und dessen alter Freundin\, der Perserkatze Jinx\, sind Garfield und sein Hundefreund Odie gezwungen\, ihr perfektes Zuhause und verwöhntes Leben hinter sich zu lassen und Vic auf einem urkomischen Raubzug\, bei dem für sie so einiges auf dem Spiel steht\, zu begleiten. \n\n\n\n\n      Sie sehen gerade einen Platzhalterinhalt von YouTube. Um auf den eigentlichen Inhalt zuzugreifen\, klicken Sie auf die Schaltfläche unten. Bitte beachten Sie\, dass dabei Daten an Drittanbieter weitergegeben werden.  Mehr Informationen   Inhalt entsperren Erforderlichen Service akzeptieren und Inhalte entsperren
URL:https://buergertreff-neuendettelsau.de/veranstaltung/kino-k7-garfield-eine-extra-portion-abenteuer-fsk-0/
LOCATION:Turnhalle\, Heckenstraße 7\, Neuendettelsau\, Bayern\, 91564\, Deutschland
CATEGORIES:Dorfkino im Bürgertreff
ATTACH;FMTTYPE=image/jpeg:https://buergertreff-neuendettelsau.de/wp-content/uploads/2026/03/20260606-Garfield-Eine-Extra-Portion-Abenteuer-FSK-0-.jpg
END:VEVENT
END:VCALENDAR